BEGIN:VCALENDAR
VERSION:2.0
PRODID:-//Watonwan County Library - ECPv6.15.20//NONSGML v1.0//EN
CALSCALE:GREGORIAN
METHOD:PUBLISH
X-WR-CALNAME:Watonwan County Library
X-ORIGINAL-URL:https://www.watonwancountylibrary.com
X-WR-CALDESC:Events for Watonwan County Library
REFRESH-INTERVAL;VALUE=DURATION:PT1H
X-Robots-Tag:noindex
X-PUBLISHED-TTL:PT1H
BEGIN:VTIMEZONE
TZID:America/Chicago
BEGIN:DAYLIGHT
TZOFFSETFROM:-0600
TZOFFSETTO:-0500
TZNAME:CDT
DTSTART:20240310T080000
END:DAYLIGHT
BEGIN:STANDARD
TZOFFSETFROM:-0500
TZOFFSETTO:-0600
TZNAME:CST
DTSTART:20241103T070000
END:STANDARD
BEGIN:DAYLIGHT
TZOFFSETFROM:-0600
TZOFFSETTO:-0500
TZNAME:CDT
DTSTART:20250309T080000
END:DAYLIGHT
BEGIN:STANDARD
TZOFFSETFROM:-0500
TZOFFSETTO:-0600
TZNAME:CST
DTSTART:20251102T070000
END:STANDARD
BEGIN:DAYLIGHT
TZOFFSETFROM:-0600
TZOFFSETTO:-0500
TZNAME:CDT
DTSTART:20260308T080000
END:DAYLIGHT
BEGIN:STANDARD
TZOFFSETFROM:-0500
TZOFFSETTO:-0600
TZNAME:CST
DTSTART:20261101T070000
END:STANDARD
BEGIN:DAYLIGHT
TZOFFSETFROM:-0600
TZOFFSETTO:-0500
TZNAME:CDT
DTSTART:20270314T080000
END:DAYLIGHT
BEGIN:STANDARD
TZOFFSETFROM:-0500
TZOFFSETTO:-0600
TZNAME:CST
DTSTART:20271107T070000
END:STANDARD
END:VTIMEZONE
BEGIN:VEVENT
DTSTART;TZID=America/Chicago:20260110T120000
DTEND;TZID=America/Chicago:20260110T140000
DTSTAMP:20260423T204850
CREATED:20251222T174206Z
LAST-MODIFIED:20251222T174206Z
UID:4286-1768046400-1768053600@www.watonwancountylibrary.com
SUMMARY:Coffee and Conversation
DESCRIPTION:Come enjoy a cup of coffee and some conversation each Saturday.
URL:https://www.watonwancountylibrary.com/event/coffee-and-conversation-14/
LOCATION:Darfur Branch Library\, 200 Adrian Street\, Darfur\, MN\, 56022\, United States
CATEGORIES:Darfur Library
ATTACH;FMTTYPE=image/png:https://www.watonwancountylibrary.com/wp-content/uploads/coffee-and-conversation-event-cover.png
END:VEVENT
BEGIN:VEVENT
DTSTART;TZID=America/Chicago:20260110T100000
DTEND;TZID=America/Chicago:20260110T110000
DTSTAMP:20260423T204850
CREATED:20251222T184604Z
LAST-MODIFIED:20251222T184604Z
UID:4316-1768039200-1768042800@www.watonwancountylibrary.com
SUMMARY:Sensory Play Cafe
DESCRIPTION:For our littlest patrons\, ages 0-3\, and their caregivers.  Come explore all the different sensory stations!  Little ones will benefit from sensory play and maybe even meet some new friends. 
URL:https://www.watonwancountylibrary.com/event/sensory-play-cafe-13/
LOCATION:St. James Library\, 125 Fifth Street S\, St. James\, MN\, 56081\, United States
CATEGORIES:St. James Library
ATTACH;FMTTYPE=image/png:https://www.watonwancountylibrary.com/wp-content/uploads/2025-WA-Sensory-Play-event-cover.png
END:VEVENT
BEGIN:VEVENT
DTSTART;TZID=America/Chicago:20260109T173000
DTEND;TZID=America/Chicago:20260109T183000
DTSTAMP:20260423T204850
CREATED:20251222T183532Z
LAST-MODIFIED:20251222T184509Z
UID:4313-1767979800-1767983400@www.watonwancountylibrary.com
SUMMARY:DIY Aroma Stones for Adults
DESCRIPTION:Adults are invited to come and learn how to make your own aroma stones which are perfect for adding fresh scents to areas of your home or office.  Spots are limited.  Call to sign up 507-375-1278.  
URL:https://www.watonwancountylibrary.com/event/diy-aroma-stones-for-adults/
LOCATION:St. James Library\, 125 Fifth Street S\, St. James\, MN\, 56081\, United States
CATEGORIES:St. James Library
ATTACH;FMTTYPE=image/png:https://www.watonwancountylibrary.com/wp-content/uploads/Copy-of-0126-WA-DIY-Aroma-Stones.png
END:VEVENT
BEGIN:VEVENT
DTSTART;TZID=America/Chicago:20260108T173000
DTEND;TZID=America/Chicago:20260108T183000
DTSTAMP:20260423T204850
CREATED:20251222T182738Z
LAST-MODIFIED:20260116T230032Z
UID:4311-1767893400-1767897000@www.watonwancountylibrary.com
SUMMARY:Good Life\, Good Death-Conversation & Education
DESCRIPTION:Join Julia Uleberg Swanson\, End of Life Doula\, as she starts the conversation we all need to be having with our loved ones. Open to caregivers and perspective caregivers or anyone just interested in compassionate care.   \n*Please note there will be no meeting in February.
URL:https://www.watonwancountylibrary.com/event/good-life-good-death-conversation-education/
LOCATION:St. James Library\, 125 Fifth Street S\, St. James\, MN\, 56081\, United States
CATEGORIES:St. James Library
ATTACH;FMTTYPE=image/png:https://www.watonwancountylibrary.com/wp-content/uploads/WA-0925-1025-1125-1225-Good-Life-Good-Death-event-cover.png
END:VEVENT
BEGIN:VEVENT
DTSTART;TZID=America/Chicago:20260108T153000
DTEND;TZID=America/Chicago:20260108T170000
DTSTAMP:20260423T204850
CREATED:20251222T182550Z
LAST-MODIFIED:20251222T182550Z
UID:4309-1767886200-1767891600@www.watonwancountylibrary.com
SUMMARY:Lego Club-St. James
DESCRIPTION:Calling all brick builders!  Kids are invited to join us for Lego Club at the library!  Bring your creativity and we’ll supply the Legos.  \n 
URL:https://www.watonwancountylibrary.com/event/lego-club-st-james-11/
LOCATION:St. James Library\, 125 Fifth Street S\, St. James\, MN\, 56081\, United States
CATEGORIES:St. James Library
ATTACH;FMTTYPE=image/png:https://www.watonwancountylibrary.com/wp-content/uploads/Lego-Club-3.png
END:VEVENT
BEGIN:VEVENT
DTSTART;TZID=America/Chicago:20260106T173000
DTEND;TZID=America/Chicago:20260106T183000
DTSTAMP:20260423T204850
CREATED:20251222T182101Z
LAST-MODIFIED:20251222T182101Z
UID:4307-1767720600-1767724200@www.watonwancountylibrary.com
SUMMARY:Evening Storytime
DESCRIPTION:Kids and their caregivers are invited to the library for storytime!
URL:https://www.watonwancountylibrary.com/event/evening-storytime-24/
LOCATION:Madelia Branch Library\, 23 First Street NW\, Madelia\, MN\, 56062\, United States
CATEGORIES:Madelia Library
ATTACH;FMTTYPE=image/png:https://www.watonwancountylibrary.com/wp-content/uploads/evening-storytime.png
END:VEVENT
BEGIN:VEVENT
DTSTART;TZID=America/Chicago:20260106T100000
DTEND;TZID=America/Chicago:20260106T110000
DTSTAMP:20260423T204850
CREATED:20251222T181914Z
LAST-MODIFIED:20251222T181914Z
UID:4305-1767693600-1767697200@www.watonwancountylibrary.com
SUMMARY:Storytime/Play Cafe
DESCRIPTION:Caregivers are invited to bring the little ones to an interactive storytime followed by a special playtime.  Please join us!
URL:https://www.watonwancountylibrary.com/event/storytime-play-cafe-20/
LOCATION:St. James Library\, 125 Fifth Street S\, St. James\, MN\, 56081\, United States
CATEGORIES:St. James Library
ATTACH;FMTTYPE=image/png:https://www.watonwancountylibrary.com/wp-content/uploads/2025-WA-StorytimePlay-Cafe-event-cover.png
END:VEVENT
BEGIN:VEVENT
DTSTART;TZID=America/Chicago:20260105T160000
DTEND;TZID=America/Chicago:20260105T170000
DTSTAMP:20260423T204850
CREATED:20251222T181814Z
LAST-MODIFIED:20251222T181814Z
UID:4302-1767628800-1767632400@www.watonwancountylibrary.com
SUMMARY:7th Annual Soup-Off
DESCRIPTION:To help kick off the winter reading program\, the library is hosting a soup pot-luck.  Bring your favorite soup\, along with the recipe to share with others. Taste test all the other soups and take the recipes home!
URL:https://www.watonwancountylibrary.com/event/7th-annual-soup-off/
LOCATION:Butterfield Branch Library\, 111 N. Second Street\, Butterfield\, MN\, 56120\, United States
CATEGORIES:Butterfield Library
ATTACH;FMTTYPE=image/png:https://www.watonwancountylibrary.com/wp-content/uploads/7th-Annual-soup-off-event-cover.png
END:VEVENT
BEGIN:VEVENT
DTSTART;TZID=America/Chicago:20260105T140000
DTEND;TZID=America/Chicago:20260105T160000
DTSTAMP:20260423T204850
CREATED:20251222T175242Z
LAST-MODIFIED:20251222T175242Z
UID:4297-1767621600-1767628800@www.watonwancountylibrary.com
SUMMARY:Movie Matinee
DESCRIPTION:We will be showing the movie “Little Women”.  Popcorn will be served!
URL:https://www.watonwancountylibrary.com/event/movie-matinee-4/
LOCATION:Madelia Branch Library\, 23 First Street NW\, Madelia\, MN\, 56062\, United States
CATEGORIES:Madelia Library
ATTACH;FMTTYPE=image/png:https://www.watonwancountylibrary.com/wp-content/uploads/Movie-Matinee-Event-Cover.png
END:VEVENT
BEGIN:VEVENT
DTSTART;TZID=America/Chicago:20260105T100000
DTEND;TZID=America/Chicago:20260228T140000
DTSTAMP:20260423T204850
CREATED:20251222T174557Z
LAST-MODIFIED:20251222T174557Z
UID:4294-1767607200-1772287200@www.watonwancountylibrary.com
SUMMARY:Winter Reading Program
DESCRIPTION:All ages\, Kindergarten through age 100+\, reading program.  Just stop into your hometown library\, pick up a reading log\, and return it when it is full! Check at your library to see what prizes there are!
URL:https://www.watonwancountylibrary.com/event/winter-reading-program-4/
CATEGORIES:Butterfield Library,Darfur Library,Lewisville Library,Madelia Library,St. James Library
ATTACH;FMTTYPE=image/png:https://www.watonwancountylibrary.com/wp-content/uploads/2026-Winter-Reading-event-cover.png
END:VEVENT
BEGIN:VEVENT
DTSTART;TZID=America/Chicago:20260103T120000
DTEND;TZID=America/Chicago:20260103T140000
DTSTAMP:20260423T204850
CREATED:20251222T174142Z
LAST-MODIFIED:20251222T174142Z
UID:4284-1767441600-1767448800@www.watonwancountylibrary.com
SUMMARY:Coffee and Conversation
DESCRIPTION:Come enjoy a cup of coffee and some conversation each Saturday.
URL:https://www.watonwancountylibrary.com/event/coffee-and-conversation-13/
LOCATION:Darfur Branch Library\, 200 Adrian Street\, Darfur\, MN\, 56022\, United States
CATEGORIES:Darfur Library
ATTACH;FMTTYPE=image/png:https://www.watonwancountylibrary.com/wp-content/uploads/coffee-and-conversation-event-cover.png
END:VEVENT
BEGIN:VEVENT
DTSTART;TZID=America/Chicago:20260103T100000
DTEND;TZID=America/Chicago:20260103T110000
DTSTAMP:20260423T204850
CREATED:20251222T173935Z
LAST-MODIFIED:20251222T173935Z
UID:4280-1767434400-1767438000@www.watonwancountylibrary.com
SUMMARY:Cribbage
DESCRIPTION:Whether you are a pro or just learning\, you will have fun playing cribbage at the library! We will also have refreshments. Open to all ages\, but we ask that kids bring an adult. 
URL:https://www.watonwancountylibrary.com/event/cribbage-23/
LOCATION:St. James Library\, 125 Fifth Street S\, St. James\, MN\, 56081\, United States
CATEGORIES:St. James Library
ATTACH;FMTTYPE=image/jpeg:https://www.watonwancountylibrary.com/wp-content/uploads/H2P_cribbage.jpg
END:VEVENT
BEGIN:VEVENT
DTSTART;VALUE=DATE:20260101
DTEND;VALUE=DATE:20260102
DTSTAMP:20260423T204850
CREATED:20251222T173756Z
LAST-MODIFIED:20251222T173756Z
UID:4277-1767225600-1767311999@www.watonwancountylibrary.com
SUMMARY:ALL LIBRARIES CLOSED FOR NEW YEARS
DESCRIPTION:HAPPY NEW YEAR!
URL:https://www.watonwancountylibrary.com/event/all-libraries-closed-for-new-years/
CATEGORIES:Butterfield Library,Darfur Library,Lewisville Library,Madelia Library,St. James Library
ATTACH;FMTTYPE=image/png:https://www.watonwancountylibrary.com/wp-content/uploads/Copy-of-2024-New-Year-Closure.png
END:VEVENT
BEGIN:VEVENT
DTSTART;TZID=America/Chicago:20251227T120000
DTEND;TZID=America/Chicago:20251227T140000
DTSTAMP:20260423T204850
CREATED:20251222T174116Z
LAST-MODIFIED:20251222T174116Z
UID:4282-1766836800-1766844000@www.watonwancountylibrary.com
SUMMARY:Coffee and Conversation
DESCRIPTION:Come enjoy a cup of coffee and some conversation each Saturday.
URL:https://www.watonwancountylibrary.com/event/coffee-and-conversation-12/
LOCATION:Darfur Branch Library\, 200 Adrian Street\, Darfur\, MN\, 56022\, United States
CATEGORIES:Darfur Library
ATTACH;FMTTYPE=image/png:https://www.watonwancountylibrary.com/wp-content/uploads/coffee-and-conversation-event-cover.png
END:VEVENT
BEGIN:VEVENT
DTSTART;VALUE=DATE:20251224
DTEND;VALUE=DATE:20251225
DTSTAMP:20260423T204850
CREATED:20251222T175403Z
LAST-MODIFIED:20251222T175416Z
UID:4299-1766534400-1766620799@www.watonwancountylibrary.com
SUMMARY:Christmas Eve Hours
DESCRIPTION:December 24 \nSt. James – 10-12 \nMadelia – 10:30-12 \nButterfield – CLOSED \nDarfur – CLOSED \nLewisville – CLOSED
URL:https://www.watonwancountylibrary.com/event/christmas-eve-hours/
CATEGORIES:Butterfield Library,Darfur Library,Lewisville Library,Madelia Library,St. James Library
ATTACH;FMTTYPE=image/png:https://www.watonwancountylibrary.com/wp-content/uploads/cozy-christmas-event-cover-1.png
END:VEVENT
BEGIN:VEVENT
DTSTART;TZID=America/Chicago:20251211T143000
DTEND;TZID=America/Chicago:20251211T180000
DTSTAMP:20260423T204850
CREATED:20251202T225416Z
LAST-MODIFIED:20251202T225416Z
UID:4274-1765463400-1765476000@www.watonwancountylibrary.com
SUMMARY:Christmas Card Making for Kids
DESCRIPTION:Kids can come anytime while the library is open to make a special holiday card for someone special!
URL:https://www.watonwancountylibrary.com/event/christmas-card-making-for-kids/
CATEGORIES:Darfur Library
ATTACH;FMTTYPE=image/png:https://www.watonwancountylibrary.com/wp-content/uploads/Copy-of-1225-WD-Christmas-Card-Making-for-Kids.png
END:VEVENT
BEGIN:VEVENT
DTSTART;TZID=America/Chicago:20251211T100000
DTEND;TZID=America/Chicago:20251211T110000
DTSTAMP:20260423T204850
CREATED:20251202T225000Z
LAST-MODIFIED:20251202T225000Z
UID:4272-1765447200-1765450800@www.watonwancountylibrary.com
SUMMARY:Good Life\, Good Death
DESCRIPTION:Join Julia Uleberg Swanson\, End of Life Doula\, as she starts the conversation we all need to be having with our loved ones. There will be a different topic each month.  In December\, we will continue talking about Advanced Health Care Directives. 
URL:https://www.watonwancountylibrary.com/event/good-life-good-death-2/
LOCATION:St. James Library\, 125 Fifth Street S\, St. James\, MN\, 56081\, United States
CATEGORIES:St. James Library
ATTACH;FMTTYPE=image/png:https://www.watonwancountylibrary.com/wp-content/uploads/WA-0925-1025-1125-1225-Good-Life-Good-Death-event-cover.png
END:VEVENT
BEGIN:VEVENT
DTSTART;TZID=America/Chicago:20251210T153000
DTEND;TZID=America/Chicago:20251210T163000
DTSTAMP:20260423T204850
CREATED:20251202T224656Z
LAST-MODIFIED:20251202T224656Z
UID:4269-1765380600-1765384200@www.watonwancountylibrary.com
SUMMARY:Snowflake Creator
DESCRIPTION:Kids in grades 3rd-6th are invited to come to the library to learn about SNOWFLAKES!  Kids will get to use our ipads to design a 2D snowflake and then make a 3D snowflake with marshmallows.  
URL:https://www.watonwancountylibrary.com/event/snowflake-creator/
LOCATION:St. James Library\, 125 Fifth Street S\, St. James\, MN\, 56081\, United States
CATEGORIES:St. James Library
ATTACH;FMTTYPE=image/png:https://www.watonwancountylibrary.com/wp-content/uploads/snow-much-craft-event-cover.png
END:VEVENT
BEGIN:VEVENT
DTSTART;TZID=America/Chicago:20251209T153000
DTEND;TZID=America/Chicago:20251209T163000
DTSTAMP:20260423T204850
CREATED:20251202T224125Z
LAST-MODIFIED:20251202T224125Z
UID:4267-1765294200-1765297800@www.watonwancountylibrary.com
SUMMARY:Graphic Novel Book Club
DESCRIPTION:For kids in grades 3-6!  Read a graphic novel with the theme of the month or come and get book ideas. During the book club we will discuss graphic novels and do some fun activities related to the theme. The theme in December is FAVORITE COLOR!
URL:https://www.watonwancountylibrary.com/event/graphic-novel-book-club-3/
LOCATION:Butterfield Branch Library\, 111 N. Second Street\, Butterfield\, MN\, 56120\, United States
CATEGORIES:Butterfield Library
ATTACH;FMTTYPE=image/png:https://www.watonwancountylibrary.com/wp-content/uploads/Graphic-Novel-Club-event-cover-2.png
END:VEVENT
BEGIN:VEVENT
DTSTART;TZID=America/Chicago:20251208T183000
DTEND;TZID=America/Chicago:20251208T193000
DTSTAMP:20260423T204850
CREATED:20251202T223959Z
LAST-MODIFIED:20251202T223959Z
UID:4265-1765218600-1765222200@www.watonwancountylibrary.com
SUMMARY:Novels by Night Book Club
DESCRIPTION:We will be discussing the book “Winter Street” by Elin Hilderbrand. Contact the library for a copy. Please contact Shirley at 375-1278 if interested in joining virtually.
URL:https://www.watonwancountylibrary.com/event/novels-by-night-book-club-30/
LOCATION:St. James Library\, 125 Fifth Street S\, St. James\, MN\, 56081\, United States
CATEGORIES:St. James Library
ATTACH;FMTTYPE=image/png:https://www.watonwancountylibrary.com/wp-content/uploads/Novels-by-Night.png
END:VEVENT
BEGIN:VEVENT
DTSTART;TZID=America/Chicago:20251208T173000
DTEND;TZID=America/Chicago:20251208T183000
DTSTAMP:20260423T204850
CREATED:20251202T223901Z
LAST-MODIFIED:20251202T223901Z
UID:4263-1765215000-1765218600@www.watonwancountylibrary.com
SUMMARY:Evening Storytime
DESCRIPTION:Kids and their caregivers are invited to the library for storytime!
URL:https://www.watonwancountylibrary.com/event/evening-storytime-23/
LOCATION:Butterfield Branch Library\, 111 N. Second Street\, Butterfield\, MN\, 56120\, United States
CATEGORIES:Butterfield Library
ATTACH;FMTTYPE=image/png:https://www.watonwancountylibrary.com/wp-content/uploads/evening-storytime.png
END:VEVENT
BEGIN:VEVENT
DTSTART;TZID=America/Chicago:20251208T170000
DTEND;TZID=America/Chicago:20251208T180000
DTSTAMP:20260423T204850
CREATED:20251202T223800Z
LAST-MODIFIED:20251202T223800Z
UID:4261-1765213200-1765216800@www.watonwancountylibrary.com
SUMMARY:Yoga
DESCRIPTION:Registered Yoga Teacher: Roxanne Romsdahl \nLearn basic hatha yoga poses and breathing patterns to develop a home yoga practice for all ages. The focus will be on poses\, stretches\, and breath work to strengthen the body\, improve flexibility and balance\, and reduce anxiety.
URL:https://www.watonwancountylibrary.com/event/yoga-18/
LOCATION:St. James Library\, 125 Fifth Street S\, St. James\, MN\, 56081\, United States
CATEGORIES:St. James Library
ATTACH;FMTTYPE=image/png:https://www.watonwancountylibrary.com/wp-content/uploads/yoga-event-cover.png
END:VEVENT
BEGIN:VEVENT
DTSTART;TZID=America/Chicago:20251206T100000
DTEND;TZID=America/Chicago:20251206T120000
DTSTAMP:20260423T204850
CREATED:20251202T223250Z
LAST-MODIFIED:20251202T223250Z
UID:4255-1765015200-1765022400@www.watonwancountylibrary.com
SUMMARY:Cribbage
DESCRIPTION:Whether you are a pro or just learning\, you will have fun playing cribbage at the library! We will also have refreshments. Open to all ages\, but we ask that kids bring an adult.
URL:https://www.watonwancountylibrary.com/event/cribbage-22/
LOCATION:St. James Library\, 125 Fifth Street S\, St. James\, MN\, 56081\, United States
CATEGORIES:St. James Library
ATTACH;FMTTYPE=image/jpeg:https://www.watonwancountylibrary.com/wp-content/uploads/H2P_cribbage.jpg
END:VEVENT
BEGIN:VEVENT
DTSTART;TZID=America/Chicago:20251206T100000
DTEND;TZID=America/Chicago:20251206T110000
DTSTAMP:20260423T204850
CREATED:20251202T223714Z
LAST-MODIFIED:20251202T223714Z
UID:4259-1765015200-1765018800@www.watonwancountylibrary.com
SUMMARY:Elf Academy
DESCRIPTION:Come to the library and join the ELF ACADEMY! There will be stations of crafts and fun activities that kids of all ages will enjoy. Open to kids of all ages with adult supervision. 
URL:https://www.watonwancountylibrary.com/event/elf-academy-2/
LOCATION:Lewisville Branch Library\, 129 Lewis Street W\, Lewisville\, MN\, 56060\, United States
CATEGORIES:Lewisville Library
ATTACH;FMTTYPE=image/png:https://www.watonwancountylibrary.com/wp-content/uploads/elf-academy-event-cover.png
END:VEVENT
BEGIN:VEVENT
DTSTART;TZID=America/Chicago:20251206T100000
DTEND;TZID=America/Chicago:20251206T110000
DTSTAMP:20260423T204850
CREATED:20251202T223642Z
LAST-MODIFIED:20251202T223642Z
UID:4257-1765015200-1765018800@www.watonwancountylibrary.com
SUMMARY:Elf Academy
DESCRIPTION:Come to the library and join the ELF ACADEMY! There will be stations of crafts and fun activities that kids of all ages will enjoy. Open to kids of all ages with adult supervision. 
URL:https://www.watonwancountylibrary.com/event/elf-academy/
LOCATION:Butterfield Branch Library\, 111 N. Second Street\, Butterfield\, MN\, 56120\, United States
CATEGORIES:Butterfield Library
ATTACH;FMTTYPE=image/png:https://www.watonwancountylibrary.com/wp-content/uploads/elf-academy-event-cover.png
END:VEVENT
BEGIN:VEVENT
DTSTART;TZID=America/Chicago:20251204T150000
DTEND;TZID=America/Chicago:20251204T150000
DTSTAMP:20260423T204850
CREATED:20251202T222622Z
LAST-MODIFIED:20251202T222908Z
UID:4085-1764860400-1764860400@www.watonwancountylibrary.com
SUMMARY:Adventure Club-St. James
DESCRIPTION:In collaboration with the MN Extension Office and Community Ed\, we will be holding Adventure Club at the high school in the home ec. room. Kids will get information from school and sign up using REVTRAK.
URL:https://www.watonwancountylibrary.com/event/adventure-club-st-james-12/
LOCATION:St. James Middle/High School
CATEGORIES:St. James Library
ATTACH;FMTTYPE=image/png:https://www.watonwancountylibrary.com/wp-content/uploads/adventure-club.png
END:VEVENT
BEGIN:VEVENT
DTSTART;TZID=America/Chicago:20251203T153000
DTEND;TZID=America/Chicago:20251203T163000
DTSTAMP:20260423T204850
CREATED:20251202T222451Z
LAST-MODIFIED:20251202T222451Z
UID:4248-1764775800-1764779400@www.watonwancountylibrary.com
SUMMARY:Graphic Novel Book Club
DESCRIPTION:For kids in grades 3-6!  Read a graphic novel with the theme of the month or come and get book ideas. During the book club we will discuss graphic novels and do some fun activities related to the theme. The theme in December is FAVORITE COLOR!
URL:https://www.watonwancountylibrary.com/event/graphic-novel-book-club-2/
LOCATION:St. James Library\, 125 Fifth Street S\, St. James\, MN\, 56081\, United States
CATEGORIES:St. James Library
ATTACH;FMTTYPE=image/png:https://www.watonwancountylibrary.com/wp-content/uploads/Graphic-Novel-Club-event-cover-2.png
END:VEVENT
BEGIN:VEVENT
DTSTART;TZID=America/Chicago:20251203T150000
DTEND;TZID=America/Chicago:20251203T163000
DTSTAMP:20260423T204850
CREATED:20251202T222057Z
LAST-MODIFIED:20251202T222057Z
UID:4245-1764774000-1764779400@www.watonwancountylibrary.com
SUMMARY:DIY Old St. Nick Decor
DESCRIPTION:Create a cute and whimsical Old St. Nick to hang up for the holiday season or to gift to a friend!  As always\, this is a FREE program and all supplies will be provided.  Spots are limited\, so please call 507-435-2781 or 507-375-1278 to sign up. 
URL:https://www.watonwancountylibrary.com/event/diy-old-st-nick-decor/
CATEGORIES:Lewisville Library
ATTACH;FMTTYPE=image/png:https://www.watonwancountylibrary.com/wp-content/uploads/Copy-of-1225-WL-Old-St.-Nick-DIY.png
END:VEVENT
BEGIN:VEVENT
DTSTART;TZID=America/Chicago:20251202T180000
DTEND;TZID=America/Chicago:20251202T190000
DTSTAMP:20260423T204850
CREATED:20251202T223201Z
LAST-MODIFIED:20251202T223201Z
UID:4252-1764698400-1764702000@www.watonwancountylibrary.com
SUMMARY:Gingerbread House Contest-TEEN EDITION
DESCRIPTION:Teens\, we have all the supplies for you to build the BEST gingerbread house!  They will then be put in the library for people to vote on their favorite.  Prizes for the top winners!!  To sign up\, call 507-375-1278.
URL:https://www.watonwancountylibrary.com/event/gingerbread-house-contest-teen-edition/
LOCATION:St. James Library\, 125 Fifth Street S\, St. James\, MN\, 56081\, United States
CATEGORIES:St. James Library
ATTACH;FMTTYPE=image/png:https://www.watonwancountylibrary.com/wp-content/uploads/Copy-of-1225-WA-TEEN-Gingerbread-House-contest.png
END:VEVENT
BEGIN:VEVENT
DTSTART;TZID=America/Chicago:20251202T173000
DTEND;TZID=America/Chicago:20251202T183000
DTSTAMP:20260423T204850
CREATED:20251202T221840Z
LAST-MODIFIED:20251202T221840Z
UID:4243-1764696600-1764700200@www.watonwancountylibrary.com
SUMMARY:Evening Storytime
DESCRIPTION:Kids and their caregivers are invited to the library for storytime!
URL:https://www.watonwancountylibrary.com/event/evening-storytime-22/
LOCATION:Madelia Branch Library\, 23 First Street NW\, Madelia\, MN\, 56062\, United States
CATEGORIES:Madelia Library
ATTACH;FMTTYPE=image/png:https://www.watonwancountylibrary.com/wp-content/uploads/evening-storytime.png
END:VEVENT
END:VCALENDAR