BEGIN:VCALENDAR
VERSION:2.0
PRODID:-//Watonwan County Library - ECPv6.15.20//NONSGML v1.0//EN
CALSCALE:GREGORIAN
METHOD:PUBLISH
X-ORIGINAL-URL:https://www.watonwancountylibrary.com
X-WR-CALDESC:Events for Watonwan County Library
REFRESH-INTERVAL;VALUE=DURATION:PT1H
X-Robots-Tag:noindex
X-PUBLISHED-TTL:PT1H
BEGIN:VTIMEZONE
TZID:America/Chicago
BEGIN:DAYLIGHT
TZOFFSETFROM:-0600
TZOFFSETTO:-0500
TZNAME:CDT
DTSTART:20230312T080000
END:DAYLIGHT
BEGIN:STANDARD
TZOFFSETFROM:-0500
TZOFFSETTO:-0600
TZNAME:CST
DTSTART:20231105T070000
END:STANDARD
BEGIN:DAYLIGHT
TZOFFSETFROM:-0600
TZOFFSETTO:-0500
TZNAME:CDT
DTSTART:20240310T080000
END:DAYLIGHT
BEGIN:STANDARD
TZOFFSETFROM:-0500
TZOFFSETTO:-0600
TZNAME:CST
DTSTART:20241103T070000
END:STANDARD
BEGIN:DAYLIGHT
TZOFFSETFROM:-0600
TZOFFSETTO:-0500
TZNAME:CDT
DTSTART:20250309T080000
END:DAYLIGHT
BEGIN:STANDARD
TZOFFSETFROM:-0500
TZOFFSETTO:-0600
TZNAME:CST
DTSTART:20251102T070000
END:STANDARD
BEGIN:DAYLIGHT
TZOFFSETFROM:-0600
TZOFFSETTO:-0500
TZNAME:CDT
DTSTART:20260308T080000
END:DAYLIGHT
BEGIN:STANDARD
TZOFFSETFROM:-0500
TZOFFSETTO:-0600
TZNAME:CST
DTSTART:20261101T070000
END:STANDARD
END:VTIMEZONE
BEGIN:VEVENT
DTSTART;TZID=America/Chicago:20250106T180000
DTEND;TZID=America/Chicago:20250106T200000
DTSTAMP:20260425T233710
CREATED:20241223T230641Z
LAST-MODIFIED:20241223T230641Z
UID:3332-1736186400-1736193600@www.watonwancountylibrary.com
SUMMARY:Winter Puzzle Challenge for Adults
DESCRIPTION:Adults are invited to sign up as a team of 4 to take on the puzzle challenge! The first team to complete the puzzle wins bragging rights! Call 507-375-1278 to sign up
URL:https://www.watonwancountylibrary.com/event/winter-puzzle-challenge-for-adults/
LOCATION:St. James Library\, 125 Fifth Street S\, St. James\, MN\, 56081\, United States
CATEGORIES:St. James Library
ATTACH;FMTTYPE=image/png:https://www.watonwancountylibrary.com/wp-content/uploads/Untitled-design-3.png
END:VEVENT
BEGIN:VEVENT
DTSTART;TZID=America/Chicago:20250106T160000
DTEND;TZID=America/Chicago:20250106T170000
DTSTAMP:20260425T233710
CREATED:20241223T230516Z
LAST-MODIFIED:20241223T230516Z
UID:3329-1736179200-1736182800@www.watonwancountylibrary.com
SUMMARY:6th Annual Soup-Off
DESCRIPTION:To help kick off the winter reading program\, the library is hosting a soup pot-luck.  Bring your favorite soup\, along with the recipe to share with others. Taste test all the other soups and take the recipes home!
URL:https://www.watonwancountylibrary.com/event/6th-annual-soup-off/
LOCATION:Butterfield Branch Library\, 111 N. Second Street\, Butterfield\, MN\, 56120\, United States
CATEGORIES:Butterfield Library
ATTACH;FMTTYPE=image/png:https://www.watonwancountylibrary.com/wp-content/uploads/Copy-of-winter-reading.png
END:VEVENT
BEGIN:VEVENT
DTSTART;TZID=America/Chicago:20250106T080000
DTEND;TZID=America/Chicago:20250228T170000
DTSTAMP:20260425T233710
CREATED:20241223T230151Z
LAST-MODIFIED:20241223T230151Z
UID:3324-1736150400-1740762000@www.watonwancountylibrary.com
SUMMARY:Winter Reading Program
DESCRIPTION:All ages\, Kindergarten through age 100+\, reading program.  Just stop into your hometown library\, pick up a reading log\, and return it when it is full! Check at your library to see what prizes there are!
URL:https://www.watonwancountylibrary.com/event/winter-reading-program-3/
LOCATION:MN
CATEGORIES:Butterfield Library,Darfur Library,Lewisville Library,Madelia Library,St. James Library
ATTACH;FMTTYPE=image/png:https://www.watonwancountylibrary.com/wp-content/uploads/winter-reading-e1734994662936.png
END:VEVENT
BEGIN:VEVENT
DTSTART;TZID=America/Chicago:20250104T100000
DTEND;TZID=America/Chicago:20250104T120000
DTSTAMP:20260425T233710
CREATED:20241223T230307Z
LAST-MODIFIED:20241223T230307Z
UID:3327-1735984800-1735992000@www.watonwancountylibrary.com
SUMMARY:Cribbage
DESCRIPTION:Whether you are a pro or just learning\, you will have fun playing cribbage at the library! We will also have refreshments.
URL:https://www.watonwancountylibrary.com/event/cribbage-16/
LOCATION:St. James Library\, 125 Fifth Street S\, St. James\, MN\, 56081\, United States
CATEGORIES:St. James Library
ATTACH;FMTTYPE=image/jpeg:https://www.watonwancountylibrary.com/wp-content/uploads/H2P_cribbage.jpg
END:VEVENT
BEGIN:VEVENT
DTSTART;VALUE=DATE:20250101
DTEND;VALUE=DATE:20250102
DTSTAMP:20260425T233710
CREATED:20241203T181130Z
LAST-MODIFIED:20241203T181130Z
UID:3322-1735689600-1735775999@www.watonwancountylibrary.com
SUMMARY:Holiday Hours
DESCRIPTION:ALL WATONWAN COUNTY LIBRARIES CLOSED FOR NEW YEAR’S
URL:https://www.watonwancountylibrary.com/event/holiday-hours-4/
LOCATION:MN
CATEGORIES:Butterfield Library,Darfur Library,Lewisville Library,Madelia Library,St. James Library
ATTACH;FMTTYPE=image/png:https://www.watonwancountylibrary.com/wp-content/uploads/holiday-hours-1.png
END:VEVENT
BEGIN:VEVENT
DTSTART;VALUE=DATE:20241231
DTEND;VALUE=DATE:20250101
DTSTAMP:20260425T233710
CREATED:20241203T180944Z
LAST-MODIFIED:20241203T180944Z
UID:3320-1735603200-1735689599@www.watonwancountylibrary.com
SUMMARY:Holiday Hours
DESCRIPTION:ALL WATONWAN COUNTY LIBRARIES CLOSE AT 5PM
URL:https://www.watonwancountylibrary.com/event/holiday-hours-3/
LOCATION:MN
CATEGORIES:Butterfield Library,Darfur Library,Madelia Library,St. James Library
ATTACH;FMTTYPE=image/png:https://www.watonwancountylibrary.com/wp-content/uploads/holiday-hours-1.png
END:VEVENT
BEGIN:VEVENT
DTSTART;VALUE=DATE:20241225
DTEND;VALUE=DATE:20241226
DTSTAMP:20260425T233710
CREATED:20241203T180725Z
LAST-MODIFIED:20241203T180824Z
UID:3317-1735084800-1735171199@www.watonwancountylibrary.com
SUMMARY:Holiday Hours
DESCRIPTION:  \nALL WATONWAN COUNTY LIBRARIES CLOSED FOR CHRISTMAS DAY
URL:https://www.watonwancountylibrary.com/event/holiday-hours-2/
LOCATION:MN
CATEGORIES:Butterfield Library,Darfur Library,Lewisville Library,Madelia Library,St. James Library
ATTACH;FMTTYPE=image/png:https://www.watonwancountylibrary.com/wp-content/uploads/holiday-hours-1.png
END:VEVENT
BEGIN:VEVENT
DTSTART;VALUE=DATE:20241224
DTEND;VALUE=DATE:20241225
DTSTAMP:20260425T233710
CREATED:20241203T180608Z
LAST-MODIFIED:20241203T180608Z
UID:3314-1734998400-1735084799@www.watonwancountylibrary.com
SUMMARY:Holiday Hours
DESCRIPTION: Butterfield\, Darfur and Lewisville Libraries CLOSED \n St. James and Madelia Libraries close at NOON
URL:https://www.watonwancountylibrary.com/event/holiday-hours/
LOCATION:MN
CATEGORIES:Butterfield Library,Darfur Library,Lewisville Library,Madelia Library,St. James Library
ATTACH;FMTTYPE=image/png:https://www.watonwancountylibrary.com/wp-content/uploads/holiday-hours-1.png
END:VEVENT
BEGIN:VEVENT
DTSTART;TZID=America/Chicago:20241221T100000
DTEND;TZID=America/Chicago:20241221T110000
DTSTAMP:20260425T233710
CREATED:20241203T174140Z
LAST-MODIFIED:20241203T174140Z
UID:3311-1734775200-1734778800@www.watonwancountylibrary.com
SUMMARY:DIY Book Ornaments and Embellishments
DESCRIPTION:Learn how to make beautiful ornaments and embellishments from the pages of an old book.   To sign up\, call 507-435-2781 or 507-375-1278.
URL:https://www.watonwancountylibrary.com/event/diy-book-ornaments-and-embellishments/
LOCATION:Lewisville Branch Library\, 129 Lewis Street W\, Lewisville\, MN\, 56060\, United States
CATEGORIES:Lewisville Library
ATTACH;FMTTYPE=image/png:https://www.watonwancountylibrary.com/wp-content/uploads/book-embellishments-event-cover.png
END:VEVENT
BEGIN:VEVENT
DTSTART;TZID=America/Chicago:20241220T190000
DTEND;TZID=America/Chicago:20241220T210000
DTSTAMP:20260425T233710
CREATED:20241203T173647Z
LAST-MODIFIED:20241203T173647Z
UID:3309-1734721200-1734728400@www.watonwancountylibrary.com
SUMMARY:Free Food Friday for Teens
DESCRIPTION:Teens ages 12 and up can come and hang out in the library after hours. Join us for food\, friends and fun! In December\, we will serve “build your own subs” and play “Reindeer Games”!
URL:https://www.watonwancountylibrary.com/event/free-food-friday-for-teens-15/
LOCATION:St. James Library\, 125 Fifth Street S\, St. James\, MN\, 56081\, United States
CATEGORIES:St. James Library
ATTACH;FMTTYPE=image/png:https://www.watonwancountylibrary.com/wp-content/uploads/free-food-Friday.png
END:VEVENT
BEGIN:VEVENT
DTSTART;TZID=America/Chicago:20241220T140000
DTEND;TZID=America/Chicago:20241220T160000
DTSTAMP:20260425T233710
CREATED:20241203T173514Z
LAST-MODIFIED:20241203T173514Z
UID:3307-1734703200-1734710400@www.watonwancountylibrary.com
SUMMARY:Friday Flicks
DESCRIPTION:Join us at the St. James Library for a showing of  “The Preacher’s Wife”. Coffee\, fresh hot popcorn and other “concessions” will be served.
URL:https://www.watonwancountylibrary.com/event/friday-flicks-20/
LOCATION:St. James Library\, 125 Fifth Street S\, St. James\, MN\, 56081\, United States
CATEGORIES:St. James Library
ATTACH;FMTTYPE=image/png:https://www.watonwancountylibrary.com/wp-content/uploads/WA-Friday-Flicks.png
END:VEVENT
BEGIN:VEVENT
DTSTART;TZID=America/Chicago:20241220T100000
DTEND;TZID=America/Chicago:20241220T120000
DTSTAMP:20260425T233710
CREATED:20241203T173232Z
LAST-MODIFIED:20241203T173232Z
UID:3305-1734688800-1734696000@www.watonwancountylibrary.com
SUMMARY:Memory Writing with Marion
DESCRIPTION:Join Marion Edgar Style as she guides you in recording your thoughts and memories. Refreshments will be served and journals will be provided.
URL:https://www.watonwancountylibrary.com/event/memory-writing-with-marion-20/
LOCATION:St. James Library\, 125 Fifth Street S\, St. James\, MN\, 56081\, United States
CATEGORIES:St. James Library
ATTACH;FMTTYPE=image/png:https://www.watonwancountylibrary.com/wp-content/uploads/WA-Memory-Writing-with-Marion.png
END:VEVENT
BEGIN:VEVENT
DTSTART;TZID=America/Chicago:20241218T160000
DTEND;TZID=America/Chicago:20241218T170000
DTSTAMP:20260425T233710
CREATED:20241203T172743Z
LAST-MODIFIED:20241203T172743Z
UID:3303-1734537600-1734541200@www.watonwancountylibrary.com
SUMMARY:Pantry Staples-Lewisville
DESCRIPTION:Melissa will show you how to make pantry staples such as chicken bouillon\, bisquick\, brownie mix and even hamburger helper.  These are items you can keep in mason jars in your pantry or even  give away as gifts! Everyone will leave with a jar of hamburger helper.  To sign up\, call 507-435-2781 or 507-375-1278.
URL:https://www.watonwancountylibrary.com/event/pantry-staples-lewisville/
LOCATION:Lewisville Branch Library\, 129 Lewis Street W\, Lewisville\, MN\, 56060\, United States
CATEGORIES:Lewisville Library
ATTACH;FMTTYPE=image/png:https://www.watonwancountylibrary.com/wp-content/uploads/Pantry-supplies-event-cover.png
END:VEVENT
BEGIN:VEVENT
DTSTART;TZID=America/Chicago:20241218T150000
DTEND;TZID=America/Chicago:20241218T160000
DTSTAMP:20260425T233710
CREATED:20241203T172601Z
LAST-MODIFIED:20241203T172601Z
UID:3301-1734534000-1734537600@www.watonwancountylibrary.com
SUMMARY:Reader's Choice Book Club
DESCRIPTION:This reader’s choice book club is open to all adults and all books. Maybe you will leave with your next great read!
URL:https://www.watonwancountylibrary.com/event/readers-choice-book-club-16/
LOCATION:Butterfield Branch Library\, 111 N. Second Street\, Butterfield\, MN\, 56120\, United States
CATEGORIES:Butterfield Library
ATTACH;FMTTYPE=image/png:https://www.watonwancountylibrary.com/wp-content/uploads/WB-Readers-Choice-Book-Club.png
END:VEVENT
BEGIN:VEVENT
DTSTART;TZID=America/Chicago:20241217T183000
DTEND;TZID=America/Chicago:20241217T190000
DTSTAMP:20260425T233710
CREATED:20241203T172244Z
LAST-MODIFIED:20241203T172244Z
UID:3298-1734460200-1734462000@www.watonwancountylibrary.com
SUMMARY:Ho Ho Ho Storytime
DESCRIPTION:Join us in Madelia for an interactive evening storytime.
URL:https://www.watonwancountylibrary.com/event/ho-ho-ho-storytime/
LOCATION:Madelia Branch Library\, 23 First Street NW\, Madelia\, MN\, 56062\, United States
CATEGORIES:Madelia Library
ATTACH;FMTTYPE=image/png:https://www.watonwancountylibrary.com/wp-content/uploads/ho-ho-ho-storytime-event-cover-1.png
END:VEVENT
BEGIN:VEVENT
DTSTART;TZID=America/Chicago:20241217T173000
DTEND;TZID=America/Chicago:20241217T183000
DTSTAMP:20260425T233710
CREATED:20241203T164333Z
LAST-MODIFIED:20241203T164333Z
UID:3296-1734456600-1734460200@www.watonwancountylibrary.com
SUMMARY:Library Board Meeting
DESCRIPTION:The library board meets monthly and is open to the public.
URL:https://www.watonwancountylibrary.com/event/library-board-meeting-2/
LOCATION:St. James Library\, 125 Fifth Street S\, St. James\, MN\, 56081\, United States
CATEGORIES:St. James Library
ATTACH;FMTTYPE=image/jpeg:https://www.watonwancountylibrary.com/wp-content/uploads/event-featured-board-meeting.jpg
END:VEVENT
BEGIN:VEVENT
DTSTART;TZID=America/Chicago:20241217T160000
DTEND;TZID=America/Chicago:20241217T170000
DTSTAMP:20260425T233710
CREATED:20241203T163735Z
LAST-MODIFIED:20241203T163735Z
UID:3293-1734451200-1734454800@www.watonwancountylibrary.com
SUMMARY:Lego Club
DESCRIPTION:Calling all brick builders!  Kids are invited to join us for Lego Club at the library!  Bring your creativity and we’ll supply the Legos.
URL:https://www.watonwancountylibrary.com/event/lego-club-6/
LOCATION:Butterfield Branch Library\, 111 N. Second Street\, Butterfield\, MN\, 56120\, United States
CATEGORIES:Butterfield Library
ATTACH;FMTTYPE=image/png:https://www.watonwancountylibrary.com/wp-content/uploads/Lego-Club.png
END:VEVENT
BEGIN:VEVENT
DTSTART;TZID=America/Chicago:20241216T180000
DTEND;TZID=America/Chicago:20241216T190000
DTSTAMP:20260425T233710
CREATED:20241203T163450Z
LAST-MODIFIED:20241203T163450Z
UID:3290-1734372000-1734375600@www.watonwancountylibrary.com
SUMMARY:No Bake Cookies
DESCRIPTION:Adults\, come and learn some new goodie recipes just in time for the holiday!  To sign up\, please call 507-642-3511. 
URL:https://www.watonwancountylibrary.com/event/no-bake-cookies/
LOCATION:Madelia Branch Library\, 23 First Street NW\, Madelia\, MN\, 56062\, United States
CATEGORIES:Madelia Library
ATTACH;FMTTYPE=image/png:https://www.watonwancountylibrary.com/wp-content/uploads/no-bake-cookies-event-cover.png
END:VEVENT
BEGIN:VEVENT
DTSTART;TZID=America/Chicago:20241216T160000
DTEND;TZID=America/Chicago:20241216T170000
DTSTAMP:20260425T233710
CREATED:20241203T162945Z
LAST-MODIFIED:20241203T162945Z
UID:3288-1734364800-1734368400@www.watonwancountylibrary.com
SUMMARY:Mug Cakes
DESCRIPTION:Who wants cake?!  Come to the library to make cake in a mug!  Open to school age kids.  Kids not school aged will need to bring an adult. Questions?  Call 507-956-2361
URL:https://www.watonwancountylibrary.com/event/mug-cakes-3/
LOCATION:Butterfield Branch Library\, 111 N. Second Street\, Butterfield\, MN\, 56120\, United States
CATEGORIES:Butterfield Library
ATTACH;FMTTYPE=image/png:https://www.watonwancountylibrary.com/wp-content/uploads/Mug-Cake-Event-Cover-1.png
END:VEVENT
BEGIN:VEVENT
DTSTART;TZID=America/Chicago:20241210T173000
DTEND;TZID=America/Chicago:20241210T183000
DTSTAMP:20260425T233710
CREATED:20241203T162102Z
LAST-MODIFIED:20241203T162102Z
UID:3285-1733851800-1733855400@www.watonwancountylibrary.com
SUMMARY:DIY Pantry Staples
DESCRIPTION:Melissa will show you how to make pantry staples such as chicken bouillon\, bisquick\, pancake mix and even hamburger helper.  These are items you can keep in mason jars in your pantry or even  give away as gifts! Everyone will leave with a jar of hamburger helper.  To sign up\, call 507-642-3511.
URL:https://www.watonwancountylibrary.com/event/diy-pantry-staples/
LOCATION:Madelia Branch Library\, 23 First Street NW\, Madelia\, MN\, 56062\, United States
CATEGORIES:Madelia Library
ATTACH;FMTTYPE=image/png:https://www.watonwancountylibrary.com/wp-content/uploads/Pantry-supplies-event-cover.png
END:VEVENT
BEGIN:VEVENT
DTSTART;TZID=America/Chicago:20241209T183000
DTEND;TZID=America/Chicago:20241209T193000
DTSTAMP:20260425T233710
CREATED:20241203T160516Z
LAST-MODIFIED:20241203T160516Z
UID:3283-1733769000-1733772600@www.watonwancountylibrary.com
SUMMARY:Novels by Night Book Club
DESCRIPTION:We will be discussing the book “The Mistletoe Mystery” by Nita Prose. Contact the library for a copy. Please contact Shirley at 375-1278 if interested in joining virtually.
URL:https://www.watonwancountylibrary.com/event/novels-by-night-book-club-20/
LOCATION:St. James Library\, 125 Fifth Street S\, St. James\, MN\, 56081\, United States
CATEGORIES:St. James Library
ATTACH;FMTTYPE=image/png:https://www.watonwancountylibrary.com/wp-content/uploads/Novels-by-Night.png
END:VEVENT
BEGIN:VEVENT
DTSTART;TZID=America/Chicago:20241209T170000
DTEND;TZID=America/Chicago:20241209T180000
DTSTAMP:20260425T233710
CREATED:20241203T160357Z
LAST-MODIFIED:20241203T160357Z
UID:3281-1733763600-1733767200@www.watonwancountylibrary.com
SUMMARY:Yoga
DESCRIPTION:Registered Yoga Instructor: Roxanne Romsdahl \nLearn basic hatha yoga poses and breathing patterns to develop a home yoga practice for all ages. The focus will be on poses\, stretches\, and breath work to strengthen the body\, improve flexibility and balance\, and reduce anxiety. 
URL:https://www.watonwancountylibrary.com/event/yoga-6/
LOCATION:St. James Library\, 125 Fifth Street S\, St. James\, MN\, 56081\, United States
CATEGORIES:St. James Library
ATTACH;FMTTYPE=image/png:https://www.watonwancountylibrary.com/wp-content/uploads/yoga-event-cover.png
END:VEVENT
BEGIN:VEVENT
DTSTART;TZID=America/Chicago:20241209T150000
DTEND;TZID=America/Chicago:20241209T170000
DTSTAMP:20260425T233710
CREATED:20241203T160301Z
LAST-MODIFIED:20241203T160301Z
UID:3279-1733756400-1733763600@www.watonwancountylibrary.com
SUMMARY:Adventure Club-Butterfield
DESCRIPTION:In collaboration with the MN Extension Office and Community Ed\, we will be holding Adventure Club at the school in the cafeteria. Kids will get information from school about how to sign up.
URL:https://www.watonwancountylibrary.com/event/adventure-club-butterfield-11/
LOCATION:Butterfield-Odin School
CATEGORIES:Butterfield Library
ATTACH;FMTTYPE=image/png:https://www.watonwancountylibrary.com/wp-content/uploads/adventure-club.png
END:VEVENT
BEGIN:VEVENT
DTSTART;TZID=America/Chicago:20241207T110000
DTEND;TZID=America/Chicago:20241207T133000
DTSTAMP:20260425T233710
CREATED:20241202T230648Z
LAST-MODIFIED:20241202T230648Z
UID:3272-1733569200-1733578200@www.watonwancountylibrary.com
SUMMARY:Elf Academy-Madelia
DESCRIPTION:Come to the library and join the ELF ACADEMY! There will be stations of crafts and fun activities that kids of all ages will enjoy. Open to kids of all ages with adult supervision.
URL:https://www.watonwancountylibrary.com/event/elf-academy-madelia/
LOCATION:Madelia Branch Library\, 23 First Street NW\, Madelia\, MN\, 56062\, United States
CATEGORIES:Madelia Library
ATTACH;FMTTYPE=image/png:https://www.watonwancountylibrary.com/wp-content/uploads/elf-academy-event-cover.png
END:VEVENT
BEGIN:VEVENT
DTSTART;TZID=America/Chicago:20241207T100000
DTEND;TZID=America/Chicago:20241207T120000
DTSTAMP:20260425T233710
CREATED:20241202T230326Z
LAST-MODIFIED:20241202T230326Z
UID:3270-1733565600-1733572800@www.watonwancountylibrary.com
SUMMARY:Cribbage
DESCRIPTION:Whether you are a pro or just learning\, you will have fun playing cribbage at the library! We will also have refreshments.
URL:https://www.watonwancountylibrary.com/event/cribbage-15/
LOCATION:St. James Library\, 125 Fifth Street S\, St. James\, MN\, 56081\, United States
CATEGORIES:St. James Library
ATTACH;FMTTYPE=image/png:https://www.watonwancountylibrary.com/wp-content/uploads/Untitled-design-1.png
END:VEVENT
BEGIN:VEVENT
DTSTART;TZID=America/Chicago:20241207T100000
DTEND;TZID=America/Chicago:20241207T110000
DTSTAMP:20260425T233710
CREATED:20241203T160118Z
LAST-MODIFIED:20241203T160118Z
UID:3277-1733565600-1733569200@www.watonwancountylibrary.com
SUMMARY:Elf Academy-Lewisville
DESCRIPTION:Come to the library and join the ELF ACADEMY! There will be stations of crafts and fun activities that kids of all ages will enjoy.  Open to kids of all ages with adult supervision. 
URL:https://www.watonwancountylibrary.com/event/elf-academy-lewisville-2/
LOCATION:Lewisville Branch Library\, 129 Lewis Street W\, Lewisville\, MN\, 56060\, United States
CATEGORIES:Lewisville Library
ATTACH;FMTTYPE=image/png:https://www.watonwancountylibrary.com/wp-content/uploads/elf-academy-event-cover.png
END:VEVENT
BEGIN:VEVENT
DTSTART;TZID=America/Chicago:20241207T100000
DTEND;TZID=America/Chicago:20241207T110000
DTSTAMP:20260425T233710
CREATED:20241202T231417Z
LAST-MODIFIED:20241202T231417Z
UID:3275-1733565600-1733569200@www.watonwancountylibrary.com
SUMMARY:Elf Academy-Lewisville
DESCRIPTION:Come to the library and join the ELF ACADEMY! There will be stations of crafts and fun activities that kids of all ages will enjoy.  Open to kids of all ages with adult supervision. 
URL:https://www.watonwancountylibrary.com/event/elf-academy-lewisville/
LOCATION:Lewisville Branch Library\, 129 Lewis Street W\, Lewisville\, MN\, 56060\, United States
CATEGORIES:Lewisville Library
ATTACH;FMTTYPE=image/png:https://www.watonwancountylibrary.com/wp-content/uploads/elf-academy-event-cover.png
END:VEVENT
BEGIN:VEVENT
DTSTART;TZID=America/Chicago:20241205T170000
DTEND;TZID=America/Chicago:20241205T190000
DTSTAMP:20260425T233710
CREATED:20241202T230152Z
LAST-MODIFIED:20241202T230152Z
UID:3268-1733418000-1733425200@www.watonwancountylibrary.com
SUMMARY:Knitting Club
DESCRIPTION:All levels of experience are welcome. Whether you want to learn or have a project to finish\, Tessa is here to help!
URL:https://www.watonwancountylibrary.com/event/knitting-club-5/
LOCATION:St. James Library\, 125 Fifth Street S\, St. James\, MN\, 56081\, United States
CATEGORIES:St. James Library
ATTACH;FMTTYPE=image/png:https://www.watonwancountylibrary.com/wp-content/uploads/Knitting-with-Tessa.png
END:VEVENT
BEGIN:VEVENT
DTSTART;TZID=America/Chicago:20241205T150000
DTEND;TZID=America/Chicago:20241205T160000
DTSTAMP:20260425T233710
CREATED:20241202T230028Z
LAST-MODIFIED:20241202T230028Z
UID:3264-1733410800-1733414400@www.watonwancountylibrary.com
SUMMARY:Winter Tree Craft
DESCRIPTION:Create a wooden winter tree craft that will be perfect to add to your winter decor!  Free\, with all supplies provided!  To sign up\, call 507-877-5010 or 507-375-1278.
URL:https://www.watonwancountylibrary.com/event/winter-tree-craft/
LOCATION:Darfur Branch Library\, 200 Adrian Street\, Darfur\, MN\, 56022\, United States
CATEGORIES:Darfur Library
ATTACH;FMTTYPE=image/png:https://www.watonwancountylibrary.com/wp-content/uploads/Untitled-Facebook-Cover.png
END:VEVENT
BEGIN:VEVENT
DTSTART;TZID=America/Chicago:20241203T100000
DTEND;TZID=America/Chicago:20241203T110000
DTSTAMP:20260425T233710
CREATED:20241202T224935Z
LAST-MODIFIED:20241202T224935Z
UID:3262-1733220000-1733223600@www.watonwancountylibrary.com
SUMMARY:Storytime and Play Cafe
DESCRIPTION:Caregivers are invited to bring the little ones to an interactive storytime followed by a special playtime.  Please join us!
URL:https://www.watonwancountylibrary.com/event/storytime-and-play-cafe-5/
LOCATION:St. James Library\, 125 Fifth Street S\, St. James\, MN\, 56081\, United States
CATEGORIES:St. James Library
ATTACH;FMTTYPE=image/png:https://www.watonwancountylibrary.com/wp-content/uploads/storytimeplay.png
END:VEVENT
END:VCALENDAR