BEGIN:VCALENDAR
VERSION:2.0
PRODID:-//Watonwan County Library - ECPv6.15.20//NONSGML v1.0//EN
CALSCALE:GREGORIAN
METHOD:PUBLISH
X-ORIGINAL-URL:https://www.watonwancountylibrary.com
X-WR-CALDESC:Events for Watonwan County Library
REFRESH-INTERVAL;VALUE=DURATION:PT1H
X-Robots-Tag:noindex
X-PUBLISHED-TTL:PT1H
BEGIN:VTIMEZONE
TZID:America/Chicago
BEGIN:DAYLIGHT
TZOFFSETFROM:-0600
TZOFFSETTO:-0500
TZNAME:CDT
DTSTART:20240310T080000
END:DAYLIGHT
BEGIN:STANDARD
TZOFFSETFROM:-0500
TZOFFSETTO:-0600
TZNAME:CST
DTSTART:20241103T070000
END:STANDARD
BEGIN:DAYLIGHT
TZOFFSETFROM:-0600
TZOFFSETTO:-0500
TZNAME:CDT
DTSTART:20250309T080000
END:DAYLIGHT
BEGIN:STANDARD
TZOFFSETFROM:-0500
TZOFFSETTO:-0600
TZNAME:CST
DTSTART:20251102T070000
END:STANDARD
BEGIN:DAYLIGHT
TZOFFSETFROM:-0600
TZOFFSETTO:-0500
TZNAME:CDT
DTSTART:20260308T080000
END:DAYLIGHT
BEGIN:STANDARD
TZOFFSETFROM:-0500
TZOFFSETTO:-0600
TZNAME:CST
DTSTART:20261101T070000
END:STANDARD
END:VTIMEZONE
BEGIN:VEVENT
DTSTART;TZID=America/Chicago:20250211T173000
DTEND;TZID=America/Chicago:20250211T183000
DTSTAMP:20260425T175815
CREATED:20250131T200922Z
LAST-MODIFIED:20250131T200922Z
UID:3451-1739295000-1739298600@www.watonwancountylibrary.com
SUMMARY:How to Make Your Home More Earth Friendly
DESCRIPTION:Melissa will share ways to make your home more earth and environmentally friendly.  She will share tips\, tricks and product recommendations with you.  Everyone who attends will get their name added to a drawing to take a product home\, courtesy of Melissa.
URL:https://www.watonwancountylibrary.com/event/how-to-make-your-home-more-earth-friendly/
LOCATION:Madelia Branch Library\, 23 First Street NW\, Madelia\, MN\, 56062\, United States
CATEGORIES:Madelia Library
ATTACH;FMTTYPE=image/png:https://www.watonwancountylibrary.com/wp-content/uploads/EARTH-FRIENDLY-HOME-EVENT-COVER.png
END:VEVENT
BEGIN:VEVENT
DTSTART;TZID=America/Chicago:20250211T160000
DTEND;TZID=America/Chicago:20250211T170000
DTSTAMP:20260425T175815
CREATED:20250131T200746Z
LAST-MODIFIED:20250131T200746Z
UID:3449-1739289600-1739293200@www.watonwancountylibrary.com
SUMMARY:Lego Club-Butterfield
DESCRIPTION:Calling all brick builders!  Kids are invited to join us for Lego Club at the library!  Bring your creativity and we’ll supply the Legos. 
URL:https://www.watonwancountylibrary.com/event/lego-club-butterfield-6/
LOCATION:Butterfield Branch Library\, 111 N. Second Street\, Butterfield\, MN\, 56120\, United States
CATEGORIES:Butterfield Library
ATTACH;FMTTYPE=image/png:https://www.watonwancountylibrary.com/wp-content/uploads/Lego-Club-3.png
END:VEVENT
BEGIN:VEVENT
DTSTART;TZID=America/Chicago:20250210T183000
DTEND;TZID=America/Chicago:20250210T193000
DTSTAMP:20260425T175815
CREATED:20250131T200418Z
LAST-MODIFIED:20250131T200418Z
UID:3447-1739212200-1739215800@www.watonwancountylibrary.com
SUMMARY:Novels by Night Book Club
DESCRIPTION:We will be discussing the book “Only the Beautiful” by Susan Meissner. Contact the library for a copy. Please contact Shirley at 375-1278 if interested in joining virtually.
URL:https://www.watonwancountylibrary.com/event/novels-by-night-book-club-22/
LOCATION:St. James Library\, 125 Fifth Street S\, St. James\, MN\, 56081\, United States
CATEGORIES:St. James Library
ATTACH;FMTTYPE=image/png:https://www.watonwancountylibrary.com/wp-content/uploads/Novels-by-Night.png
END:VEVENT
BEGIN:VEVENT
DTSTART;TZID=America/Chicago:20250210T170000
DTEND;TZID=America/Chicago:20250210T180000
DTSTAMP:20260425T175815
CREATED:20250131T200242Z
LAST-MODIFIED:20250131T200242Z
UID:3445-1739206800-1739210400@www.watonwancountylibrary.com
SUMMARY:Yoga
DESCRIPTION:Registered Yoga Instructor: Roxanne Romsdahl \nLearn basic hatha yoga poses and breathing patterns to develop a home yoga practice for all ages. The focus will be on poses\, stretches\, and breath work to strengthen the body\, improve flexibility and balance\, and reduce anxiety.
URL:https://www.watonwancountylibrary.com/event/yoga-8/
LOCATION:St. James Library\, 125 Fifth Street S\, St. James\, MN\, 56081\, United States
CATEGORIES:St. James Library
ATTACH;FMTTYPE=image/png:https://www.watonwancountylibrary.com/wp-content/uploads/yoga-event-cover.png
END:VEVENT
BEGIN:VEVENT
DTSTART;TZID=America/Chicago:20250210T160000
DTEND;TZID=America/Chicago:20250210T170000
DTSTAMP:20260425T175815
CREATED:20250131T192654Z
LAST-MODIFIED:20250131T192654Z
UID:3443-1739203200-1739206800@www.watonwancountylibrary.com
SUMMARY:Valentine Craft Party-Lewisville
DESCRIPTION:Kids in grades 2-5 are invited to come in and do different lovable valentine crafts.
URL:https://www.watonwancountylibrary.com/event/valentine-craft-party-lewisville/
LOCATION:Lewisville Branch Library\, 129 Lewis Street W\, Lewisville\, MN\, 56060\, United States
CATEGORIES:Lewisville Library
ATTACH;FMTTYPE=image/png:https://www.watonwancountylibrary.com/wp-content/uploads/All-Branches-V-Craft-0225-event-cover.png
END:VEVENT
BEGIN:VEVENT
DTSTART;TZID=America/Chicago:20250210T150000
DTEND;TZID=America/Chicago:20250210T160000
DTSTAMP:20260425T175815
CREATED:20250131T192440Z
LAST-MODIFIED:20250131T192440Z
UID:3440-1739199600-1739203200@www.watonwancountylibrary.com
SUMMARY:Alcohol Ink Trinket Dish DIY-Butterfield
DESCRIPTION:Adults will learn how to use alcohol inks to create a beautiful design on a ceramic dish to use for rings and any other trinkets at home. Supplies are provided but spots are limited.  To sign up\, please call 507-956-2361. 
URL:https://www.watonwancountylibrary.com/event/alcohol-ink-trinket-dish-diy-butterfield/
LOCATION:Butterfield Branch Library\, 111 N. Second Street\, Butterfield\, MN\, 56120\, United States
CATEGORIES:Butterfield Library
ATTACH;FMTTYPE=image/png:https://www.watonwancountylibrary.com/wp-content/uploads/0225-WB-WL-DIY-Alcohol-Ink-Trinket-Dish-1920-x-1080-px.png
END:VEVENT
BEGIN:VEVENT
DTSTART;TZID=America/Chicago:20250210T100000
DTEND;TZID=America/Chicago:20250210T110000
DTSTAMP:20260425T175815
CREATED:20250131T192035Z
LAST-MODIFIED:20250131T192035Z
UID:3438-1739181600-1739185200@www.watonwancountylibrary.com
SUMMARY:Musical Monday for Toddlers
DESCRIPTION:Enjoy music with your toddler as they dance and play with various instruments.  Best for ages 1-5. 
URL:https://www.watonwancountylibrary.com/event/musical-monday-for-toddlers/
LOCATION:St. James Library\, 125 Fifth Street S\, St. James\, MN\, 56081\, United States
CATEGORIES:St. James Library
ATTACH;FMTTYPE=image/png:https://www.watonwancountylibrary.com/wp-content/uploads/0125-Musical-Mondays-Cover.png
END:VEVENT
BEGIN:VEVENT
DTSTART;TZID=America/Chicago:20250208T120000
DTEND;TZID=America/Chicago:20250208T140000
DTSTAMP:20260425T175815
CREATED:20250131T175430Z
LAST-MODIFIED:20250131T175430Z
UID:3436-1739016000-1739023200@www.watonwancountylibrary.com
SUMMARY:Coffee and Conversation
DESCRIPTION:Come enjoy a cup of coffee and some conversation each Saturday.
URL:https://www.watonwancountylibrary.com/event/coffee-and-conversation-5/
LOCATION:Darfur Branch Library\, 200 Adrian Street\, Darfur\, MN\, 56022\, United States
CATEGORIES:Darfur Library
ATTACH;FMTTYPE=image/png:https://www.watonwancountylibrary.com/wp-content/uploads/coffee-and-conversation-event-cover.png
END:VEVENT
BEGIN:VEVENT
DTSTART;TZID=America/Chicago:20250208T100000
DTEND;TZID=America/Chicago:20250208T110000
DTSTAMP:20260425T175815
CREATED:20250131T175313Z
LAST-MODIFIED:20250131T175313Z
UID:3434-1739008800-1739012400@www.watonwancountylibrary.com
SUMMARY:Sensory Play Cafe
DESCRIPTION:For our littlest patrons\, ages 0-3\, and their caregivers.  Come explore all the different sensory stations!  Little ones will benefit from sensory play and maybe even meet some new friends. 
URL:https://www.watonwancountylibrary.com/event/sensory-play-cafe-8/
LOCATION:St. James Library\, 125 Fifth Street S\, St. James\, MN\, 56081\, United States
CATEGORIES:St. James Library
ATTACH;FMTTYPE=image/png:https://www.watonwancountylibrary.com/wp-content/uploads/WA-Sensory-Play-Cafe.png
END:VEVENT
BEGIN:VEVENT
DTSTART;TZID=America/Chicago:20250207T160000
DTEND;TZID=America/Chicago:20250207T170000
DTSTAMP:20260425T175815
CREATED:20250131T175027Z
LAST-MODIFIED:20250131T175027Z
UID:3431-1738944000-1738947600@www.watonwancountylibrary.com
SUMMARY:DogMan Party
DESCRIPTION: We have got the case for you! Come in and enjoy our DogMan Party filled with badge craft\, police obstacle course\, and more!
URL:https://www.watonwancountylibrary.com/event/dogman-party/
LOCATION:St. James Library\, 125 Fifth Street S\, St. James\, MN\, 56081\, United States
CATEGORIES:St. James Library
ATTACH;FMTTYPE=image/png:https://www.watonwancountylibrary.com/wp-content/uploads/0225-WA-Dog-Man-Party-1920-x-1080-px.png
END:VEVENT
BEGIN:VEVENT
DTSTART;TZID=America/Chicago:20250207T150000
DTEND;TZID=America/Chicago:20250207T170000
DTSTAMP:20260425T175815
CREATED:20250131T174554Z
LAST-MODIFIED:20250131T174554Z
UID:3429-1738940400-1738947600@www.watonwancountylibrary.com
SUMMARY:Adventure Club-Madelia
DESCRIPTION:In collaboration with the MN Extension Office and Community Ed\, we will be holding Adventure Club at the elementary school in the STEM lab. Kids will get information from school about how to sign up.
URL:https://www.watonwancountylibrary.com/event/adventure-club-madelia-11/
LOCATION:Madelia Elementary School
CATEGORIES:Madelia Library
ATTACH;FMTTYPE=image/png:https://www.watonwancountylibrary.com/wp-content/uploads/adventure-club.png
END:VEVENT
BEGIN:VEVENT
DTSTART;TZID=America/Chicago:20250206T160000
DTEND;TZID=America/Chicago:20250206T170000
DTSTAMP:20260425T175815
CREATED:20250131T173913Z
LAST-MODIFIED:20250131T173913Z
UID:3427-1738857600-1738861200@www.watonwancountylibrary.com
SUMMARY:Valentine Craft Party-Butterfield
DESCRIPTION:Kids in grades 2-5 are invited to come in and do different lovable valentine crafts.
URL:https://www.watonwancountylibrary.com/event/valentine-craft-party-butterfield/
LOCATION:Butterfield Branch Library\, 111 N. Second Street\, Butterfield\, MN\, 56120\, United States
CATEGORIES:Butterfield Library
ATTACH;FMTTYPE=image/png:https://www.watonwancountylibrary.com/wp-content/uploads/All-Branches-V-Craft-0225-event-cover.png
END:VEVENT
BEGIN:VEVENT
DTSTART;TZID=America/Chicago:20250206T153000
DTEND;TZID=America/Chicago:20250206T170000
DTSTAMP:20260425T175815
CREATED:20250131T173652Z
LAST-MODIFIED:20250131T173652Z
UID:3424-1738855800-1738861200@www.watonwancountylibrary.com
SUMMARY:Lego Club-St. James
DESCRIPTION:Calling all brick builders!  Kids are invited to join us for Lego Club at the library!  Bring your creativity and we’ll supply the Legos.
URL:https://www.watonwancountylibrary.com/event/lego-club-st-james-6/
LOCATION:St. James Library\, 125 Fifth Street S\, St. James\, MN\, 56081\, United States
CATEGORIES:St. James Library
ATTACH;FMTTYPE=image/png:https://www.watonwancountylibrary.com/wp-content/uploads/Lego-Club-3.png
END:VEVENT
BEGIN:VEVENT
DTSTART;TZID=America/Chicago:20250204T130000
DTEND;TZID=America/Chicago:20250204T140000
DTSTAMP:20260425T175815
CREATED:20250131T172842Z
LAST-MODIFIED:20250131T172842Z
UID:3421-1738674000-1738677600@www.watonwancountylibrary.com
SUMMARY:Virtual Author Talk
DESCRIPTION:Smithsonian curator Sabrina Sholts is joining us online to discuss the uncomfortable but all-too-timely message of The Human Disease: How We Create Pandemics\, From Our Bodies to Our Beliefs\, which travels through history and around the globe to examine how and why pandemics are an inescapable threat of our own making on Tuesday\, February 4 at 2 PM ET / 1 PM CT / 12 PM MT / 11 AM PT via digital live-stream in partnership with Watonwan County Library!Register and submit questions for the author here: https://libraryc.org/watonwanlibrary\n#smithsonian #thehumandisease #authortalk
URL:https://www.watonwancountylibrary.com/event/virtual-author-talk/
LOCATION:MN
CATEGORIES:Virtual
ATTACH;FMTTYPE=image/jpeg:https://www.watonwancountylibrary.com/wp-content/uploads/DO-NOT-ALTER-FB-EVENT-BANNER-Smithsonian-Sabrina-Sholts-scaled.jpg
END:VEVENT
BEGIN:VEVENT
DTSTART;TZID=America/Chicago:20250204T100000
DTEND;TZID=America/Chicago:20250204T110000
DTSTAMP:20260425T175815
CREATED:20250127T205156Z
LAST-MODIFIED:20250127T205156Z
UID:3419-1738663200-1738666800@www.watonwancountylibrary.com
SUMMARY:Storytime and Play Cafe
DESCRIPTION:Caregivers are invited to bring the little ones to an interactive storytime followed by a special playtime.  Please join us!
URL:https://www.watonwancountylibrary.com/event/storytime-and-play-cafe-6/
LOCATION:St. James Library\, 125 Fifth Street S\, St. James\, MN\, 56081\, United States
CATEGORIES:St. James Library
ATTACH;FMTTYPE=image/png:https://www.watonwancountylibrary.com/wp-content/uploads/StorytimePlay-Cafe-event-cover.png
END:VEVENT
BEGIN:VEVENT
DTSTART;TZID=America/Chicago:20250203T160000
DTEND;TZID=America/Chicago:20250203T170000
DTSTAMP:20260425T175815
CREATED:20250127T204215Z
LAST-MODIFIED:20250127T204215Z
UID:3413-1738598400-1738602000@www.watonwancountylibrary.com
SUMMARY:MN to Main and What I Learned-With Tracy Beckman
DESCRIPTION:Former MN State Representative Tracy Beckman retired early to become a full time caregiver for his wife\, Janel\, who was diagnosed with Alzheimer’s. In the middle of his caregiving journey\, his family took over his duties\, giving him the time for a 60 day\, 1600 mile solo bike trip to Maine that gave him a new perspective on life. Tracy has been instrumental in leading several Alzheimer’s caregivers support groups.
URL:https://www.watonwancountylibrary.com/event/mn-to-main-and-what-i-learned-with-tracy-beckman/
LOCATION:St. James Library\, 125 Fifth Street S\, St. James\, MN\, 56081\, United States
CATEGORIES:St. James Library
ATTACH;FMTTYPE=image/png:https://www.watonwancountylibrary.com/wp-content/uploads/0225-WA-Tracy-Beckman-Solo-Bike-Trip-Even-Cover.png
END:VEVENT
BEGIN:VEVENT
DTSTART;TZID=America/Chicago:20250203T153000
DTEND;TZID=America/Chicago:20250203T170000
DTSTAMP:20260425T175815
CREATED:20250127T205032Z
LAST-MODIFIED:20250127T205032Z
UID:3416-1738596600-1738602000@www.watonwancountylibrary.com
SUMMARY:Valentine's Day Craft Party-Madelia
DESCRIPTION:Kids in grades 2-5 are invited to come in and do different lovable valentine crafts. 
URL:https://www.watonwancountylibrary.com/event/valentines-day-craft-party-madelia/
LOCATION:Madelia Branch Library\, 23 First Street NW\, Madelia\, MN\, 56062\, United States
CATEGORIES:Madelia Library
ATTACH;FMTTYPE=image/png:https://www.watonwancountylibrary.com/wp-content/uploads/All-Branches-V-Craft-0225-event-cover.png
END:VEVENT
BEGIN:VEVENT
DTSTART;TZID=America/Chicago:20250201T120000
DTEND;TZID=America/Chicago:20250201T140000
DTSTAMP:20260425T175815
CREATED:20250127T203741Z
LAST-MODIFIED:20250127T203741Z
UID:3411-1738411200-1738418400@www.watonwancountylibrary.com
SUMMARY:Coffee and Conversation
DESCRIPTION:Come enjoy a cup of coffee and some conversation each Saturday.
URL:https://www.watonwancountylibrary.com/event/coffee-and-conversation-4/
LOCATION:Darfur Branch Library\, 200 Adrian Street\, Darfur\, MN\, 56022\, United States
CATEGORIES:Darfur Library
ATTACH;FMTTYPE=image/png:https://www.watonwancountylibrary.com/wp-content/uploads/coffee-and-conversation-event-cover.png
END:VEVENT
BEGIN:VEVENT
DTSTART;TZID=America/Chicago:20250201T100000
DTEND;TZID=America/Chicago:20250201T120000
DTSTAMP:20260425T175815
CREATED:20250127T203627Z
LAST-MODIFIED:20250127T203627Z
UID:3408-1738404000-1738411200@www.watonwancountylibrary.com
SUMMARY:Cribbage
DESCRIPTION:Whether you are a pro or just learning\, you will have fun playing cribbage at the library! We will also have refreshments.
URL:https://www.watonwancountylibrary.com/event/cribbage-17/
LOCATION:St. James Library\, 125 Fifth Street S\, St. James\, MN\, 56081\, United States
CATEGORIES:St. James Library
ATTACH;FMTTYPE=image/png:https://www.watonwancountylibrary.com/wp-content/uploads/Untitled-design-1.png
END:VEVENT
BEGIN:VEVENT
DTSTART;TZID=America/Chicago:20250131T173000
DTEND;TZID=America/Chicago:20250131T190000
DTSTAMP:20260425T175815
CREATED:20250114T013006Z
LAST-MODIFIED:20250114T013006Z
UID:3402-1738344600-1738350000@www.watonwancountylibrary.com
SUMMARY:The Floor is Lava
DESCRIPTION:Join the thrilling “Floor is Lava” challenge at the library! Navigate through shelves and books without touching the floor. Strategize your moves and leap from object to object with friends. Please come in or call 507-375-1278 to register. Registration is required to participate. 
URL:https://www.watonwancountylibrary.com/event/the-floor-is-lava/
LOCATION:St. James Library\, 125 Fifth Street S\, St. James\, MN\, 56081\, United States
CATEGORIES:St. James Library
ATTACH;FMTTYPE=image/png:https://www.watonwancountylibrary.com/wp-content/uploads/The-Floor-is-Lava-Cover.png
END:VEVENT
BEGIN:VEVENT
DTSTART;TZID=America/Chicago:20250130T170000
DTEND;TZID=America/Chicago:20250130T190000
DTSTAMP:20260425T175815
CREATED:20250114T012705Z
LAST-MODIFIED:20250114T012705Z
UID:3400-1738256400-1738263600@www.watonwancountylibrary.com
SUMMARY:Knitting Club
DESCRIPTION:All levels of experience are welcome. Whether you want to learn or have a project to finish\, Tessa is here to help! 
URL:https://www.watonwancountylibrary.com/event/knitting-club-6/
LOCATION:St. James Library\, 125 Fifth Street S\, St. James\, MN\, 56081\, United States
CATEGORIES:St. James Library
ATTACH;FMTTYPE=image/png:https://www.watonwancountylibrary.com/wp-content/uploads/Knitting-Club-event-cover.png
END:VEVENT
BEGIN:VEVENT
DTSTART;TZID=America/Chicago:20250130T150000
DTEND;TZID=America/Chicago:20250130T170000
DTSTAMP:20260425T175815
CREATED:20250114T012404Z
LAST-MODIFIED:20250114T012404Z
UID:3398-1738249200-1738256400@www.watonwancountylibrary.com
SUMMARY:Adventure Club-St. James
DESCRIPTION:In collaboration with the MN Extension Office and Community Ed\, we will be holding Adventure Club at the high school in the home ec. room. Kids will get information from school and sign up using REVTRAK.
URL:https://www.watonwancountylibrary.com/event/adventure-club-st-james-10/
LOCATION:St. James Middle/High School
CATEGORIES:St. James Library
ATTACH;FMTTYPE=image/png:https://www.watonwancountylibrary.com/wp-content/uploads/adventure-club.png
END:VEVENT
BEGIN:VEVENT
DTSTART;TZID=America/Chicago:20250127T180000
DTEND;TZID=America/Chicago:20250127T190000
DTSTAMP:20260425T175815
CREATED:20250114T012256Z
LAST-MODIFIED:20250114T012256Z
UID:3395-1738000800-1738004400@www.watonwancountylibrary.com
SUMMARY:Adult Craft
DESCRIPTION:Come and learn how to make canning ring rag flowers at the library!  Free and all supplies provided.  To sign up\, please call 507-642-3511.
URL:https://www.watonwancountylibrary.com/event/adult-craft/
LOCATION:MN
CATEGORIES:Madelia Library
ATTACH;FMTTYPE=image/png:https://www.watonwancountylibrary.com/wp-content/uploads/DIY-Canning-Ring-Sunflower-Event-Cover.png
END:VEVENT
BEGIN:VEVENT
DTSTART;TZID=America/Chicago:20250127T170000
DTEND;TZID=America/Chicago:20250127T180000
DTSTAMP:20260425T175815
CREATED:20250114T011917Z
LAST-MODIFIED:20250114T011917Z
UID:3393-1737997200-1738000800@www.watonwancountylibrary.com
SUMMARY:Evening Storytime
DESCRIPTION:Join us in Butterfield for an interactive evening storytime. 
URL:https://www.watonwancountylibrary.com/event/evening-storytime-11/
LOCATION:Butterfield Branch Library\, 111 N. Second Street\, Butterfield\, MN\, 56120\, United States
CATEGORIES:Butterfield Library
ATTACH;FMTTYPE=image/png:https://www.watonwancountylibrary.com/wp-content/uploads/evening-storytime.png
END:VEVENT
BEGIN:VEVENT
DTSTART;TZID=America/Chicago:20250127T160000
DTEND;TZID=America/Chicago:20250127T170000
DTSTAMP:20260425T175815
CREATED:20250114T011755Z
LAST-MODIFIED:20250114T011755Z
UID:3390-1737993600-1737997200@www.watonwancountylibrary.com
SUMMARY:Creating an Earth Friendly Home-Lewisville
DESCRIPTION:Join us to learn about ways you can make your home more earth friendly.  Find out about different products that you can use in your home.  Everyone who attends will be registered for a door prize!  Door prize is donated by Melissa. 
URL:https://www.watonwancountylibrary.com/event/creating-an-earth-friendly-home-lewisville/
LOCATION:Lewisville Branch Library\, 129 Lewis Street W\, Lewisville\, MN\, 56060\, United States
CATEGORIES:Lewisville Library
ATTACH;FMTTYPE=image/png:https://www.watonwancountylibrary.com/wp-content/uploads/EARTH-FRIENDLY-HOME-EVENT-COVER.png
END:VEVENT
BEGIN:VEVENT
DTSTART;TZID=America/Chicago:20250124T110000
DTEND;TZID=America/Chicago:20250124T123000
DTSTAMP:20260425T175815
CREATED:20250114T011436Z
LAST-MODIFIED:20250114T011436Z
UID:3388-1737716400-1737721800@www.watonwancountylibrary.com
SUMMARY:PJ Party-Madelia
DESCRIPTION:Families come in your comfiest PJ’s\, read some books\, and do a cute winter craft!
URL:https://www.watonwancountylibrary.com/event/pj-party-madelia/
LOCATION:Madelia Branch Library\, 23 First Street NW\, Madelia\, MN\, 56062\, United States
CATEGORIES:Madelia Library
ATTACH;FMTTYPE=image/png:https://www.watonwancountylibrary.com/wp-content/uploads/0125-Pj-Day-Cover.png
END:VEVENT
BEGIN:VEVENT
DTSTART;TZID=America/Chicago:20250123T180000
DTEND;TZID=America/Chicago:20250123T200000
DTSTAMP:20260425T175815
CREATED:20250114T010937Z
LAST-MODIFIED:20250114T010937Z
UID:3385-1737655200-1737662400@www.watonwancountylibrary.com
SUMMARY:Clued In Murder Mystery for Adults
DESCRIPTION:Get ready for Clue like you’ve never played it before! No board\, no scripts—JUST FUN! A real life scavenger hunt with bribery\, alliances\, blackmail\, gambling\, stealing\, and more – all in a race to be the first to discover who murdered Mr. Boddy\, where they did it\, and what they did it with. Must sign up in pairs by calling 507-375-1278. 
URL:https://www.watonwancountylibrary.com/event/clued-in-murder-mystery-for-adults/
LOCATION:St. James Library\, 125 Fifth Street S\, St. James\, MN\, 56081\, United States
CATEGORIES:St. James Library
ATTACH;FMTTYPE=image/png:https://www.watonwancountylibrary.com/wp-content/uploads/MURDER-MYSTERY-EVENT-COVER.png
END:VEVENT
BEGIN:VEVENT
DTSTART;TZID=America/Chicago:20250121T180000
DTEND;TZID=America/Chicago:20250121T190000
DTSTAMP:20260425T175815
CREATED:20250114T010641Z
LAST-MODIFIED:20250114T010641Z
UID:3383-1737482400-1737486000@www.watonwancountylibrary.com
SUMMARY:Evening Storytime
DESCRIPTION:Join us in Madelia for an interactive evening storytime.
URL:https://www.watonwancountylibrary.com/event/evening-storytime-10/
LOCATION:Madelia Branch Library\, 23 First Street NW\, Madelia\, MN\, 56062\, United States
CATEGORIES:Madelia Library
ATTACH;FMTTYPE=image/png:https://www.watonwancountylibrary.com/wp-content/uploads/evening-storytime.png
END:VEVENT
BEGIN:VEVENT
DTSTART;TZID=America/Chicago:20250121T173000
DTEND;TZID=America/Chicago:20250121T183000
DTSTAMP:20260425T175815
CREATED:20250114T010445Z
LAST-MODIFIED:20250114T010445Z
UID:3380-1737480600-1737484200@www.watonwancountylibrary.com
SUMMARY:Library Board Meeting
DESCRIPTION:The library board meets monthly and is open to the public.
URL:https://www.watonwancountylibrary.com/event/library-board-meeting-3/
LOCATION:St. James Library\, 125 Fifth Street S\, St. James\, MN\, 56081\, United States
CATEGORIES:St. James Library
ATTACH;FMTTYPE=image/jpeg:https://www.watonwancountylibrary.com/wp-content/uploads/event-featured-board-meeting.jpg
END:VEVENT
BEGIN:VEVENT
DTSTART;VALUE=DATE:20250120
DTEND;VALUE=DATE:20250121
DTSTAMP:20260425T175815
CREATED:20250114T010250Z
LAST-MODIFIED:20250114T010250Z
UID:3377-1737331200-1737417599@www.watonwancountylibrary.com
SUMMARY:All Libraries Closed
DESCRIPTION:All Watonwan County Libraries will be closed in observance of Martin Luther King Jr. Day.
URL:https://www.watonwancountylibrary.com/event/all-libraries-closed/
LOCATION:MN
CATEGORIES:Butterfield Library,Darfur Library,Lewisville Library,Madelia Library,St. James Library
ATTACH;FMTTYPE=image/png:https://www.watonwancountylibrary.com/wp-content/uploads/0125-Martin-Luther-King-Jr.-Day-Closure.png
END:VEVENT
END:VCALENDAR