BEGIN:VCALENDAR
VERSION:2.0
PRODID:-//Watonwan County Library - ECPv6.15.20//NONSGML v1.0//EN
CALSCALE:GREGORIAN
METHOD:PUBLISH
X-WR-CALNAME:Watonwan County Library
X-ORIGINAL-URL:https://www.watonwancountylibrary.com
X-WR-CALDESC:Events for Watonwan County Library
REFRESH-INTERVAL;VALUE=DURATION:PT1H
X-Robots-Tag:noindex
X-PUBLISHED-TTL:PT1H
BEGIN:VTIMEZONE
TZID:America/Chicago
BEGIN:DAYLIGHT
TZOFFSETFROM:-0600
TZOFFSETTO:-0500
TZNAME:CDT
DTSTART:20240310T080000
END:DAYLIGHT
BEGIN:STANDARD
TZOFFSETFROM:-0500
TZOFFSETTO:-0600
TZNAME:CST
DTSTART:20241103T070000
END:STANDARD
BEGIN:DAYLIGHT
TZOFFSETFROM:-0600
TZOFFSETTO:-0500
TZNAME:CDT
DTSTART:20250309T080000
END:DAYLIGHT
BEGIN:STANDARD
TZOFFSETFROM:-0500
TZOFFSETTO:-0600
TZNAME:CST
DTSTART:20251102T070000
END:STANDARD
BEGIN:DAYLIGHT
TZOFFSETFROM:-0600
TZOFFSETTO:-0500
TZNAME:CDT
DTSTART:20260308T080000
END:DAYLIGHT
BEGIN:STANDARD
TZOFFSETFROM:-0500
TZOFFSETTO:-0600
TZNAME:CST
DTSTART:20261101T070000
END:STANDARD
END:VTIMEZONE
BEGIN:VEVENT
DTSTART;TZID=America/Chicago:20250306T153000
DTEND;TZID=America/Chicago:20250306T170000
DTSTAMP:20260425T150432
CREATED:20250227T164746Z
LAST-MODIFIED:20250227T164746Z
UID:3516-1741275000-1741280400@www.watonwancountylibrary.com
SUMMARY:Lego Club-Madelia
DESCRIPTION:Calling all brick builders!  Kids are invited to join us for Lego Club at the library!  Bring your creativity and we’ll supply the Legos.
URL:https://www.watonwancountylibrary.com/event/lego-club-madelia-4/
LOCATION:Madelia Branch Library\, 23 First Street NW\, Madelia\, MN\, 56062\, United States
CATEGORIES:Madelia Library
ATTACH;FMTTYPE=image/png:https://www.watonwancountylibrary.com/wp-content/uploads/Lego-Club-3.png
END:VEVENT
BEGIN:VEVENT
DTSTART;TZID=America/Chicago:20250304T100000
DTEND;TZID=America/Chicago:20250304T110000
DTSTAMP:20260425T150432
CREATED:20250227T163814Z
LAST-MODIFIED:20250227T163814Z
UID:3511-1741082400-1741086000@www.watonwancountylibrary.com
SUMMARY:Storytime/ Play Cafe
DESCRIPTION:Caregivers are invited to bring the little ones to an interactive storytime followed by a special playtime.  Please join us!
URL:https://www.watonwancountylibrary.com/event/storytime-play-cafe-11/
LOCATION:St. James Library\, 125 Fifth Street S\, St. James\, MN\, 56081\, United States
CATEGORIES:St. James Library
ATTACH;FMTTYPE=image/png:https://www.watonwancountylibrary.com/wp-content/uploads/StorytimePlay-Cafe-event-cover.png
END:VEVENT
BEGIN:VEVENT
DTSTART;TZID=America/Chicago:20250301T110000
DTEND;TZID=America/Chicago:20250301T123000
DTSTAMP:20260425T150432
CREATED:20250227T162534Z
LAST-MODIFIED:20250227T162534Z
UID:3506-1740826800-1740832200@www.watonwancountylibrary.com
SUMMARY:Blippi & Meekah Party-Madelia
DESCRIPTION:Come for activities centered around the beloved Blippi and Meekah characters!  Fun for all kids of all ages. Children under the age of 7 need to bring an adult. 
URL:https://www.watonwancountylibrary.com/event/blippi-meekah-party-madelia/
LOCATION:Madelia Branch Library\, 23 First Street NW\, Madelia\, MN\, 56062\, United States
CATEGORIES:Madelia Library
ATTACH;FMTTYPE=image/png:https://www.watonwancountylibrary.com/wp-content/uploads/BlippiMeekah-Party-Event-Cover.png
END:VEVENT
BEGIN:VEVENT
DTSTART;TZID=America/Chicago:20250301T100000
DTEND;TZID=America/Chicago:20250301T120000
DTSTAMP:20260425T150432
CREATED:20250227T163708Z
LAST-MODIFIED:20250227T163708Z
UID:3509-1740823200-1740830400@www.watonwancountylibrary.com
SUMMARY:Cribbage
DESCRIPTION:Whether you are a pro or just learning\, you will have fun playing cribbage at the library! We will also have refreshments.  Please note that Teri will not be there to teach at this session\, but we will have it set up for anyone who wants to play!
URL:https://www.watonwancountylibrary.com/event/cribbage-18/
LOCATION:St. James Library\, 125 Fifth Street S\, St. James\, MN\, 56081\, United States
CATEGORIES:St. James Library
ATTACH;FMTTYPE=image/png:https://www.watonwancountylibrary.com/wp-content/uploads/Untitled-design-1.png
END:VEVENT
BEGIN:VEVENT
DTSTART;TZID=America/Chicago:20250228T180000
DTEND;TZID=America/Chicago:20250228T190000
DTSTAMP:20260425T150432
CREATED:20250210T215327Z
LAST-MODIFIED:20250210T215327Z
UID:3502-1740765600-1740769200@www.watonwancountylibrary.com
SUMMARY:Family Retro Night
DESCRIPTION:This is a stellar opportunity to introduce your kids to super “fetch” games and toys that you played with growing up!  *Kids under age 7 must be accompanied by an adult.
URL:https://www.watonwancountylibrary.com/event/family-retro-night/
LOCATION:St. James Library\, 125 Fifth Street S\, St. James\, MN\, 56081\, United States
CATEGORIES:St. James Library
ATTACH;FMTTYPE=image/png:https://www.watonwancountylibrary.com/wp-content/uploads/0225-WA-Retro-Night-event-cover.png
END:VEVENT
BEGIN:VEVENT
DTSTART;TZID=America/Chicago:20250227T170000
DTEND;TZID=America/Chicago:20250227T190000
DTSTAMP:20260425T150432
CREATED:20250210T214855Z
LAST-MODIFIED:20250210T214855Z
UID:3500-1740675600-1740682800@www.watonwancountylibrary.com
SUMMARY:Knitting Club
DESCRIPTION:All levels of experience are welcome. Whether you want to learn or have a project to finish\, Tessa is here to help! 
URL:https://www.watonwancountylibrary.com/event/knitting-club-7/
LOCATION:St. James Library\, 125 Fifth Street S\, St. James\, MN\, 56081\, United States
CATEGORIES:St. James Library
ATTACH;FMTTYPE=image/png:https://www.watonwancountylibrary.com/wp-content/uploads/knitting-club-event-cover-1.png
END:VEVENT
BEGIN:VEVENT
DTSTART;TZID=America/Chicago:20250226T160000
DTEND;TZID=America/Chicago:20250226T170000
DTSTAMP:20260425T150432
CREATED:20250210T214806Z
LAST-MODIFIED:20250210T214806Z
UID:3497-1740585600-1740589200@www.watonwancountylibrary.com
SUMMARY:Coloring Fun for Kids
DESCRIPTION:Join us at the Lewisville Branch Library to warm up with some coloring activities!
URL:https://www.watonwancountylibrary.com/event/coloring-fun-for-kids/
LOCATION:Lewisville Branch Library\, 129 Lewis Street W\, Lewisville\, MN\, 56060\, United States
CATEGORIES:Lewisville Library
ATTACH;FMTTYPE=image/png:https://www.watonwancountylibrary.com/wp-content/uploads/0225-WL-Coloring-Fun-event-cover.png
END:VEVENT
BEGIN:VEVENT
DTSTART;TZID=America/Chicago:20250226T153000
DTEND;TZID=America/Chicago:20250226T170000
DTSTAMP:20260425T150432
CREATED:20250210T214342Z
LAST-MODIFIED:20250210T214342Z
UID:3494-1740583800-1740589200@www.watonwancountylibrary.com
SUMMARY:Movie Party for Kids
DESCRIPTION:Kids are invited to watch a movie at the library!  *Kids under the age of 7 must be accompanied by an adult.
URL:https://www.watonwancountylibrary.com/event/movie-party-for-kids/
LOCATION:Madelia Branch Library\, 23 First Street NW\, Madelia\, MN\, 56062\, United States
CATEGORIES:Madelia Library
ATTACH;FMTTYPE=image/png:https://www.watonwancountylibrary.com/wp-content/uploads/0225-WM-Kids-movie-event-cover.png
END:VEVENT
BEGIN:VEVENT
DTSTART;TZID=America/Chicago:20250224T160000
DTEND;TZID=America/Chicago:20250224T170000
DTSTAMP:20260425T150432
CREATED:20250210T212832Z
LAST-MODIFIED:20250210T212832Z
UID:3491-1740412800-1740416400@www.watonwancountylibrary.com
SUMMARY:Author Cindy Wilson
DESCRIPTION:Cindy will share her book “We Suffered Much”\, which tells the story of Charles Wood Irish who charted a path  for the Chicago & North Western Railroad\, beginning in Tracy\, Minnesota\, and heading toward gold-rich Deadwood in the Dakota Territory. His story is entwined with the famous Ingalls family on the railroad and at Silver Lake railroad camp.  Don’t miss this fascinating story! \nThis program is made possible by the voters of Minnesota through a grant provided by the Traverse des Sioux Library Cooperative\, thanks to a legislative appropriation from the arts and cultural heritage fund.
URL:https://www.watonwancountylibrary.com/event/author-cindy-wilson/
LOCATION:St. James Library\, 125 Fifth Street S\, St. James\, MN\, 56081\, United States
CATEGORIES:St. James Library
ATTACH;FMTTYPE=image/png:https://www.watonwancountylibrary.com/wp-content/uploads/0225-WA-Cindy-Wilson-We-Suffered-Much-event-cover.png
END:VEVENT
BEGIN:VEVENT
DTSTART;TZID=America/Chicago:20250222T100000
DTEND;TZID=America/Chicago:20250222T110000
DTSTAMP:20260425T150432
CREATED:20250210T212232Z
LAST-MODIFIED:20250210T212232Z
UID:3488-1740218400-1740222000@www.watonwancountylibrary.com
SUMMARY:Scavenger Hunt
DESCRIPTION:Hey Kids!  Are you looking for a fun challenge? Can you find something blue? How about something smaller than your nose? See if you can find the various things around the library! \n 
URL:https://www.watonwancountylibrary.com/event/scavenger-hunt/
LOCATION:Lewisville Branch Library\, 129 Lewis Street W\, Lewisville\, MN\, 56060\, United States
CATEGORIES:Lewisville Library
ATTACH;FMTTYPE=image/png:https://www.watonwancountylibrary.com/wp-content/uploads/0225-WL-Savenger-Hunt-event-cover.png
END:VEVENT
BEGIN:VEVENT
DTSTART;TZID=America/Chicago:20250221T190000
DTEND;TZID=America/Chicago:20250221T210000
DTSTAMP:20260425T150432
CREATED:20250210T204452Z
LAST-MODIFIED:20250210T204452Z
UID:3486-1740164400-1740171600@www.watonwancountylibrary.com
SUMMARY:Free Food Friday for Teens
DESCRIPTION:Teens ages 12 and up can come and hang out in the library after hours. Join us for food\, friends and fun! In February\, we will eat pizza and play a murder mystery game!
URL:https://www.watonwancountylibrary.com/event/free-food-friday-for-teens-17/
LOCATION:St. James Library\, 125 Fifth Street S\, St. James\, MN\, 56081\, United States
CATEGORIES:St. James Library
ATTACH;FMTTYPE=image/png:https://www.watonwancountylibrary.com/wp-content/uploads/free-food-Friday.png
END:VEVENT
BEGIN:VEVENT
DTSTART;TZID=America/Chicago:20250221T140000
DTEND;TZID=America/Chicago:20250221T160000
DTSTAMP:20260425T150432
CREATED:20250210T204104Z
LAST-MODIFIED:20250210T204104Z
UID:3484-1740146400-1740153600@www.watonwancountylibrary.com
SUMMARY:Friday Flicks
DESCRIPTION:Join us at the St. James Library for a showing of  “The Intern”. Coffee\, fresh hot popcorn and other “concessions” will be served.
URL:https://www.watonwancountylibrary.com/event/friday-flicks-22/
LOCATION:St. James Library\, 125 Fifth Street S\, St. James\, MN\, 56081\, United States
CATEGORIES:St. James Library
ATTACH;FMTTYPE=image/png:https://www.watonwancountylibrary.com/wp-content/uploads/WA-Friday-Flicks.png
END:VEVENT
BEGIN:VEVENT
DTSTART;TZID=America/Chicago:20250221T100000
DTEND;TZID=America/Chicago:20250221T120000
DTSTAMP:20260425T150432
CREATED:20250210T204000Z
LAST-MODIFIED:20250210T204000Z
UID:3482-1740132000-1740139200@www.watonwancountylibrary.com
SUMMARY:Memory Writing with Marion
DESCRIPTION:Join Marion Edgar Style as she guides you in recording your thoughts and memories. Refreshments will be served and journals will be provided.
URL:https://www.watonwancountylibrary.com/event/memory-writing-with-marion-22/
LOCATION:St. James Library\, 125 Fifth Street S\, St. James\, MN\, 56081\, United States
CATEGORIES:St. James Library
ATTACH;FMTTYPE=image/png:https://www.watonwancountylibrary.com/wp-content/uploads/WA-Memory-Writing-with-Marion.png
END:VEVENT
BEGIN:VEVENT
DTSTART;TZID=America/Chicago:20250220T160000
DTEND;TZID=America/Chicago:20250220T180000
DTSTAMP:20260425T150432
CREATED:20250210T203852Z
LAST-MODIFIED:20250210T203852Z
UID:3479-1740067200-1740074400@www.watonwancountylibrary.com
SUMMARY:STEM Tryouts
DESCRIPTION:We recently were awarded a $2\,000 grant to put together STEM kits that can be checked out by teachers and caregivers to bring  STEM fun into the classroom and the home! We want to invite you to come and “Try Out” the new kits with us.  This will be a great opportunity to learn how the kits work\, what is available and play around having fun. We have everything from simple coding\, circuits\, Rube Goldberg type contraptions\, robots and even math manipulatives.  Open to teachers\, parents\, families\, and even grandparents!  We ask that kids come with an adult. *These kits are funded by IEEE\, Institute of Electrical and Electronic Engineers.  
URL:https://www.watonwancountylibrary.com/event/stem-tryouts/
LOCATION:St. James Library\, 125 Fifth Street S\, St. James\, MN\, 56081\, United States
CATEGORIES:St. James Library
ATTACH;FMTTYPE=image/png:https://www.watonwancountylibrary.com/wp-content/uploads/0225-WA-STEM-TryOuts-1920-x-1080-px-event-cover.png
END:VEVENT
BEGIN:VEVENT
DTSTART;TZID=America/Chicago:20250220T150000
DTEND;TZID=America/Chicago:20250220T160000
DTSTAMP:20260425T150432
CREATED:20250210T203412Z
LAST-MODIFIED:20250210T203412Z
UID:3476-1740063600-1740067200@www.watonwancountylibrary.com
SUMMARY:DIY Embroidery Hoop Pocket Wreath
DESCRIPTION:Learn how to make some fun decor for your house or as a gift!  All supplies will be provided.  Spots are limited\, so please call to sign up: 507-877-5010 or 507-375-1278
URL:https://www.watonwancountylibrary.com/event/diy-embroidery-hoop-pocket-wreath/
LOCATION:Darfur Branch Library\, 200 Adrian Street\, Darfur\, MN\, 56022\, United States
CATEGORIES:Darfur Library
ATTACH;FMTTYPE=image/png:https://www.watonwancountylibrary.com/wp-content/uploads/0225-WD-Embroidery-Hoop-Wreath-1920-x-1080-px.png
END:VEVENT
BEGIN:VEVENT
DTSTART;TZID=America/Chicago:20250219T153000
DTEND;TZID=America/Chicago:20250219T170000
DTSTAMP:20260425T150432
CREATED:20250131T211958Z
LAST-MODIFIED:20250131T211958Z
UID:3473-1739979000-1739984400@www.watonwancountylibrary.com
SUMMARY:Gaming Fun
DESCRIPTION:Kids in grades 3-6: Come in and enjoy board games and Mario Kart for competition and fun!
URL:https://www.watonwancountylibrary.com/event/gaming-fun/
LOCATION:Madelia Branch Library\, 23 First Street NW\, Madelia\, MN\, 56062\, United States
CATEGORIES:Madelia Library
ATTACH;FMTTYPE=image/png:https://www.watonwancountylibrary.com/wp-content/uploads/0225-WM-Game-Fun-1920-x-1080-px.png
END:VEVENT
BEGIN:VEVENT
DTSTART;TZID=America/Chicago:20250219T150000
DTEND;TZID=America/Chicago:20250219T160000
DTSTAMP:20260425T150432
CREATED:20250131T211347Z
LAST-MODIFIED:20250131T211347Z
UID:3471-1739977200-1739980800@www.watonwancountylibrary.com
SUMMARY:Reader's Choice Book Club
DESCRIPTION:This reader’s choice book club is open to all adults and all books. Maybe you will leave with your next great read!
URL:https://www.watonwancountylibrary.com/event/readers-choice-book-club-18/
LOCATION:Butterfield Branch Library\, 111 N. Second Street\, Butterfield\, MN\, 56120\, United States
CATEGORIES:Butterfield Library
ATTACH;FMTTYPE=image/png:https://www.watonwancountylibrary.com/wp-content/uploads/WB-Readers-Choice-Book-Club.png
END:VEVENT
BEGIN:VEVENT
DTSTART;TZID=America/Chicago:20250218T180000
DTEND;TZID=America/Chicago:20250218T190000
DTSTAMP:20260425T150432
CREATED:20250131T211226Z
LAST-MODIFIED:20250131T211226Z
UID:3469-1739901600-1739905200@www.watonwancountylibrary.com
SUMMARY:Evening Storytime
DESCRIPTION:Come in and find things around the library. Also\, enjoy reading books\, building puzzles\, and playing games. Open to kids of all ages!
URL:https://www.watonwancountylibrary.com/event/evening-storytime-12/
LOCATION:Madelia Branch Library\, 23 First Street NW\, Madelia\, MN\, 56062\, United States
CATEGORIES:Madelia Library
ATTACH;FMTTYPE=image/png:https://www.watonwancountylibrary.com/wp-content/uploads/evening-storytime.png
END:VEVENT
BEGIN:VEVENT
DTSTART;TZID=America/Chicago:20250218T160000
DTEND;TZID=America/Chicago:20250218T170000
DTSTAMP:20260425T150432
CREATED:20250131T210532Z
LAST-MODIFIED:20250131T210532Z
UID:3466-1739894400-1739898000@www.watonwancountylibrary.com
SUMMARY:I-Spy and Games for Kids
DESCRIPTION:Come in and find things around the library. Also\, enjoy reading books\, building puzzles\, and playing games. Open to kids of all ages!
URL:https://www.watonwancountylibrary.com/event/i-spy-and-games-for-kids/
LOCATION:Butterfield Branch Library\, 111 N. Second Street\, Butterfield\, MN\, 56120\, United States
CATEGORIES:Butterfield Library
ATTACH;FMTTYPE=image/png:https://www.watonwancountylibrary.com/wp-content/uploads/0225-WB-I-Spy-and-Games-1920-x-1080-px.png
END:VEVENT
BEGIN:VEVENT
DTSTART;VALUE=DATE:20250217
DTEND;VALUE=DATE:20250218
DTSTAMP:20260425T150432
CREATED:20250131T210133Z
LAST-MODIFIED:20250131T210133Z
UID:3463-1739750400-1739836799@www.watonwancountylibrary.com
SUMMARY:PRESIDENTS’ DAY
DESCRIPTION:ALL WATONWAN COUNTY LIBRARIES CLOSED FOR PRESIDENTS’ DAY
URL:https://www.watonwancountylibrary.com/event/presidents-day/
LOCATION:MN
CATEGORIES:Butterfield Library,Darfur Library,Lewisville Library,Madelia Library,St. James Library
ATTACH;FMTTYPE=image/png:https://www.watonwancountylibrary.com/wp-content/uploads/PRESIDENTS-DAY.png
END:VEVENT
BEGIN:VEVENT
DTSTART;TZID=America/Chicago:20250214T160000
DTEND;TZID=America/Chicago:20250214T170000
DTSTAMP:20260425T150432
CREATED:20250131T205833Z
LAST-MODIFIED:20250131T205833Z
UID:3461-1739548800-1739552400@www.watonwancountylibrary.com
SUMMARY:Valentine Craft Party-St. James
DESCRIPTION:Kids in grades 2-5 are invited to come in and do different lovable valentine crafts.
URL:https://www.watonwancountylibrary.com/event/valentine-craft-party-st-james/
LOCATION:St. James Library\, 125 Fifth Street S\, St. James\, MN\, 56081\, United States
CATEGORIES:St. James Library
ATTACH;FMTTYPE=image/png:https://www.watonwancountylibrary.com/wp-content/uploads/All-Branches-V-Craft-0225-event-cover.png
END:VEVENT
BEGIN:VEVENT
DTSTART;TZID=America/Chicago:20250213T160000
DTEND;TZID=America/Chicago:20250213T170000
DTSTAMP:20260425T150432
CREATED:20250131T205705Z
LAST-MODIFIED:20250131T205705Z
UID:3457-1739462400-1739466000@www.watonwancountylibrary.com
SUMMARY:DIY Beeswax Wraps
DESCRIPTION:Sign up to learn how to make your own beeswax wraps at home!  All supplies included. To sign up\, call 507-375-1278.
URL:https://www.watonwancountylibrary.com/event/diy-beeswax-wraps/
LOCATION:St. James Library\, 125 Fifth Street S\, St. James\, MN\, 56081\, United States
CATEGORIES:St. James Library
ATTACH;FMTTYPE=image/png:https://www.watonwancountylibrary.com/wp-content/uploads/0225-WA-DIY-Beeswax-Wraps-1920-x-1080-px.png
END:VEVENT
BEGIN:VEVENT
DTSTART;TZID=America/Chicago:20250213T153000
DTEND;TZID=America/Chicago:20250213T170000
DTSTAMP:20260425T150432
CREATED:20250131T204943Z
LAST-MODIFIED:20250131T204943Z
UID:3455-1739460600-1739466000@www.watonwancountylibrary.com
SUMMARY:Lego Club-Madelia
DESCRIPTION:Calling all brick builders!  Kids are invited to join us for Lego Club at the library!  Bring your creativity and we’ll supply the Legos.
URL:https://www.watonwancountylibrary.com/event/lego-club-madelia-3/
LOCATION:Madelia Branch Library\, 23 First Street NW\, Madelia\, MN\, 56062\, United States
CATEGORIES:Madelia Library
ATTACH;FMTTYPE=image/png:https://www.watonwancountylibrary.com/wp-content/uploads/Lego-Club-3.png
END:VEVENT
BEGIN:VEVENT
DTSTART;TZID=America/Chicago:20250212T150000
DTEND;TZID=America/Chicago:20250212T160000
DTSTAMP:20260425T150432
CREATED:20250131T202443Z
LAST-MODIFIED:20250131T202443Z
UID:3453-1739372400-1739376000@www.watonwancountylibrary.com
SUMMARY:Alcohol Ink Trinket Dish DIY-Lewisville
DESCRIPTION:Adults will learn how to use alcohol inks to create a beautiful design on a ceramic dish to use for rings and any other trinkets at home. Supplies are provided but spots are limited.  To sign up\, please call 507-435-2781.
URL:https://www.watonwancountylibrary.com/event/alcohol-ink-trinket-dish-diy-lewisville/
LOCATION:Lewisville Branch Library\, 129 Lewis Street W\, Lewisville\, MN\, 56060\, United States
CATEGORIES:Lewisville Library
ATTACH;FMTTYPE=image/png:https://www.watonwancountylibrary.com/wp-content/uploads/0225-WB-WL-DIY-Alcohol-Ink-Trinket-Dish-1920-x-1080-px.png
END:VEVENT
BEGIN:VEVENT
DTSTART;TZID=America/Chicago:20250211T173000
DTEND;TZID=America/Chicago:20250211T183000
DTSTAMP:20260425T150432
CREATED:20250131T200922Z
LAST-MODIFIED:20250131T200922Z
UID:3451-1739295000-1739298600@www.watonwancountylibrary.com
SUMMARY:How to Make Your Home More Earth Friendly
DESCRIPTION:Melissa will share ways to make your home more earth and environmentally friendly.  She will share tips\, tricks and product recommendations with you.  Everyone who attends will get their name added to a drawing to take a product home\, courtesy of Melissa.
URL:https://www.watonwancountylibrary.com/event/how-to-make-your-home-more-earth-friendly/
LOCATION:Madelia Branch Library\, 23 First Street NW\, Madelia\, MN\, 56062\, United States
CATEGORIES:Madelia Library
ATTACH;FMTTYPE=image/png:https://www.watonwancountylibrary.com/wp-content/uploads/EARTH-FRIENDLY-HOME-EVENT-COVER.png
END:VEVENT
BEGIN:VEVENT
DTSTART;TZID=America/Chicago:20250211T160000
DTEND;TZID=America/Chicago:20250211T170000
DTSTAMP:20260425T150432
CREATED:20250131T200746Z
LAST-MODIFIED:20250131T200746Z
UID:3449-1739289600-1739293200@www.watonwancountylibrary.com
SUMMARY:Lego Club-Butterfield
DESCRIPTION:Calling all brick builders!  Kids are invited to join us for Lego Club at the library!  Bring your creativity and we’ll supply the Legos. 
URL:https://www.watonwancountylibrary.com/event/lego-club-butterfield-6/
LOCATION:Butterfield Branch Library\, 111 N. Second Street\, Butterfield\, MN\, 56120\, United States
CATEGORIES:Butterfield Library
ATTACH;FMTTYPE=image/png:https://www.watonwancountylibrary.com/wp-content/uploads/Lego-Club-3.png
END:VEVENT
BEGIN:VEVENT
DTSTART;TZID=America/Chicago:20250210T183000
DTEND;TZID=America/Chicago:20250210T193000
DTSTAMP:20260425T150432
CREATED:20250131T200418Z
LAST-MODIFIED:20250131T200418Z
UID:3447-1739212200-1739215800@www.watonwancountylibrary.com
SUMMARY:Novels by Night Book Club
DESCRIPTION:We will be discussing the book “Only the Beautiful” by Susan Meissner. Contact the library for a copy. Please contact Shirley at 375-1278 if interested in joining virtually.
URL:https://www.watonwancountylibrary.com/event/novels-by-night-book-club-22/
LOCATION:St. James Library\, 125 Fifth Street S\, St. James\, MN\, 56081\, United States
CATEGORIES:St. James Library
ATTACH;FMTTYPE=image/png:https://www.watonwancountylibrary.com/wp-content/uploads/Novels-by-Night.png
END:VEVENT
BEGIN:VEVENT
DTSTART;TZID=America/Chicago:20250210T170000
DTEND;TZID=America/Chicago:20250210T180000
DTSTAMP:20260425T150432
CREATED:20250131T200242Z
LAST-MODIFIED:20250131T200242Z
UID:3445-1739206800-1739210400@www.watonwancountylibrary.com
SUMMARY:Yoga
DESCRIPTION:Registered Yoga Instructor: Roxanne Romsdahl \nLearn basic hatha yoga poses and breathing patterns to develop a home yoga practice for all ages. The focus will be on poses\, stretches\, and breath work to strengthen the body\, improve flexibility and balance\, and reduce anxiety.
URL:https://www.watonwancountylibrary.com/event/yoga-8/
LOCATION:St. James Library\, 125 Fifth Street S\, St. James\, MN\, 56081\, United States
CATEGORIES:St. James Library
ATTACH;FMTTYPE=image/png:https://www.watonwancountylibrary.com/wp-content/uploads/yoga-event-cover.png
END:VEVENT
BEGIN:VEVENT
DTSTART;TZID=America/Chicago:20250210T160000
DTEND;TZID=America/Chicago:20250210T170000
DTSTAMP:20260425T150432
CREATED:20250131T192654Z
LAST-MODIFIED:20250131T192654Z
UID:3443-1739203200-1739206800@www.watonwancountylibrary.com
SUMMARY:Valentine Craft Party-Lewisville
DESCRIPTION:Kids in grades 2-5 are invited to come in and do different lovable valentine crafts.
URL:https://www.watonwancountylibrary.com/event/valentine-craft-party-lewisville/
LOCATION:Lewisville Branch Library\, 129 Lewis Street W\, Lewisville\, MN\, 56060\, United States
CATEGORIES:Lewisville Library
ATTACH;FMTTYPE=image/png:https://www.watonwancountylibrary.com/wp-content/uploads/All-Branches-V-Craft-0225-event-cover.png
END:VEVENT
BEGIN:VEVENT
DTSTART;TZID=America/Chicago:20250210T150000
DTEND;TZID=America/Chicago:20250210T160000
DTSTAMP:20260425T150432
CREATED:20250131T192440Z
LAST-MODIFIED:20250131T192440Z
UID:3440-1739199600-1739203200@www.watonwancountylibrary.com
SUMMARY:Alcohol Ink Trinket Dish DIY-Butterfield
DESCRIPTION:Adults will learn how to use alcohol inks to create a beautiful design on a ceramic dish to use for rings and any other trinkets at home. Supplies are provided but spots are limited.  To sign up\, please call 507-956-2361. 
URL:https://www.watonwancountylibrary.com/event/alcohol-ink-trinket-dish-diy-butterfield/
LOCATION:Butterfield Branch Library\, 111 N. Second Street\, Butterfield\, MN\, 56120\, United States
CATEGORIES:Butterfield Library
ATTACH;FMTTYPE=image/png:https://www.watonwancountylibrary.com/wp-content/uploads/0225-WB-WL-DIY-Alcohol-Ink-Trinket-Dish-1920-x-1080-px.png
END:VEVENT
END:VCALENDAR