BEGIN:VCALENDAR
VERSION:2.0
PRODID:-//Watonwan County Library - ECPv6.15.20//NONSGML v1.0//EN
CALSCALE:GREGORIAN
METHOD:PUBLISH
X-ORIGINAL-URL:https://www.watonwancountylibrary.com
X-WR-CALDESC:Events for Watonwan County Library
REFRESH-INTERVAL;VALUE=DURATION:PT1H
X-Robots-Tag:noindex
X-PUBLISHED-TTL:PT1H
BEGIN:VTIMEZONE
TZID:America/Chicago
BEGIN:DAYLIGHT
TZOFFSETFROM:-0600
TZOFFSETTO:-0500
TZNAME:CDT
DTSTART:20240310T080000
END:DAYLIGHT
BEGIN:STANDARD
TZOFFSETFROM:-0500
TZOFFSETTO:-0600
TZNAME:CST
DTSTART:20241103T070000
END:STANDARD
BEGIN:DAYLIGHT
TZOFFSETFROM:-0600
TZOFFSETTO:-0500
TZNAME:CDT
DTSTART:20250309T080000
END:DAYLIGHT
BEGIN:STANDARD
TZOFFSETFROM:-0500
TZOFFSETTO:-0600
TZNAME:CST
DTSTART:20251102T070000
END:STANDARD
BEGIN:DAYLIGHT
TZOFFSETFROM:-0600
TZOFFSETTO:-0500
TZNAME:CDT
DTSTART:20260308T080000
END:DAYLIGHT
BEGIN:STANDARD
TZOFFSETFROM:-0500
TZOFFSETTO:-0600
TZNAME:CST
DTSTART:20261101T070000
END:STANDARD
END:VTIMEZONE
BEGIN:VEVENT
DTSTART;TZID=America/Chicago:20250404T153000
DTEND;TZID=America/Chicago:20250404T170000
DTSTAMP:20260425T120759
CREATED:20250331T155032Z
LAST-MODIFIED:20250331T155032Z
UID:3593-1743780600-1743786000@www.watonwancountylibrary.com
SUMMARY:Movie Bingo-Madelia
DESCRIPTION:Kids will play a game of bingo while watching a movie-Double the fun!
URL:https://www.watonwancountylibrary.com/event/movie-bingo-madelia/
LOCATION:Madelia Branch Library\, 23 First Street NW\, Madelia\, MN\, 56062\, United States
CATEGORIES:Madelia Library
ATTACH;FMTTYPE=image/png:https://www.watonwancountylibrary.com/wp-content/uploads/0425-Movie-Bingo.png
END:VEVENT
BEGIN:VEVENT
DTSTART;TZID=America/Chicago:20250403T150000
DTEND;TZID=America/Chicago:20250403T170000
DTSTAMP:20260425T120759
CREATED:20250331T154915Z
LAST-MODIFIED:20250331T154915Z
UID:3591-1743692400-1743699600@www.watonwancountylibrary.com
SUMMARY:Adventure Club
DESCRIPTION:In collaboration with the MN Extension Office and Community Ed\, we will be holding Adventure Club at the high school in the home ec. room. Kids will get information from school and sign up using REVTRAK.
URL:https://www.watonwancountylibrary.com/event/adventure-club/
LOCATION:St. James Middle/High School
CATEGORIES:St. James Library
ATTACH;FMTTYPE=image/png:https://www.watonwancountylibrary.com/wp-content/uploads/adventure-club.png
END:VEVENT
BEGIN:VEVENT
DTSTART;TZID=America/Chicago:20250401T100000
DTEND;TZID=America/Chicago:20250401T110000
DTSTAMP:20260425T120759
CREATED:20250331T154801Z
LAST-MODIFIED:20250331T154801Z
UID:3589-1743501600-1743505200@www.watonwancountylibrary.com
SUMMARY:Storytime/Play Cafe
DESCRIPTION:Caregivers are invited to bring the little ones to an interactive storytime followed by a special playtime.  Please join us!
URL:https://www.watonwancountylibrary.com/event/storytime-play-cafe-12/
LOCATION:St. James Library\, 125 Fifth Street S\, St. James\, MN\, 56081\, United States
CATEGORIES:St. James Library
ATTACH;FMTTYPE=image/png:https://www.watonwancountylibrary.com/wp-content/uploads/StorytimePlay-Cafe-event-cover.png
END:VEVENT
BEGIN:VEVENT
DTSTART;TZID=America/Chicago:20250328T153000
DTEND;TZID=America/Chicago:20250328T170000
DTSTAMP:20260425T120759
CREATED:20250301T195109Z
LAST-MODIFIED:20250301T195109Z
UID:3564-1743175800-1743181200@www.watonwancountylibrary.com
SUMMARY:Blippi & Meekah Party-St. James
DESCRIPTION:Come for activities centered around the beloved Blippi and Meekah characters!  Fun for all kids of all ages. Children under age 7 need to bring an adult. 
URL:https://www.watonwancountylibrary.com/event/blippi-meekah-party-st-james/
LOCATION:St. James Library\, 125 Fifth Street S\, St. James\, MN\, 56081\, United States
CATEGORIES:St. James Library
ATTACH;FMTTYPE=image/png:https://www.watonwancountylibrary.com/wp-content/uploads/BlippiMeekah-Party-Event-Cover.png
END:VEVENT
BEGIN:VEVENT
DTSTART;TZID=America/Chicago:20250326T163000
DTEND;TZID=America/Chicago:20250326T173000
DTSTAMP:20260425T120759
CREATED:20250301T194522Z
LAST-MODIFIED:20250301T194522Z
UID:3556-1743006600-1743010200@www.watonwancountylibrary.com
SUMMARY:Deer\, Elk & Moose with Stan Tekiela
DESCRIPTION:From Alaskan wilderness to the Florida Keys\, Stan Tekiela has spent 30 years in pursuit of deer\, elk and moose in order to study and photograph them. In this talk Stan will speak about his fascination with these grand and majestic creatures. From the soulful eyes of the deer to the easygoing nature of moose\, Stan presents the lives of these intriguing mammals with his humorous style.  **THIS PROGRAM WILL BE HELD AT THE LEGION \nThis program is made possible by the voters of Minnesota through a grant provided by the Traverse des Sioux Library Cooperative\, thanks to a legislative appropriation from the arts and cultural heritage fund.
URL:https://www.watonwancountylibrary.com/event/deer-elk-moose-with-stan-tekiela/
LOCATION:Lewisville Legion
CATEGORIES:Lewisville Library
ATTACH;FMTTYPE=image/png:https://www.watonwancountylibrary.com/wp-content/uploads/0325-WL-Stan-Tekiela-Deer-Elk-and-Moose-event-cover.png
END:VEVENT
BEGIN:VEVENT
DTSTART;TZID=America/Chicago:20250326T140000
DTEND;TZID=America/Chicago:20250326T150000
DTSTAMP:20260425T120759
CREATED:20250301T194952Z
LAST-MODIFIED:20250301T194952Z
UID:3561-1742997600-1743001200@www.watonwancountylibrary.com
SUMMARY:Bears-Brown\, Black & Polar with Stan Tekiela
DESCRIPTION:This talk is based on Stan’s book and covers some of the most amazing aspects of bears. This presentation is packed with amazing images of three species of bear found in North America; Black\, Brown and Polar Bear. Stan will explain in his fun and entertaining way all about the different kinds of bears along with telling some of the most amazing stories of his adventures in the wild to capture these incredible images. Hundreds of award winning images are the backbone of this presentation. This presentation is visually fun and full of adventure. **THIS PROGRAM WILL BE HELD AT THE FIRE HALL \nThis program is made possible by the voters of Minnesota through a grant provided by the Traverse des Sioux Library Cooperative\, thanks to a legislative appropriation from the arts and cultural heritage fund.
URL:https://www.watonwancountylibrary.com/event/bears-brown-black-polar-with-stan-tekiela/
LOCATION:Butterfield Fire Hall
CATEGORIES:Butterfield Library
ATTACH;FMTTYPE=image/png:https://www.watonwancountylibrary.com/wp-content/uploads/0325-WB-Bears-with-Stan-Tekiela-event-cover.png
END:VEVENT
BEGIN:VEVENT
DTSTART;TZID=America/Chicago:20250324T180000
DTEND;TZID=America/Chicago:20250324T190000
DTSTAMP:20260425T120759
CREATED:20250301T194017Z
LAST-MODIFIED:20250301T194017Z
UID:3553-1742839200-1742842800@www.watonwancountylibrary.com
SUMMARY:DIY Citrus Printed Towels for Adults
DESCRIPTION:Adults will be able to learn the art of making a hand-painted tea towel as a gift or for your own home!  Supplies provided.  To sign up\, call 507-642-3511
URL:https://www.watonwancountylibrary.com/event/diy-citrus-printed-towels-for-adults/
LOCATION:Madelia Branch Library\, 23 First Street NW\, Madelia\, MN\, 56062\, United States
CATEGORIES:Madelia Library
ATTACH;FMTTYPE=image/png:https://www.watonwancountylibrary.com/wp-content/uploads/0325-WM-DIY-Citrus-Printed-Towels-event-cover.png
END:VEVENT
BEGIN:VEVENT
DTSTART;TZID=America/Chicago:20250322T100000
DTEND;TZID=America/Chicago:20250322T110000
DTSTAMP:20260425T120759
CREATED:20250301T191304Z
LAST-MODIFIED:20250301T191304Z
UID:3551-1742637600-1742641200@www.watonwancountylibrary.com
SUMMARY:Blippi & Meekah Party-Butterfield
DESCRIPTION:Come for activities centered around the beloved Blippi and Meekah characters!  Fun for all kids of all ages. Kids under age 7 need to bring an adult. 
URL:https://www.watonwancountylibrary.com/event/blippi-meekah-party-butterfield/
LOCATION:Butterfield Branch Library\, 111 N. Second Street\, Butterfield\, MN\, 56120\, United States
CATEGORIES:Butterfield Library
ATTACH;FMTTYPE=image/png:https://www.watonwancountylibrary.com/wp-content/uploads/BlippiMeekah-Party-Event-Cover.png
END:VEVENT
BEGIN:VEVENT
DTSTART;TZID=America/Chicago:20250321T160000
DTEND;TZID=America/Chicago:20250321T170000
DTSTAMP:20260425T120759
CREATED:20250301T185359Z
LAST-MODIFIED:20250301T185359Z
UID:3548-1742572800-1742576400@www.watonwancountylibrary.com
SUMMARY:Story & STEM
DESCRIPTION:Come to the library to listen to a story and then try to complete a STEM challenge afterwards! For ages K-2 with an adult. 
URL:https://www.watonwancountylibrary.com/event/story-stem/
LOCATION:Lewisville Branch Library\, 129 Lewis Street W\, Lewisville\, MN\, 56060\, United States
CATEGORIES:Lewisville Library
ATTACH;FMTTYPE=image/png:https://www.watonwancountylibrary.com/wp-content/uploads/0325-WL-Story-and-STEM-event-cover.png
END:VEVENT
BEGIN:VEVENT
DTSTART;TZID=America/Chicago:20250321T140000
DTEND;TZID=America/Chicago:20250321T160000
DTSTAMP:20260425T120759
CREATED:20250301T184648Z
LAST-MODIFIED:20250301T184648Z
UID:3544-1742565600-1742572800@www.watonwancountylibrary.com
SUMMARY:Friday Flicks
DESCRIPTION:Join us at the St. James Library for a showing of  “New In Town”. Fresh hot popcorn will be served.
URL:https://www.watonwancountylibrary.com/event/friday-flicks-23/
LOCATION:St. James Library\, 125 Fifth Street S\, St. James\, MN\, 56081\, United States
CATEGORIES:St. James Library
ATTACH;FMTTYPE=image/png:https://www.watonwancountylibrary.com/wp-content/uploads/WA-Friday-Flicks.png
END:VEVENT
BEGIN:VEVENT
DTSTART;TZID=America/Chicago:20250321T130000
DTEND;TZID=America/Chicago:20250321T150000
DTSTAMP:20260425T120759
CREATED:20250301T184750Z
LAST-MODIFIED:20250301T184750Z
UID:3546-1742562000-1742569200@www.watonwancountylibrary.com
SUMMARY:Movie Matinee
DESCRIPTION:Join us in Madelia for an afternoon movie and popcorn! We will be showing “Fried Green Tomatoes”. 
URL:https://www.watonwancountylibrary.com/event/movie-matinee-2/
LOCATION:Madelia Branch Library\, 23 First Street NW\, Madelia\, MN\, 56062\, United States
CATEGORIES:Madelia Library
ATTACH;FMTTYPE=image/png:https://www.watonwancountylibrary.com/wp-content/uploads/Movie-Matinee-Event-Cover-2.png
END:VEVENT
BEGIN:VEVENT
DTSTART;TZID=America/Chicago:20250321T100000
DTEND;TZID=America/Chicago:20250321T120000
DTSTAMP:20260425T120759
CREATED:20250301T183046Z
LAST-MODIFIED:20250301T183046Z
UID:3542-1742551200-1742558400@www.watonwancountylibrary.com
SUMMARY:Memory Writing with Marion
DESCRIPTION:Join Marion Edgar Style as she guides you in recording your thoughts and memories. Refreshments will be served and journals will be provided.
URL:https://www.watonwancountylibrary.com/event/memory-writing-with-marion-23/
LOCATION:St. James Library\, 125 Fifth Street S\, St. James\, MN\, 56081\, United States
CATEGORIES:St. James Library
ATTACH;FMTTYPE=image/png:https://www.watonwancountylibrary.com/wp-content/uploads/WA-Memory-Writing-with-Marion.png
END:VEVENT
BEGIN:VEVENT
DTSTART;TZID=America/Chicago:20250319T150000
DTEND;TZID=America/Chicago:20250319T160000
DTSTAMP:20260425T120759
CREATED:20250301T182526Z
LAST-MODIFIED:20250301T182526Z
UID:3538-1742396400-1742400000@www.watonwancountylibrary.com
SUMMARY:Reader's Choice Book Club
DESCRIPTION:This reader’s choice book club is open to all adults and all books. Maybe you will leave with your next great read!
URL:https://www.watonwancountylibrary.com/event/readers-choice-book-club-19/
LOCATION:Butterfield Branch Library\, 111 N. Second Street\, Butterfield\, MN\, 56120\, United States
CATEGORIES:Butterfield Library
ATTACH;FMTTYPE=image/png:https://www.watonwancountylibrary.com/wp-content/uploads/WB-Readers-Choice-Book-Club.png
END:VEVENT
BEGIN:VEVENT
DTSTART;TZID=America/Chicago:20250318T180000
DTEND;TZID=America/Chicago:20250318T190000
DTSTAMP:20260425T120759
CREATED:20250301T182354Z
LAST-MODIFIED:20250301T182354Z
UID:3536-1742320800-1742324400@www.watonwancountylibrary.com
SUMMARY:Evening Storytime
DESCRIPTION:Join us in Madelia for an interactive evening storytime.
URL:https://www.watonwancountylibrary.com/event/evening-storytime-13/
LOCATION:Madelia Branch Library\, 23 First Street NW\, Madelia\, MN\, 56062\, United States
CATEGORIES:Madelia Library
ATTACH;FMTTYPE=image/png:https://www.watonwancountylibrary.com/wp-content/uploads/evening-storytime.png
END:VEVENT
BEGIN:VEVENT
DTSTART;TZID=America/Chicago:20250318T173000
DTEND;TZID=America/Chicago:20250318T183000
DTSTAMP:20260425T120759
CREATED:20250301T182939Z
LAST-MODIFIED:20250301T182939Z
UID:3540-1742319000-1742322600@www.watonwancountylibrary.com
SUMMARY:Library Board Meeting
DESCRIPTION:The library board meets monthly and is open to the public.
URL:https://www.watonwancountylibrary.com/event/library-board-meeting-4/
LOCATION:St. James Library\, 125 Fifth Street S\, St. James\, MN\, 56081\, United States
CATEGORIES:St. James Library
ATTACH;FMTTYPE=image/jpeg:https://www.watonwancountylibrary.com/wp-content/uploads/event-featured-board-meeting.jpg
END:VEVENT
BEGIN:VEVENT
DTSTART;TZID=America/Chicago:20250317T170000
DTEND;TZID=America/Chicago:20250317T180000
DTSTAMP:20260425T120759
CREATED:20250301T182216Z
LAST-MODIFIED:20250301T182216Z
UID:3534-1742230800-1742234400@www.watonwancountylibrary.com
SUMMARY:Yoga
DESCRIPTION:Registered Yoga Teacher: Roxanne Romsdahl \nLearn basic hatha yoga poses and breathing patterns to develop a home yoga practice for all ages. The focus will be on poses\, stretches\, and breath work to strengthen the body\, improve flexibility and balance\, and reduce anxiety.
URL:https://www.watonwancountylibrary.com/event/yoga-9/
LOCATION:St. James Library\, 125 Fifth Street S\, St. James\, MN\, 56081\, United States
CATEGORIES:St. James Library
ATTACH;FMTTYPE=image/png:https://www.watonwancountylibrary.com/wp-content/uploads/yoga-event-cover.png
END:VEVENT
BEGIN:VEVENT
DTSTART;TZID=America/Chicago:20250314T160000
DTEND;TZID=America/Chicago:20250314T170000
DTSTAMP:20260425T120759
CREATED:20250301T182104Z
LAST-MODIFIED:20250301T182104Z
UID:3532-1741968000-1741971600@www.watonwancountylibrary.com
SUMMARY:Sticker Making-Butterfield
DESCRIPTION:Kids can learn how to make their own stickers! All supplies will be provided. Children under the age of 7 need to bring an adult. 
URL:https://www.watonwancountylibrary.com/event/sticker-making-butterfield/
LOCATION:Butterfield Branch Library\, 111 N. Second Street\, Butterfield\, MN\, 56120\, United States
CATEGORIES:Butterfield Library
ATTACH;FMTTYPE=image/png:https://www.watonwancountylibrary.com/wp-content/uploads/0325-WAWBWMWL-Sticker-Making-Event-Cover.png
END:VEVENT
BEGIN:VEVENT
DTSTART;TZID=America/Chicago:20250314T153000
DTEND;TZID=America/Chicago:20250314T170000
DTSTAMP:20260425T120759
CREATED:20250301T182011Z
LAST-MODIFIED:20250301T182011Z
UID:3530-1741966200-1741971600@www.watonwancountylibrary.com
SUMMARY:Sticker Making-St. James
DESCRIPTION:Kids can learn how to make their own stickers! All supplies will be provided. Children under the age of 7 need to bring an adult. 
URL:https://www.watonwancountylibrary.com/event/sticker-making-st-james/
LOCATION:St. James Library\, 125 Fifth Street S\, St. James\, MN\, 56081\, United States
CATEGORIES:St. James Library
ATTACH;FMTTYPE=image/png:https://www.watonwancountylibrary.com/wp-content/uploads/0325-WAWBWMWL-Sticker-Making-Event-Cover.png
END:VEVENT
BEGIN:VEVENT
DTSTART;TZID=America/Chicago:20250313T160000
DTEND;TZID=America/Chicago:20250313T170000
DTSTAMP:20260425T120759
CREATED:20250301T181801Z
LAST-MODIFIED:20250301T181801Z
UID:3527-1741881600-1741885200@www.watonwancountylibrary.com
SUMMARY:History of Hamm's Beer in Minnesota
DESCRIPTION:Steve has been a collector and historian of Hamm’s Beer for 50 years.  He enjoys sharing the passion of collecting\, restoring signs\, and talking about the history and advertising of the Hamm’s Brewery that was originally located in St. Paul\, Minn.  He brings memorabilia and talks about the significance of the Hamm’s Brewery to the area. \nThis program is made possible by the voters of Minnesota through a grant provided by the Traverse des Sioux Library Cooperative\, thanks to a legislative appropriation from the arts and cultural heritage fund.
URL:https://www.watonwancountylibrary.com/event/history-of-hamms-beer-in-minnesota/
LOCATION:Darfur Branch Library\, 200 Adrian Street\, Darfur\, MN\, 56022\, United States
CATEGORIES:Darfur Library
ATTACH;FMTTYPE=image/png:https://www.watonwancountylibrary.com/wp-content/uploads/0325-WD-history-of-hamms-beer-event-cover.png
END:VEVENT
BEGIN:VEVENT
DTSTART;TZID=America/Chicago:20250311T160000
DTEND;TZID=America/Chicago:20250311T170000
DTSTAMP:20260425T120759
CREATED:20250227T175915Z
LAST-MODIFIED:20250227T175915Z
UID:3525-1741708800-1741712400@www.watonwancountylibrary.com
SUMMARY:Lego Club-Butterfield
DESCRIPTION:Calling all brick builders!  Kids are invited to join us for Lego Club at the library!  Bring your creativity and we’ll supply the Legos.
URL:https://www.watonwancountylibrary.com/event/lego-club-butterfield-7/
LOCATION:Butterfield Branch Library\, 111 N. Second Street\, Butterfield\, MN\, 56120\, United States
CATEGORIES:Butterfield Library
ATTACH;FMTTYPE=image/png:https://www.watonwancountylibrary.com/wp-content/uploads/Lego-Club-3.png
END:VEVENT
BEGIN:VEVENT
DTSTART;TZID=America/Chicago:20250310T173000
DTEND;TZID=America/Chicago:20250310T183000
DTSTAMP:20260425T120759
CREATED:20250227T164241Z
LAST-MODIFIED:20250227T164241Z
UID:3513-1741627800-1741631400@www.watonwancountylibrary.com
SUMMARY:MN Author Allen Eskens
DESCRIPTION:Join us as we host MN author Allen Eskens and he discusses his path in becoming a bestselling author\, as well as his approach to writing novels that are compelling and thought-provoking with a strong emotional core. He will also speak about his newest book “The Quiet Librarian” which is being read by our book club. There will be a Q&A portion with a book signing for those interested. \nThis program is made possible by the voters of Minnesota through a grant provided by the Traverse des Sioux Library Cooperative\, thanks to a legislative appropriation from the arts and cultural heritage fund.
URL:https://www.watonwancountylibrary.com/event/mn-author-allen-eskens/
LOCATION:St. James Library\, 125 Fifth Street S\, St. James\, MN\, 56081\, United States
CATEGORIES:St. James Library
ATTACH;FMTTYPE=image/png:https://www.watonwancountylibrary.com/wp-content/uploads/0325-WA-Allen-Eskens-Event-Cover.png
END:VEVENT
BEGIN:VEVENT
DTSTART;TZID=America/Chicago:20250310T160000
DTEND;TZID=America/Chicago:20250310T170000
DTSTAMP:20260425T120759
CREATED:20250227T172925Z
LAST-MODIFIED:20250227T172925Z
UID:3518-1741622400-1741626000@www.watonwancountylibrary.com
SUMMARY:Sticker Making-Lewisville
DESCRIPTION:Kids can learn how to make their own stickers! All supplies will be provided. Children under age 7 need to bring an adult. 
URL:https://www.watonwancountylibrary.com/event/sticker-making-lewisville/
LOCATION:MN
CATEGORIES:Lewisville Library
ATTACH;FMTTYPE=image/png:https://www.watonwancountylibrary.com/wp-content/uploads/0325-WAWBWMWL-Sticker-Making-Event-Cover.png
END:VEVENT
BEGIN:VEVENT
DTSTART;TZID=America/Chicago:20250310T100000
DTEND;TZID=America/Chicago:20250310T110000
DTSTAMP:20260425T120759
CREATED:20250227T175801Z
LAST-MODIFIED:20250227T175801Z
UID:3523-1741600800-1741604400@www.watonwancountylibrary.com
SUMMARY:Musical Mondays for Toddlers
DESCRIPTION:Enjoy music with your toddler as they dance and play with various instruments.  Best for ages 1-5.
URL:https://www.watonwancountylibrary.com/event/musical-mondays-for-toddlers/
LOCATION:St. James Library\, 125 Fifth Street S\, St. James\, MN\, 56081\, United States
CATEGORIES:St. James Library
ATTACH;FMTTYPE=image/png:https://www.watonwancountylibrary.com/wp-content/uploads/0125-Musical-Mondays-Cover.png
END:VEVENT
BEGIN:VEVENT
DTSTART;TZID=America/Chicago:20250308T100000
DTEND;TZID=America/Chicago:20250308T110000
DTSTAMP:20260425T120759
CREATED:20250227T175426Z
LAST-MODIFIED:20250227T175426Z
UID:3521-1741428000-1741431600@www.watonwancountylibrary.com
SUMMARY:Sensory Play
DESCRIPTION:For our littlest patrons\, ages 0-3\, and their caregivers.  Come explore all the different sensory stations!  Little ones will benefit from sensory play and maybe even meet some new friends. 
URL:https://www.watonwancountylibrary.com/event/sensory-play-9/
LOCATION:St. James Library\, 125 Fifth Street S\, St. James\, MN\, 56081\, United States
CATEGORIES:St. James Library
ATTACH;FMTTYPE=image/png:https://www.watonwancountylibrary.com/wp-content/uploads/WA-Sensory-Play.png
END:VEVENT
BEGIN:VEVENT
DTSTART;TZID=America/Chicago:20250306T153000
DTEND;TZID=America/Chicago:20250306T170000
DTSTAMP:20260425T120759
CREATED:20250227T164746Z
LAST-MODIFIED:20250227T164746Z
UID:3516-1741275000-1741280400@www.watonwancountylibrary.com
SUMMARY:Lego Club-Madelia
DESCRIPTION:Calling all brick builders!  Kids are invited to join us for Lego Club at the library!  Bring your creativity and we’ll supply the Legos.
URL:https://www.watonwancountylibrary.com/event/lego-club-madelia-4/
LOCATION:Madelia Branch Library\, 23 First Street NW\, Madelia\, MN\, 56062\, United States
CATEGORIES:Madelia Library
ATTACH;FMTTYPE=image/png:https://www.watonwancountylibrary.com/wp-content/uploads/Lego-Club-3.png
END:VEVENT
BEGIN:VEVENT
DTSTART;TZID=America/Chicago:20250304T100000
DTEND;TZID=America/Chicago:20250304T110000
DTSTAMP:20260425T120759
CREATED:20250227T163814Z
LAST-MODIFIED:20250227T163814Z
UID:3511-1741082400-1741086000@www.watonwancountylibrary.com
SUMMARY:Storytime/ Play Cafe
DESCRIPTION:Caregivers are invited to bring the little ones to an interactive storytime followed by a special playtime.  Please join us!
URL:https://www.watonwancountylibrary.com/event/storytime-play-cafe-11/
LOCATION:St. James Library\, 125 Fifth Street S\, St. James\, MN\, 56081\, United States
CATEGORIES:St. James Library
ATTACH;FMTTYPE=image/png:https://www.watonwancountylibrary.com/wp-content/uploads/StorytimePlay-Cafe-event-cover.png
END:VEVENT
BEGIN:VEVENT
DTSTART;TZID=America/Chicago:20250301T110000
DTEND;TZID=America/Chicago:20250301T123000
DTSTAMP:20260425T120759
CREATED:20250227T162534Z
LAST-MODIFIED:20250227T162534Z
UID:3506-1740826800-1740832200@www.watonwancountylibrary.com
SUMMARY:Blippi & Meekah Party-Madelia
DESCRIPTION:Come for activities centered around the beloved Blippi and Meekah characters!  Fun for all kids of all ages. Children under the age of 7 need to bring an adult. 
URL:https://www.watonwancountylibrary.com/event/blippi-meekah-party-madelia/
LOCATION:Madelia Branch Library\, 23 First Street NW\, Madelia\, MN\, 56062\, United States
CATEGORIES:Madelia Library
ATTACH;FMTTYPE=image/png:https://www.watonwancountylibrary.com/wp-content/uploads/BlippiMeekah-Party-Event-Cover.png
END:VEVENT
BEGIN:VEVENT
DTSTART;TZID=America/Chicago:20250301T100000
DTEND;TZID=America/Chicago:20250301T120000
DTSTAMP:20260425T120759
CREATED:20250227T163708Z
LAST-MODIFIED:20250227T163708Z
UID:3509-1740823200-1740830400@www.watonwancountylibrary.com
SUMMARY:Cribbage
DESCRIPTION:Whether you are a pro or just learning\, you will have fun playing cribbage at the library! We will also have refreshments.  Please note that Teri will not be there to teach at this session\, but we will have it set up for anyone who wants to play!
URL:https://www.watonwancountylibrary.com/event/cribbage-18/
LOCATION:St. James Library\, 125 Fifth Street S\, St. James\, MN\, 56081\, United States
CATEGORIES:St. James Library
ATTACH;FMTTYPE=image/png:https://www.watonwancountylibrary.com/wp-content/uploads/Untitled-design-1.png
END:VEVENT
BEGIN:VEVENT
DTSTART;TZID=America/Chicago:20250228T180000
DTEND;TZID=America/Chicago:20250228T190000
DTSTAMP:20260425T120759
CREATED:20250210T215327Z
LAST-MODIFIED:20250210T215327Z
UID:3502-1740765600-1740769200@www.watonwancountylibrary.com
SUMMARY:Family Retro Night
DESCRIPTION:This is a stellar opportunity to introduce your kids to super “fetch” games and toys that you played with growing up!  *Kids under age 7 must be accompanied by an adult.
URL:https://www.watonwancountylibrary.com/event/family-retro-night/
LOCATION:St. James Library\, 125 Fifth Street S\, St. James\, MN\, 56081\, United States
CATEGORIES:St. James Library
ATTACH;FMTTYPE=image/png:https://www.watonwancountylibrary.com/wp-content/uploads/0225-WA-Retro-Night-event-cover.png
END:VEVENT
BEGIN:VEVENT
DTSTART;TZID=America/Chicago:20250227T170000
DTEND;TZID=America/Chicago:20250227T190000
DTSTAMP:20260425T120759
CREATED:20250210T214855Z
LAST-MODIFIED:20250210T214855Z
UID:3500-1740675600-1740682800@www.watonwancountylibrary.com
SUMMARY:Knitting Club
DESCRIPTION:All levels of experience are welcome. Whether you want to learn or have a project to finish\, Tessa is here to help! 
URL:https://www.watonwancountylibrary.com/event/knitting-club-7/
LOCATION:St. James Library\, 125 Fifth Street S\, St. James\, MN\, 56081\, United States
CATEGORIES:St. James Library
ATTACH;FMTTYPE=image/png:https://www.watonwancountylibrary.com/wp-content/uploads/knitting-club-event-cover-1.png
END:VEVENT
END:VCALENDAR