BEGIN:VCALENDAR
VERSION:2.0
PRODID:-//Watonwan County Library - ECPv6.15.20//NONSGML v1.0//EN
CALSCALE:GREGORIAN
METHOD:PUBLISH
X-WR-CALNAME:Watonwan County Library
X-ORIGINAL-URL:https://www.watonwancountylibrary.com
X-WR-CALDESC:Events for Watonwan County Library
REFRESH-INTERVAL;VALUE=DURATION:PT1H
X-Robots-Tag:noindex
X-PUBLISHED-TTL:PT1H
BEGIN:VTIMEZONE
TZID:America/Chicago
BEGIN:DAYLIGHT
TZOFFSETFROM:-0600
TZOFFSETTO:-0500
TZNAME:CDT
DTSTART:20240310T080000
END:DAYLIGHT
BEGIN:STANDARD
TZOFFSETFROM:-0500
TZOFFSETTO:-0600
TZNAME:CST
DTSTART:20241103T070000
END:STANDARD
BEGIN:DAYLIGHT
TZOFFSETFROM:-0600
TZOFFSETTO:-0500
TZNAME:CDT
DTSTART:20250309T080000
END:DAYLIGHT
BEGIN:STANDARD
TZOFFSETFROM:-0500
TZOFFSETTO:-0600
TZNAME:CST
DTSTART:20251102T070000
END:STANDARD
BEGIN:DAYLIGHT
TZOFFSETFROM:-0600
TZOFFSETTO:-0500
TZNAME:CDT
DTSTART:20260308T080000
END:DAYLIGHT
BEGIN:STANDARD
TZOFFSETFROM:-0500
TZOFFSETTO:-0600
TZNAME:CST
DTSTART:20261101T070000
END:STANDARD
END:VTIMEZONE
BEGIN:VEVENT
DTSTART;TZID=America/Chicago:20250510T100000
DTEND;TZID=America/Chicago:20250510T110000
DTSTAMP:20260425T070414
CREATED:20250418T204558Z
LAST-MODIFIED:20250418T204558Z
UID:3664-1746871200-1746874800@www.watonwancountylibrary.com
SUMMARY:Sensory Play
DESCRIPTION:For our littlest patrons\, ages 0-3\, and their caregivers.  Come explore all the different sensory stations!  Little ones will benefit from sensory play and maybe even meet some new friends.
URL:https://www.watonwancountylibrary.com/event/sensory-play-10/
LOCATION:St. James Library\, 125 Fifth Street S\, St. James\, MN\, 56081\, United States
CATEGORIES:St. James Library
ATTACH;FMTTYPE=image/png:https://www.watonwancountylibrary.com/wp-content/uploads/WA-Sensory-Play.png
END:VEVENT
BEGIN:VEVENT
DTSTART;TZID=America/Chicago:20250509T160000
DTEND;TZID=America/Chicago:20250509T170000
DTSTAMP:20260425T070414
CREATED:20250418T195840Z
LAST-MODIFIED:20250418T195840Z
UID:3661-1746806400-1746810000@www.watonwancountylibrary.com
SUMMARY:Plastic Water Bottle Craft
DESCRIPTION:Kids will create a unique craft using recycled water bottles! This program is for kids in grades 3rd-6th.
URL:https://www.watonwancountylibrary.com/event/plastic-water-bottle-craft/
LOCATION:Butterfield Branch Library\, 111 N. Second Street\, Butterfield\, MN\, 56120\, United States
ATTACH;FMTTYPE=image/png:https://www.watonwancountylibrary.com/wp-content/uploads/0525-WA-WB-WL-Plastic-Water-Bottle-Craft-event-cover.png
END:VEVENT
BEGIN:VEVENT
DTSTART;TZID=America/Chicago:20250508T160000
DTEND;TZID=America/Chicago:20250508T170000
DTSTAMP:20260425T070414
CREATED:20250418T195507Z
LAST-MODIFIED:20250418T195507Z
UID:3659-1746720000-1746723600@www.watonwancountylibrary.com
SUMMARY:Author and Motivational Mental Health Speaker
DESCRIPTION:Join us during Mental Health Awareness Month as we hear James share his story of living with Bipolar Disorder.  He has written 4 different books on the subject and is an advocate for mental health awareness. He will also be speaking in St. James earlier in the day at 2:00 pm. 
URL:https://www.watonwancountylibrary.com/event/author-and-motivational-mental-health-speaker-2/
LOCATION:Madelia Branch Library\, 23 First Street NW\, Madelia\, MN\, 56062\, United States
CATEGORIES:Madelia Library
ATTACH;FMTTYPE=image/png:https://www.watonwancountylibrary.com/wp-content/uploads/0525-WA-WM-James-Stordahl-event-cover.png
END:VEVENT
BEGIN:VEVENT
DTSTART;TZID=America/Chicago:20250508T140000
DTEND;TZID=America/Chicago:20250508T160000
DTSTAMP:20260425T070414
CREATED:20250418T195352Z
LAST-MODIFIED:20250418T195352Z
UID:3656-1746712800-1746720000@www.watonwancountylibrary.com
SUMMARY:Author and Motivational Mental Health Speaker
DESCRIPTION:Join us during Mental Health Awareness Month as we hear James share his story of living with Bipolar Disorder.  He has written 4 different books on the subject and is an advocate for mental health awareness. He will also be speaking in Madelia at 4:00 pm. 
URL:https://www.watonwancountylibrary.com/event/author-and-motivational-mental-health-speaker/
LOCATION:St. James Library\, 125 Fifth Street S\, St. James\, MN\, 56081\, United States
CATEGORIES:St. James Library
ATTACH;FMTTYPE=image/png:https://www.watonwancountylibrary.com/wp-content/uploads/0525-WA-WM-James-Stordahl-event-cover.png
END:VEVENT
BEGIN:VEVENT
DTSTART;TZID=America/Chicago:20250506T160000
DTEND;TZID=America/Chicago:20250506T170000
DTSTAMP:20260425T070414
CREATED:20250418T195116Z
LAST-MODIFIED:20250418T195116Z
UID:3652-1746547200-1746550800@www.watonwancountylibrary.com
SUMMARY:Doodles in Chalk
DESCRIPTION:Kids in grades K-3 with a caregiver can paint the sidewalk with chalk (weather permitting).  In the event of rain\, you can do watercolor painting inside!
URL:https://www.watonwancountylibrary.com/event/doodles-in-chalk/
LOCATION:Madelia Branch Library\, 23 First Street NW\, Madelia\, MN\, 56062\, United States
ATTACH;FMTTYPE=image/png:https://www.watonwancountylibrary.com/wp-content/uploads/0525-WM-Doodle-in-Chalk-event-cover-1.png
END:VEVENT
BEGIN:VEVENT
DTSTART;TZID=America/Chicago:20250506T100000
DTEND;TZID=America/Chicago:20250506T110000
DTSTAMP:20260425T070414
CREATED:20250418T193715Z
LAST-MODIFIED:20250418T193715Z
UID:3650-1746525600-1746529200@www.watonwancountylibrary.com
SUMMARY:Storytime/Play Cafe
DESCRIPTION:Caregivers are invited to bring the little ones to an interactive storytime followed by a special playtime.  Please join us!
URL:https://www.watonwancountylibrary.com/event/storytime-play-cafe-13/
LOCATION:St. James Library\, 125 Fifth Street S\, St. James\, MN\, 56081\, United States
CATEGORIES:St. James Library
ATTACH;FMTTYPE=image/png:https://www.watonwancountylibrary.com/wp-content/uploads/StorytimePlay-Cafe-event-cover.png
END:VEVENT
BEGIN:VEVENT
DTSTART;TZID=America/Chicago:20250505T173000
DTEND;TZID=America/Chicago:20250505T183000
DTSTAMP:20260425T070414
CREATED:20250418T193404Z
LAST-MODIFIED:20250418T193441Z
UID:3648-1746466200-1746469800@www.watonwancountylibrary.com
SUMMARY:Evening Storytime
DESCRIPTION:Kids and their caregivers are invited to the library for a cute storytime and activity!
URL:https://www.watonwancountylibrary.com/event/evening-storytime-15/
LOCATION:Butterfield Branch Library\, 111 N. Second Street\, Butterfield\, MN\, 56120\, United States
CATEGORIES:Butterfield Library
ATTACH;FMTTYPE=image/png:https://www.watonwancountylibrary.com/wp-content/uploads/evening-storytime.png
END:VEVENT
BEGIN:VEVENT
DTSTART;TZID=America/Chicago:20250505T140000
DTEND;TZID=America/Chicago:20250505T160000
DTSTAMP:20260425T070414
CREATED:20250418T193233Z
LAST-MODIFIED:20250418T193233Z
UID:3646-1746453600-1746460800@www.watonwancountylibrary.com
SUMMARY:Monday Movie Matinee
DESCRIPTION:Join us at the Madelia Library for a showing of  “Dear John”. Fresh hot popcorn will be served.
URL:https://www.watonwancountylibrary.com/event/monday-movie-matinee-2/
LOCATION:Madelia Branch Library\, 23 First Street NW\, Madelia\, MN\, 56062\, United States
CATEGORIES:Madelia Library
ATTACH;FMTTYPE=image/png:https://www.watonwancountylibrary.com/wp-content/uploads/Movie-Matinee-Event-Cover-2.png
END:VEVENT
BEGIN:VEVENT
DTSTART;TZID=America/Chicago:20250503T120000
DTEND;TZID=America/Chicago:20250503T140000
DTSTAMP:20260425T070414
CREATED:20250418T192646Z
LAST-MODIFIED:20250418T192646Z
UID:3636-1746273600-1746280800@www.watonwancountylibrary.com
SUMMARY:Coffee and Conversation
DESCRIPTION:Come enjoy a cup of coffee and some conversation each Saturday.
URL:https://www.watonwancountylibrary.com/event/coffee-and-conversation-6/
LOCATION:Darfur Branch Library\, 200 Adrian Street\, Darfur\, MN\, 56022\, United States
CATEGORIES:Darfur Library
ATTACH;FMTTYPE=image/png:https://www.watonwancountylibrary.com/wp-content/uploads/coffee-and-conversation-event-cover.png
END:VEVENT
BEGIN:VEVENT
DTSTART;TZID=America/Chicago:20250429T151500
DTEND;TZID=America/Chicago:20250429T170000
DTSTAMP:20260425T070414
CREATED:20250331T164727Z
LAST-MODIFIED:20250331T164727Z
UID:3629-1745939700-1745946000@www.watonwancountylibrary.com
SUMMARY:Movie Bingo-Butterfield
DESCRIPTION:Let’s play bingo while watching a movie!
URL:https://www.watonwancountylibrary.com/event/movie-bingo-butterfield/
LOCATION:Butterfield Branch Library\, 111 N. Second Street\, Butterfield\, MN\, 56120\, United States
CATEGORIES:Butterfield Library
ATTACH;FMTTYPE=image/png:https://www.watonwancountylibrary.com/wp-content/uploads/0425-Movie-Bingo.png
END:VEVENT
BEGIN:VEVENT
DTSTART;TZID=America/Chicago:20250426T100000
DTEND;TZID=America/Chicago:20250426T110000
DTSTAMP:20260425T070414
CREATED:20250331T164543Z
LAST-MODIFIED:20250331T164543Z
UID:3625-1745661600-1745665200@www.watonwancountylibrary.com
SUMMARY:Book Mark Creator
DESCRIPTION:Kids are invited to get creative coloring and making their own bookmarks at the library!
URL:https://www.watonwancountylibrary.com/event/book-mark-creator/
LOCATION:Lewisville Branch Library\, 129 Lewis Street W\, Lewisville\, MN\, 56060\, United States
CATEGORIES:Lewisville Library
END:VEVENT
BEGIN:VEVENT
DTSTART;TZID=America/Chicago:20250425T153000
DTEND;TZID=America/Chicago:20250425T170000
DTSTAMP:20260425T070414
CREATED:20250331T164045Z
LAST-MODIFIED:20250331T164045Z
UID:3623-1745595000-1745600400@www.watonwancountylibrary.com
SUMMARY:Perler Beads-Madelia
DESCRIPTION:Kids in grades 1st and up are invited to come and create with Perler Beads at the library!  All supplies will be provided.
URL:https://www.watonwancountylibrary.com/event/perler-beads-madelia/
LOCATION:Madelia Branch Library\, 23 First Street NW\, Madelia\, MN\, 56062\, United States
CATEGORIES:Madelia Library
ATTACH;FMTTYPE=image/png:https://www.watonwancountylibrary.com/wp-content/uploads/0425-Perler-Bead-Party.png
END:VEVENT
BEGIN:VEVENT
DTSTART;TZID=America/Chicago:20250425T153000
DTEND;TZID=America/Chicago:20250425T170000
DTSTAMP:20260425T070414
CREATED:20250331T163916Z
LAST-MODIFIED:20250331T163916Z
UID:3621-1745595000-1745600400@www.watonwancountylibrary.com
SUMMARY:Movie Bingo-St. James
DESCRIPTION:Kids will play a game of bingo while watching a movie-Double the fun!
URL:https://www.watonwancountylibrary.com/event/movie-bingo-st-james/
LOCATION:St. James Library\, 125 Fifth Street S\, St. James\, MN\, 56081\, United States
CATEGORIES:St. James Library
ATTACH;FMTTYPE=image/png:https://www.watonwancountylibrary.com/wp-content/uploads/0425-Movie-Bingo.png
END:VEVENT
BEGIN:VEVENT
DTSTART;TZID=America/Chicago:20250424T170000
DTEND;TZID=America/Chicago:20250424T190000
DTSTAMP:20260425T070414
CREATED:20250321T010700Z
LAST-MODIFIED:20250418T191802Z
UID:3587-1745514000-1745521200@www.watonwancountylibrary.com
SUMMARY:Knitting Club
DESCRIPTION:All levels of experience are welcome. Whether you want to learn or have a project to finish\, Tessa is here to help!
URL:https://www.watonwancountylibrary.com/event/knitting-club-8/
LOCATION:St. James Library\, 125 Fifth Street S\, St. James\, MN\, 56081\, United States
CATEGORIES:St. James Library
ATTACH;FMTTYPE=image/png:https://www.watonwancountylibrary.com/wp-content/uploads/knitting-club-event-cover-2.png
END:VEVENT
BEGIN:VEVENT
DTSTART;TZID=America/Chicago:20250424T150000
DTEND;TZID=America/Chicago:20250424T170000
DTSTAMP:20260425T070414
CREATED:20250331T163821Z
LAST-MODIFIED:20250331T163821Z
UID:3619-1745506800-1745514000@www.watonwancountylibrary.com
SUMMARY:Adventure Club-Madelia
DESCRIPTION:In collaboration with the MN Extension Office and Community Ed\, we will be holding Adventure Club at the elementary school in the STEM lab. Kids will get information from school about how to sign up.
URL:https://www.watonwancountylibrary.com/event/adventure-club-madelia-12/
LOCATION:Madelia Elementary School
CATEGORIES:Madelia Library
ATTACH;FMTTYPE=image/png:https://www.watonwancountylibrary.com/wp-content/uploads/adventure-club.png
END:VEVENT
BEGIN:VEVENT
DTSTART;TZID=America/Chicago:20250422T180000
DTEND;TZID=America/Chicago:20250422T190000
DTSTAMP:20260425T070414
CREATED:20250331T162633Z
LAST-MODIFIED:20250331T163657Z
UID:3617-1745344800-1745348400@www.watonwancountylibrary.com
SUMMARY:Evening Storytime
DESCRIPTION:Join us in Madelia for an interactive evening storytime.
URL:https://www.watonwancountylibrary.com/event/evening-storytime-14/
LOCATION:Madelia Branch Library\, 23 First Street NW\, Madelia\, MN\, 56062\, United States
CATEGORIES:Madelia Library
ATTACH;FMTTYPE=image/png:https://www.watonwancountylibrary.com/wp-content/uploads/evening-storytime.png
END:VEVENT
BEGIN:VEVENT
DTSTART;TZID=America/Chicago:20250422T160000
DTEND;TZID=America/Chicago:20250422T170000
DTSTAMP:20260425T070414
CREATED:20250331T162318Z
LAST-MODIFIED:20250331T162318Z
UID:3615-1745337600-1745341200@www.watonwancountylibrary.com
SUMMARY:Lego Club-Butterfield
DESCRIPTION:Calling all brick builders!  Kids are invited to join us for Lego Club at the library!  Bring your creativity and we’ll supply the Legos. 
URL:https://www.watonwancountylibrary.com/event/lego-club-butterfield-8/
LOCATION:Butterfield Branch Library\, 111 N. Second Street\, Butterfield\, MN\, 56120\, United States
CATEGORIES:Butterfield Library
ATTACH;FMTTYPE=image/png:https://www.watonwancountylibrary.com/wp-content/uploads/Lego-Club-3.png
END:VEVENT
BEGIN:VEVENT
DTSTART;TZID=America/Chicago:20250421T173000
DTEND;TZID=America/Chicago:20250421T183000
DTSTAMP:20260425T070414
CREATED:20250321T010520Z
LAST-MODIFIED:20250321T010520Z
UID:3585-1745256600-1745260200@www.watonwancountylibrary.com
SUMMARY:DIY Alcohol Ink Trinket Dish
DESCRIPTION:Adults will learn how to use alcohol inks to create a beautiful design on a ceramic dish to use for rings and any other trinkets at home. Supplies are provided but spots are limited.  To sign up\, please call 507-375-1278.
URL:https://www.watonwancountylibrary.com/event/diy-alcohol-ink-trinket-dish/
LOCATION:St. James Library\, 125 Fifth Street S\, St. James\, MN\, 56081\, United States
CATEGORIES:St. James Library
ATTACH;FMTTYPE=image/png:https://www.watonwancountylibrary.com/wp-content/uploads/0225-WB-WL-DIY-Alcohol-Ink-Trinket-Dish-1920-x-1080-px.png
END:VEVENT
BEGIN:VEVENT
DTSTART;TZID=America/Chicago:20250418T140000
DTEND;TZID=America/Chicago:20250418T160000
DTSTAMP:20260425T070414
CREATED:20250321T010344Z
LAST-MODIFIED:20250321T010344Z
UID:3583-1744984800-1744992000@www.watonwancountylibrary.com
SUMMARY:Friday Flicks
DESCRIPTION:Join us at the St. James Library for a showing of  “Red Tails”. Fresh hot popcorn will be served.
URL:https://www.watonwancountylibrary.com/event/friday-flicks-24/
LOCATION:St. James Library\, 125 Fifth Street S\, St. James\, MN\, 56081\, United States
CATEGORIES:St. James Library
ATTACH;FMTTYPE=image/png:https://www.watonwancountylibrary.com/wp-content/uploads/WA-Friday-Flicks.png
END:VEVENT
BEGIN:VEVENT
DTSTART;TZID=America/Chicago:20250418T100000
DTEND;TZID=America/Chicago:20250418T110000
DTSTAMP:20260425T070414
CREATED:20250321T005952Z
LAST-MODIFIED:20250321T005952Z
UID:3580-1744970400-1744974000@www.watonwancountylibrary.com
SUMMARY:Memory Writing with Marion
DESCRIPTION:Join Marion Edgar Style as she guides you in recording your thoughts and memories. Refreshments will be served and journals will be provided.
URL:https://www.watonwancountylibrary.com/event/memory-writing-with-marion-24/
LOCATION:St. James Library\, 125 Fifth Street S\, St. James\, MN\, 56081\, United States
CATEGORIES:St. James Library
ATTACH;FMTTYPE=image/png:https://www.watonwancountylibrary.com/wp-content/uploads/WA-Memory-Writing-with-Marion.png
END:VEVENT
BEGIN:VEVENT
DTSTART;TZID=America/Chicago:20250417T153000
DTEND;TZID=America/Chicago:20250417T170000
DTSTAMP:20260425T070414
CREATED:20250331T162126Z
LAST-MODIFIED:20250331T162126Z
UID:3612-1744903800-1744909200@www.watonwancountylibrary.com
SUMMARY:Lego Club-Madelia
DESCRIPTION:Calling all brick builders!  Kids are invited to join us for Lego Club at the library!  Bring your creativity and we’ll supply the Legos.
URL:https://www.watonwancountylibrary.com/event/lego-club-madelia-5/
LOCATION:Madelia Branch Library\, 23 First Street NW\, Madelia\, MN\, 56062\, United States
CATEGORIES:Madelia Library
ATTACH;FMTTYPE=image/png:https://www.watonwancountylibrary.com/wp-content/uploads/Lego-Club-3.png
END:VEVENT
BEGIN:VEVENT
DTSTART;TZID=America/Chicago:20250416T150000
DTEND;TZID=America/Chicago:20250416T160000
DTSTAMP:20260425T070414
CREATED:20250321T005756Z
LAST-MODIFIED:20250321T005756Z
UID:3578-1744815600-1744819200@www.watonwancountylibrary.com
SUMMARY:Reader's Choice Book Club
DESCRIPTION:This reader’s choice book club is open to all adults and all books. Maybe you will leave with your next great read!
URL:https://www.watonwancountylibrary.com/event/readers-choice-book-club-20/
LOCATION:Butterfield Branch Library\, 111 N. Second Street\, Butterfield\, MN\, 56120\, United States
CATEGORIES:St. James Library
ATTACH;FMTTYPE=image/png:https://www.watonwancountylibrary.com/wp-content/uploads/WB-Readers-Choice-Book-Club.png
END:VEVENT
BEGIN:VEVENT
DTSTART;TZID=America/Chicago:20250415T173000
DTEND;TZID=America/Chicago:20250415T183000
DTSTAMP:20260425T070414
CREATED:20250321T005601Z
LAST-MODIFIED:20250321T005601Z
UID:3576-1744738200-1744741800@www.watonwancountylibrary.com
SUMMARY:Library Board Meeting
DESCRIPTION:The library board meets monthly and is open to the public.
URL:https://www.watonwancountylibrary.com/event/library-board-meeting-5/
LOCATION:St. James Library\, 125 Fifth Street S\, St. James\, MN\, 56081\, United States
CATEGORIES:St. James Library
ATTACH;FMTTYPE=image/jpeg:https://www.watonwancountylibrary.com/wp-content/uploads/event-featured-board-meeting.jpg
END:VEVENT
BEGIN:VEVENT
DTSTART;TZID=America/Chicago:20250415T160000
DTEND;TZID=America/Chicago:20250415T170000
DTSTAMP:20260425T070414
CREATED:20250331T161859Z
LAST-MODIFIED:20250331T161859Z
UID:3609-1744732800-1744736400@www.watonwancountylibrary.com
SUMMARY:Perler Beads-Butterfield
DESCRIPTION:Kids in grades 1st and up are invited to come and create with Perler Beads at the library!  All supplies will be provided.
URL:https://www.watonwancountylibrary.com/event/perler-beads-butterfield/
LOCATION:Butterfield Branch Library\, 111 N. Second Street\, Butterfield\, MN\, 56120\, United States
CATEGORIES:Butterfield Library
ATTACH;FMTTYPE=image/png:https://www.watonwancountylibrary.com/wp-content/uploads/0425-Perler-Bead-Party.png
END:VEVENT
BEGIN:VEVENT
DTSTART;TZID=America/Chicago:20250414T183000
DTEND;TZID=America/Chicago:20250414T193000
DTSTAMP:20260425T070414
CREATED:20250321T005349Z
LAST-MODIFIED:20250321T005349Z
UID:3574-1744655400-1744659000@www.watonwancountylibrary.com
SUMMARY:Novels by Night Book Club
DESCRIPTION:We will be discussing the book “Iona Iverson’s Rules for Commuting” by Claire Pooley. Contact the library for a copy. Please contact Shirley at 375-1278 if interested in joining virtually.
URL:https://www.watonwancountylibrary.com/event/novels-by-night-book-club-23/
LOCATION:St. James Library\, 125 Fifth Street S\, St. James\, MN\, 56081\, United States
CATEGORIES:St. James Library
ATTACH;FMTTYPE=image/png:https://www.watonwancountylibrary.com/wp-content/uploads/Novels-by-Night.png
END:VEVENT
BEGIN:VEVENT
DTSTART;TZID=America/Chicago:20250414T170000
DTEND;TZID=America/Chicago:20250414T180000
DTSTAMP:20260425T070414
CREATED:20250321T005216Z
LAST-MODIFIED:20250321T005216Z
UID:3572-1744650000-1744653600@www.watonwancountylibrary.com
SUMMARY:Yoga
DESCRIPTION:Registered Yoga Teacher: Roxanne Romsdahl \nLearn basic hatha yoga poses and breathing patterns to develop a home yoga practice for all ages. The focus will be on poses\, stretches\, and breath work to strengthen the body\, improve flexibility and balance\, and reduce anxiety.
URL:https://www.watonwancountylibrary.com/event/yoga-10/
LOCATION:St. James Library\, 125 Fifth Street S\, St. James\, MN\, 56081\, United States
CATEGORIES:St. James Library
ATTACH;FMTTYPE=image/png:https://www.watonwancountylibrary.com/wp-content/uploads/yoga-event-cover.png
END:VEVENT
BEGIN:VEVENT
DTSTART;TZID=America/Chicago:20250414T153000
DTEND;TZID=America/Chicago:20250414T170000
DTSTAMP:20260425T070414
CREATED:20250331T161727Z
LAST-MODIFIED:20250331T161727Z
UID:3607-1744644600-1744650000@www.watonwancountylibrary.com
SUMMARY:Adventure Club-Butterfield
DESCRIPTION:In collaboration with the MN Extension Office and Community Ed\, we will be holding Adventure Club at the school in the cafeteria. Kids will get information from school about how to sign up.
URL:https://www.watonwancountylibrary.com/event/adventure-club-butterfield-12/
LOCATION:Butterfield-Odin School
CATEGORIES:Butterfield Library
ATTACH;FMTTYPE=image/png:https://www.watonwancountylibrary.com/wp-content/uploads/adventure-club.png
END:VEVENT
BEGIN:VEVENT
DTSTART;TZID=America/Chicago:20250414T100000
DTEND;TZID=America/Chicago:20250414T110000
DTSTAMP:20260425T070414
CREATED:20250331T161220Z
LAST-MODIFIED:20250331T161220Z
UID:3605-1744624800-1744628400@www.watonwancountylibrary.com
SUMMARY:Musical Monday for Toddlers
DESCRIPTION:Enjoy music with your toddler as they dance and play with various instruments.  Best for ages 1-5.
URL:https://www.watonwancountylibrary.com/event/musical-monday-for-toddlers-2/
LOCATION:St. James Library\, 125 Fifth Street S\, St. James\, MN\, 56081\, United States
CATEGORIES:St. James Library
ATTACH;FMTTYPE=image/png:https://www.watonwancountylibrary.com/wp-content/uploads/0125-Musical-Mondays-Cover.png
END:VEVENT
BEGIN:VEVENT
DTSTART;TZID=America/Chicago:20250412T100000
DTEND;TZID=America/Chicago:20250412T110000
DTSTAMP:20260425T070414
CREATED:20250331T161048Z
LAST-MODIFIED:20250331T161048Z
UID:3603-1744452000-1744455600@www.watonwancountylibrary.com
SUMMARY:Sensory Play Cafe
DESCRIPTION:For our littlest patrons\, ages 0-3\, and their caregivers.  Come explore all the different sensory stations!  Little ones will benefit from sensory play and maybe even meet some new friends. 
URL:https://www.watonwancountylibrary.com/event/sensory-play-cafe-9/
LOCATION:St. James Library\, 125 Fifth Street S\, St. James\, MN\, 56081\, United States
CATEGORIES:St. James Library
ATTACH;FMTTYPE=image/png:https://www.watonwancountylibrary.com/wp-content/uploads/WA-Sensory-Play.png
END:VEVENT
BEGIN:VEVENT
DTSTART;TZID=America/Chicago:20250411T160000
DTEND;TZID=America/Chicago:20250411T170000
DTSTAMP:20260425T070414
CREATED:20250331T160939Z
LAST-MODIFIED:20250331T160939Z
UID:3601-1744387200-1744390800@www.watonwancountylibrary.com
SUMMARY:Perler Beads-Lewisville
DESCRIPTION:Kids in grades 1st and up are invited to come and create with Perler Beads at the library!  All supplies will be provided.
URL:https://www.watonwancountylibrary.com/event/perler-beads-lewisville/
LOCATION:Lewisville Branch Library\, 129 Lewis Street W\, Lewisville\, MN\, 56060\, United States
CATEGORIES:Lewisville Library
ATTACH;FMTTYPE=image/png:https://www.watonwancountylibrary.com/wp-content/uploads/0425-Perler-Bead-Party.png
END:VEVENT
END:VCALENDAR