BEGIN:VCALENDAR
VERSION:2.0
PRODID:-//Watonwan County Library - ECPv6.15.20//NONSGML v1.0//EN
CALSCALE:GREGORIAN
METHOD:PUBLISH
X-WR-CALNAME:Watonwan County Library
X-ORIGINAL-URL:https://www.watonwancountylibrary.com
X-WR-CALDESC:Events for Watonwan County Library
REFRESH-INTERVAL;VALUE=DURATION:PT1H
X-Robots-Tag:noindex
X-PUBLISHED-TTL:PT1H
BEGIN:VTIMEZONE
TZID:America/Chicago
BEGIN:DAYLIGHT
TZOFFSETFROM:-0600
TZOFFSETTO:-0500
TZNAME:CDT
DTSTART:20240310T080000
END:DAYLIGHT
BEGIN:STANDARD
TZOFFSETFROM:-0500
TZOFFSETTO:-0600
TZNAME:CST
DTSTART:20241103T070000
END:STANDARD
BEGIN:DAYLIGHT
TZOFFSETFROM:-0600
TZOFFSETTO:-0500
TZNAME:CDT
DTSTART:20250309T080000
END:DAYLIGHT
BEGIN:STANDARD
TZOFFSETFROM:-0500
TZOFFSETTO:-0600
TZNAME:CST
DTSTART:20251102T070000
END:STANDARD
BEGIN:DAYLIGHT
TZOFFSETFROM:-0600
TZOFFSETTO:-0500
TZNAME:CDT
DTSTART:20260308T080000
END:DAYLIGHT
BEGIN:STANDARD
TZOFFSETFROM:-0500
TZOFFSETTO:-0600
TZNAME:CST
DTSTART:20261101T070000
END:STANDARD
END:VTIMEZONE
BEGIN:VEVENT
DTSTART;VALUE=DATE:20250704
DTEND;VALUE=DATE:20250705
DTSTAMP:20260424T223006
CREATED:20250701T225316Z
LAST-MODIFIED:20250701T225316Z
UID:3831-1751587200-1751673599@www.watonwancountylibrary.com
SUMMARY:Independence Day
DESCRIPTION:ALL WATONWAN COUNTY LIBRARIES CLOSED
URL:https://www.watonwancountylibrary.com/event/independence-day/
LOCATION:MN
CATEGORIES:Butterfield Library,Darfur Library,Lewisville Library,Madelia Library,St. James Library
ATTACH;FMTTYPE=image/png:https://www.watonwancountylibrary.com/wp-content/uploads/Copy-of-Closed-for-July-4th.png
END:VEVENT
BEGIN:VEVENT
DTSTART;TZID=America/Chicago:20250703T153000
DTEND;TZID=America/Chicago:20250703T170000
DTSTAMP:20260424T223006
CREATED:20250701T225050Z
LAST-MODIFIED:20250701T225050Z
UID:3829-1751556600-1751562000@www.watonwancountylibrary.com
SUMMARY:Lego Club-St. James
DESCRIPTION:Calling all brick builders!  Kids are invited to join us for Lego Club at the library!  Bring your creativity and we’ll supply the Legos
URL:https://www.watonwancountylibrary.com/event/lego-club-st-james-8/
LOCATION:MN
CATEGORIES:St. James Library
ATTACH;FMTTYPE=image/png:https://www.watonwancountylibrary.com/wp-content/uploads/Lego-Club-3.png
END:VEVENT
BEGIN:VEVENT
DTSTART;TZID=America/Chicago:20250702T170000
DTEND;TZID=America/Chicago:20250702T190000
DTSTAMP:20260424T223006
CREATED:20250527T213445Z
LAST-MODIFIED:20250624T170005Z
UID:3763-1751475600-1751482800@www.watonwancountylibrary.com
SUMMARY:Music in the Park
DESCRIPTION:**UPDATE:  THIS PERFORMANCE HAS BEEN RESCHEDULED (FROM 6/25 TO 7/2) DUE TO THE WEATHER FORECAST.  The city of St. James and the Watonwan County Library have teamed up to bring back Music in the Park this summer!  Bring the whole family to the bandshell at Memorial Park for this fun event! Food Trucks will be available beginning at 5:00 pm.
URL:https://www.watonwancountylibrary.com/event/music-in-the-park-5/
LOCATION:Memorial Park-St. James
CATEGORIES:St. James Library
ATTACH;FMTTYPE=image/png:https://www.watonwancountylibrary.com/wp-content/uploads/62525-Music-in-the-Park-2025-event-cover-1.png
END:VEVENT
BEGIN:VEVENT
DTSTART;TZID=America/Chicago:20250630T173000
DTEND;TZID=America/Chicago:20250630T183000
DTSTAMP:20260424T223006
CREATED:20250606T191705Z
LAST-MODIFIED:20250606T191705Z
UID:3823-1751304600-1751308200@www.watonwancountylibrary.com
SUMMARY:Busted Canvas Art for Adults-St. James
DESCRIPTION:Learn the artful busted canvas technique to create a unique piece of art to hang in your home or give as a gift! To sign up\, call 507-375-1278.
URL:https://www.watonwancountylibrary.com/event/busted-canvas-art-for-adults-st-james/
LOCATION:St. James Library\, 125 Fifth Street S\, St. James\, MN\, 56081\, United States
CATEGORIES:St. James Library
ATTACH;FMTTYPE=image/png:https://www.watonwancountylibrary.com/wp-content/uploads/0625-Busted-Canvas-Art-for-Adults-1920-x-1080-px-event-cover.png
END:VEVENT
BEGIN:VEVENT
DTSTART;TZID=America/Chicago:20250630T170000
DTEND;TZID=America/Chicago:20250630T180000
DTSTAMP:20260424T223006
CREATED:20250606T191552Z
LAST-MODIFIED:20250606T191552Z
UID:3820-1751302800-1751306400@www.watonwancountylibrary.com
SUMMARY:Cutting Board String Art for Adults
DESCRIPTION:Come and create a one-of-a-kind cutting board to display in your kitchen.  Be prepared to do a little hammering!  To sign up\, please call 507-956-2361.
URL:https://www.watonwancountylibrary.com/event/cutting-board-string-art-for-adults/
LOCATION:Butterfield Branch Library\, 111 N. Second Street\, Butterfield\, MN\, 56120\, United States
CATEGORIES:Butterfield Library
ATTACH;FMTTYPE=image/png:https://www.watonwancountylibrary.com/wp-content/uploads/0625-WB-STRING-ART-event-cover.png
END:VEVENT
BEGIN:VEVENT
DTSTART;TZID=America/Chicago:20250627T153000
DTEND;TZID=America/Chicago:20250627T170000
DTSTAMP:20260424T223006
CREATED:20250606T191300Z
LAST-MODIFIED:20250606T191300Z
UID:3818-1751038200-1751043600@www.watonwancountylibrary.com
SUMMARY:Art Attack-St. James
DESCRIPTION:Come in and create your own beautiful design using beans. This activity is for kids in grades 1st-6th.
URL:https://www.watonwancountylibrary.com/event/art-attack-st-james-3/
LOCATION:St. James Library\, 125 Fifth Street S\, St. James\, MN\, 56081\, United States
CATEGORIES:St. James Library
ATTACH;FMTTYPE=image/png:https://www.watonwancountylibrary.com/wp-content/uploads/2-1.png
END:VEVENT
BEGIN:VEVENT
DTSTART;TZID=America/Chicago:20250627T140000
DTEND;TZID=America/Chicago:20250627T160000
DTSTAMP:20260424T223006
CREATED:20250606T191131Z
LAST-MODIFIED:20250606T191131Z
UID:3816-1751032800-1751040000@www.watonwancountylibrary.com
SUMMARY:Movie Madness for Kids
DESCRIPTION:Get out of the heat and enjoy a movie and popcorn at the library!  Feel free to bring your own water bottle.  Parents and grandparents are welcome to join too\, of course!
URL:https://www.watonwancountylibrary.com/event/movie-madness-for-kids-2/
LOCATION:Madelia Branch Library\, 23 First Street NW\, Madelia\, MN\, 56062\, United States
CATEGORIES:Madelia Library
ATTACH;FMTTYPE=image/png:https://www.watonwancountylibrary.com/wp-content/uploads/0625-Movie-Madness-event-cover.png
END:VEVENT
BEGIN:VEVENT
DTSTART;TZID=America/Chicago:20250626T170000
DTEND;TZID=America/Chicago:20250626T190000
DTSTAMP:20260424T223006
CREATED:20250606T191037Z
LAST-MODIFIED:20250606T191037Z
UID:3814-1750957200-1750964400@www.watonwancountylibrary.com
SUMMARY:Knitting Club
DESCRIPTION:All levels of experience are welcome. Whether you want to learn or have a project to finish\, Tessa is here to help! 
URL:https://www.watonwancountylibrary.com/event/knitting-club-9/
LOCATION:St. James Library\, 125 Fifth Street S\, St. James\, MN\, 56081\, United States
CATEGORIES:St. James Library
ATTACH;FMTTYPE=image/png:https://www.watonwancountylibrary.com/wp-content/uploads/knitting-club-event-cover-2.png
END:VEVENT
BEGIN:VEVENT
DTSTART;TZID=America/Chicago:20250626T160000
DTEND;TZID=America/Chicago:20250626T170000
DTSTAMP:20260424T223006
CREATED:20250606T190943Z
LAST-MODIFIED:20250624T200832Z
UID:3812-1750953600-1750957200@www.watonwancountylibrary.com
SUMMARY:CANCELLED-Canning Ring Rag Flower Craft
DESCRIPTION:Come and learn how to make canning ring rag flowers at the library!  Free and all supplies provided.  To sign up\, please call 507-877-5010 or 507-375-1278.
URL:https://www.watonwancountylibrary.com/event/canning-ring-rag-flower-craft/
LOCATION:Darfur Branch Library\, 200 Adrian Street\, Darfur\, MN\, 56022\, United States
CATEGORIES:Darfur Library
ATTACH;FMTTYPE=image/png:https://www.watonwancountylibrary.com/wp-content/uploads/DIY-Canning-Ring-Sunflower-Event-Cover.png
END:VEVENT
BEGIN:VEVENT
DTSTART;TZID=America/Chicago:20250625T150000
DTEND;TZID=America/Chicago:20250625T160000
DTSTAMP:20260424T223006
CREATED:20250606T190810Z
LAST-MODIFIED:20250606T190810Z
UID:3810-1750863600-1750867200@www.watonwancountylibrary.com
SUMMARY:Bingo for Kids-Lewisville
DESCRIPTION:Kids in grades 1-3 are invited to play Bingo and win prizes at the library!
URL:https://www.watonwancountylibrary.com/event/bingo-for-kids-lewisville/
LOCATION:Lewisville Branch Library\, 129 Lewis Street W\, Lewisville\, MN\, 56060\, United States
CATEGORIES:Lewisville Library
ATTACH;FMTTYPE=image/png:https://www.watonwancountylibrary.com/wp-content/uploads/0625-WB-WL-Bingo-Night-event-cover.png
END:VEVENT
BEGIN:VEVENT
DTSTART;TZID=America/Chicago:20250624T180000
DTEND;TZID=America/Chicago:20250624T190000
DTSTAMP:20260424T223006
CREATED:20250606T190707Z
LAST-MODIFIED:20250606T190707Z
UID:3808-1750788000-1750791600@www.watonwancountylibrary.com
SUMMARY:Clue Murder Mystery for Teens
DESCRIPTION:Get ready for Clue like you’ve never played it before! No board\, no scripts—JUST FUN! A real life scavenger hunt- all in a race to be the first to discover who murdered Mr. Boddy\, where they did it\, and what they did it with.  No need to sign up\, just gather some friends and show up!  *Prize for whoever solves the crime first!
URL:https://www.watonwancountylibrary.com/event/clue-murder-mystery-for-teens/
LOCATION:St. James Library\, 125 Fifth Street S\, St. James\, MN\, 56081\, United States
CATEGORIES:St. James Library
ATTACH;FMTTYPE=image/png:https://www.watonwancountylibrary.com/wp-content/uploads/MURDER-MYSTERY-EVENT-COVER.png
END:VEVENT
BEGIN:VEVENT
DTSTART;TZID=America/Chicago:20250623T180000
DTEND;TZID=America/Chicago:20250623T190000
DTSTAMP:20260424T223006
CREATED:20250606T190605Z
LAST-MODIFIED:20250606T190605Z
UID:3805-1750701600-1750705200@www.watonwancountylibrary.com
SUMMARY:Busted Canvas Art for Adults-Madelia
DESCRIPTION:Learn the artful busted canvas technique to create a unique piece of art to hang in your home or give as a gift! To sign up\, call 507-642-3511.
URL:https://www.watonwancountylibrary.com/event/busted-canvas-art-for-adults-madelia/
LOCATION:Madelia Branch Library\, 23 First Street NW\, Madelia\, MN\, 56062\, United States
CATEGORIES:Madelia Library
ATTACH;FMTTYPE=image/png:https://www.watonwancountylibrary.com/wp-content/uploads/0625-Busted-Canvas-Art-for-Adults-1920-x-1080-px-event-cover.png
END:VEVENT
BEGIN:VEVENT
DTSTART;TZID=America/Chicago:20250623T173000
DTEND;TZID=America/Chicago:20250623T180000
DTSTAMP:20260424T223006
CREATED:20250606T185936Z
LAST-MODIFIED:20250606T185936Z
UID:3803-1750699800-1750701600@www.watonwancountylibrary.com
SUMMARY:Evening Storytime
DESCRIPTION:Kids and their caregivers are invited to the library for a cute storytime and activity!
URL:https://www.watonwancountylibrary.com/event/evening-storytime-18/
LOCATION:Butterfield Branch Library\, 111 N. Second Street\, Butterfield\, MN\, 56120\, United States
CATEGORIES:Butterfield Library
ATTACH;FMTTYPE=image/png:https://www.watonwancountylibrary.com/wp-content/uploads/evening-storytime.png
END:VEVENT
BEGIN:VEVENT
DTSTART;TZID=America/Chicago:20250623T140000
DTEND;TZID=America/Chicago:20250623T160000
DTSTAMP:20260424T223006
CREATED:20250606T185800Z
LAST-MODIFIED:20250606T185800Z
UID:3800-1750687200-1750694400@www.watonwancountylibrary.com
SUMMARY:Movie Madness for Kids
DESCRIPTION:Get out of the heat and enjoy a movie and popcorn at the library!  Feel free to bring your own water bottle.  Parents and grandparents are welcome to join too\, of course!
URL:https://www.watonwancountylibrary.com/event/movie-madness-for-kids/
LOCATION:St. James Library\, 125 Fifth Street S\, St. James\, MN\, 56081\, United States
CATEGORIES:St. James Library
ATTACH;FMTTYPE=image/png:https://www.watonwancountylibrary.com/wp-content/uploads/0625-Movie-Madness-event-cover.png
END:VEVENT
BEGIN:VEVENT
DTSTART;TZID=America/Chicago:20250620T140000
DTEND;TZID=America/Chicago:20250620T160000
DTSTAMP:20260424T223006
CREATED:20250606T184913Z
LAST-MODIFIED:20250606T184913Z
UID:3795-1750428000-1750435200@www.watonwancountylibrary.com
SUMMARY:No June Friday Flicks
DESCRIPTION:There will be no movie at the library in June. Come check out the book sale instead!
URL:https://www.watonwancountylibrary.com/event/no-june-friday-flicks/
LOCATION:St. James Library\, 125 Fifth Street S\, St. James\, MN\, 56081\, United States
CATEGORIES:St. James Library
ATTACH;FMTTYPE=image/png:https://www.watonwancountylibrary.com/wp-content/uploads/WA-Friday-Flicks.png
END:VEVENT
BEGIN:VEVENT
DTSTART;TZID=America/Chicago:20250620T140000
DTEND;TZID=America/Chicago:20250620T150000
DTSTAMP:20260424T223006
CREATED:20250606T185447Z
LAST-MODIFIED:20250606T185447Z
UID:3797-1750428000-1750431600@www.watonwancountylibrary.com
SUMMARY:Bingo for Kids-Butterfield
DESCRIPTION:Kids in grades 1-3 are invited to play Bingo and win prizes at the library!
URL:https://www.watonwancountylibrary.com/event/bingo-for-kids-butterfield/
LOCATION:Butterfield Branch Library\, 111 N. Second Street\, Butterfield\, MN\, 56120\, United States
CATEGORIES:Butterfield Library
ATTACH;FMTTYPE=image/png:https://www.watonwancountylibrary.com/wp-content/uploads/0625-WB-WL-Bingo-Night-event-cover.png
END:VEVENT
BEGIN:VEVENT
DTSTART;TZID=America/Chicago:20250620T100000
DTEND;TZID=America/Chicago:20250620T110000
DTSTAMP:20260424T223006
CREATED:20250606T184808Z
LAST-MODIFIED:20250606T184808Z
UID:3793-1750413600-1750417200@www.watonwancountylibrary.com
SUMMARY:Memory Writing with Marion
DESCRIPTION:Join Marion Edgar Style as she guides you in recording your thoughts and memories. This session will be held in the library rather than the meeting room.  No refreshments or coffee at this session. 
URL:https://www.watonwancountylibrary.com/event/memory-writing-with-marion-26/
LOCATION:St. James Library\, 125 Fifth Street S\, St. James\, MN\, 56081\, United States
CATEGORIES:St. James Library
ATTACH;FMTTYPE=image/png:https://www.watonwancountylibrary.com/wp-content/uploads/WA-Memory-Writing-with-Marion.png
END:VEVENT
BEGIN:VEVENT
DTSTART;VALUE=DATE:20250619
DTEND;VALUE=DATE:20250620
DTSTAMP:20260424T223006
CREATED:20250606T184638Z
LAST-MODIFIED:20250606T184638Z
UID:3790-1750291200-1750377599@www.watonwancountylibrary.com
SUMMARY:Closed for Juneteenth Holiday
DESCRIPTION:ALL WATONWAN COUNTY LIBRARIES CLOSED FOR JUNETEENTH
URL:https://www.watonwancountylibrary.com/event/closed-for-juneteenth-holiday/
LOCATION:MN
CATEGORIES:Butterfield Library,Darfur Library,Lewisville Library,Madelia Library,St. James Library
ATTACH;FMTTYPE=image/png:https://www.watonwancountylibrary.com/wp-content/uploads/Copy-of-Juneteenth-Closure.png
END:VEVENT
BEGIN:VEVENT
DTSTART;TZID=America/Chicago:20250618T150000
DTEND;TZID=America/Chicago:20250618T160000
DTSTAMP:20260424T223006
CREATED:20250606T184431Z
LAST-MODIFIED:20250606T184431Z
UID:3788-1750258800-1750262400@www.watonwancountylibrary.com
SUMMARY:Reader's Choice Book Club
DESCRIPTION:This reader’s choice book club is open to all adults and all books. Maybe you will leave with your next great read!
URL:https://www.watonwancountylibrary.com/event/readers-choice-book-club-22/
LOCATION:Butterfield Branch Library\, 111 N. Second Street\, Butterfield\, MN\, 56120\, United States
CATEGORIES:Butterfield Library
ATTACH;FMTTYPE=image/png:https://www.watonwancountylibrary.com/wp-content/uploads/WB-Readers-Choice-Book-Club.png
END:VEVENT
BEGIN:VEVENT
DTSTART;TZID=America/Chicago:20250618T100000
DTEND;TZID=America/Chicago:20250618T110000
DTSTAMP:20260424T223006
CREATED:20250606T184312Z
LAST-MODIFIED:20250606T184312Z
UID:3785-1750240800-1750244400@www.watonwancountylibrary.com
SUMMARY:Tossing Tales
DESCRIPTION:In this fun\, kid-friendly juggling show\, professional entertainer Kayla James highlights popular children stories such as The Giving Tree\, The Lorax\, and Winnie The Pooh through spectacular juggling. *This is an outdoor event.  In the case of  inclement weather\, this will move to Armstrong School.
URL:https://www.watonwancountylibrary.com/event/tossing-tales/
LOCATION:St. James Library\, 125 Fifth Street S\, St. James\, MN\, 56081\, United States
CATEGORIES:St. James Library
ATTACH;FMTTYPE=image/png:https://www.watonwancountylibrary.com/wp-content/uploads/0625-WA-Tossing-Tales-event-cover.png
END:VEVENT
BEGIN:VEVENT
DTSTART;TZID=America/Chicago:20250617T180000
DTEND;TZID=America/Chicago:20250617T190000
DTSTAMP:20260424T223006
CREATED:20250606T183838Z
LAST-MODIFIED:20250606T183900Z
UID:3781-1750183200-1750186800@www.watonwancountylibrary.com
SUMMARY:Evening Storytime
DESCRIPTION:Come to an interactive storytime with the kiddos!
URL:https://www.watonwancountylibrary.com/event/evening-storytime-17/
LOCATION:Madelia Branch Library\, 23 First Street NW\, Madelia\, MN\, 56062\, United States
CATEGORIES:Madelia Library
ATTACH;FMTTYPE=image/png:https://www.watonwancountylibrary.com/wp-content/uploads/evening-storytime.png
END:VEVENT
BEGIN:VEVENT
DTSTART;TZID=America/Chicago:20250617T173000
DTEND;TZID=America/Chicago:20250617T183000
DTSTAMP:20260424T223006
CREATED:20250606T184011Z
LAST-MODIFIED:20250606T184011Z
UID:3783-1750181400-1750185000@www.watonwancountylibrary.com
SUMMARY:Library Board Meeting
DESCRIPTION:The library board meets monthly and is open to the public.
URL:https://www.watonwancountylibrary.com/event/library-board-meeting-7/
LOCATION:St. James Library\, 125 Fifth Street S\, St. James\, MN\, 56081\, United States
CATEGORIES:St. James Library
ATTACH;FMTTYPE=image/png:https://www.watonwancountylibrary.com/wp-content/uploads/library-board-meeting-event-cover.png
END:VEVENT
BEGIN:VEVENT
DTSTART;VALUE=DATE:20250616
DTEND;VALUE=DATE:20250622
DTSTAMP:20260424T223006
CREATED:20250606T183455Z
LAST-MODIFIED:20250606T183455Z
UID:3779-1750032000-1750550399@www.watonwancountylibrary.com
SUMMARY:Friends of the St. James Library Book Sale
DESCRIPTION:The Friends of the St. James Library will be hosting their annual RR Days book sale. Book donations will be accepted on Monday from 10am-8pm and Tuesday 10am-5:30pm.  Sale will run Thursday-Saturday. 
URL:https://www.watonwancountylibrary.com/event/friends-of-the-st-james-library-book-sale/
LOCATION:St. James Library\, 125 Fifth Street S\, St. James\, MN\, 56081\, United States
CATEGORIES:St. James Library
ATTACH;FMTTYPE=image/png:https://www.watonwancountylibrary.com/wp-content/uploads/BOOK-SALE-event-cover.png
END:VEVENT
BEGIN:VEVENT
DTSTART;TZID=America/Chicago:20250613T150000
DTEND;TZID=America/Chicago:20250613T160000
DTSTAMP:20260424T223006
CREATED:20250606T183316Z
LAST-MODIFIED:20250606T183316Z
UID:3777-1749826800-1749830400@www.watonwancountylibrary.com
SUMMARY:Flag Day Craft-Lewisville
DESCRIPTION:Come to the library for a Flag Day craft.
URL:https://www.watonwancountylibrary.com/event/flag-day-craft-lewisville/
LOCATION:Lewisville Branch Library\, 129 Lewis Street W\, Lewisville\, MN\, 56060\, United States
CATEGORIES:Lewisville Library
ATTACH;FMTTYPE=image/png:https://www.watonwancountylibrary.com/wp-content/uploads/0625-WM-WLFlag-Day-craft-event-cover-1.png
END:VEVENT
BEGIN:VEVENT
DTSTART;TZID=America/Chicago:20250613T140000
DTEND;TZID=America/Chicago:20250613T150000
DTSTAMP:20260424T223006
CREATED:20250606T183229Z
LAST-MODIFIED:20250606T183229Z
UID:3774-1749823200-1749826800@www.watonwancountylibrary.com
SUMMARY:Flag Day Craft-Madelia
DESCRIPTION:Come to the library for a Flag Day craft.
URL:https://www.watonwancountylibrary.com/event/flag-day-craft-madelia/
LOCATION:Madelia Branch Library\, 23 First Street NW\, Madelia\, MN\, 56062\, United States
CATEGORIES:Madelia Library
ATTACH;FMTTYPE=image/png:https://www.watonwancountylibrary.com/wp-content/uploads/0625-WM-WLFlag-Day-craft-event-cover-1.png
END:VEVENT
BEGIN:VEVENT
DTSTART;TZID=America/Chicago:20250612T160000
DTEND;TZID=America/Chicago:20250612T170000
DTSTAMP:20260424T223006
CREATED:20250606T182825Z
LAST-MODIFIED:20250606T182825Z
UID:3771-1749744000-1749747600@www.watonwancountylibrary.com
SUMMARY:Author Frank Bures
DESCRIPTION:Author Frank Bures shares stories of what happens when “pushing the river”.  Including his own story of miraculous rescue as well as the lost history of the Paul Bunyan Canoe Derby\, an annual 450-mile race run on the Upper Mississippi. \nThis program is made possible by the voters of Minnesota through a grant provided by the Traverse des Sioux Library Cooperative\, thanks to a legislative appropriation from the arts and cultural heritage fund.
URL:https://www.watonwancountylibrary.com/event/author-frank-bures/
LOCATION:St. James Library\, 125 Fifth Street S\, St. James\, MN\, 56081\, United States
CATEGORIES:St. James Library
ATTACH;FMTTYPE=image/png:https://www.watonwancountylibrary.com/wp-content/uploads/WA-Author-Frank-Bures-Pushing-the-River-event-cover.png
END:VEVENT
BEGIN:VEVENT
DTSTART;TZID=America/Chicago:20250612T140000
DTEND;TZID=America/Chicago:20250612T153000
DTSTAMP:20260424T223006
CREATED:20250528T141941Z
LAST-MODIFIED:20250528T141941Z
UID:3767-1749736800-1749742200@www.watonwancountylibrary.com
SUMMARY:Art Attack-Butterfield
DESCRIPTION:Come in and create your own beautiful design using beans. This activity is for kids in grades 1st-6th.
URL:https://www.watonwancountylibrary.com/event/art-attack-butterfield-3/
LOCATION:Butterfield Branch Library\, 111 N. Second Street\, Butterfield\, MN\, 56120\, United States
CATEGORIES:Butterfield Library
ATTACH;FMTTYPE=image/png:https://www.watonwancountylibrary.com/wp-content/uploads/2-1.png
END:VEVENT
BEGIN:VEVENT
DTSTART;TZID=America/Chicago:20250611T170000
DTEND;TZID=America/Chicago:20250611T190000
DTSTAMP:20260424T223006
CREATED:20250527T212946Z
LAST-MODIFIED:20250527T212946Z
UID:3760-1749661200-1749668400@www.watonwancountylibrary.com
SUMMARY:Music in the Park
DESCRIPTION:The city of St. James and the Watonwan County Library have teamed up to bring back Music in the Park this summer!  Bring the whole family to the bandshell at Memorial Park for this fun event! Food Trucks will be available beginning at 5:00 pm.
URL:https://www.watonwancountylibrary.com/event/music-in-the-park-4/
LOCATION:Memorial Park-St. James
CATEGORIES:St. James Library
ATTACH;FMTTYPE=image/png:https://www.watonwancountylibrary.com/wp-content/uploads/61125-Music-in-the-Park-2025-event-cover.png
END:VEVENT
BEGIN:VEVENT
DTSTART;TZID=America/Chicago:20250611T170000
DTEND;TZID=America/Chicago:20250611T183000
DTSTAMP:20260424T223006
CREATED:20250527T210603Z
LAST-MODIFIED:20250527T210603Z
UID:3755-1749661200-1749666600@www.watonwancountylibrary.com
SUMMARY:Claymate Creations
DESCRIPTION:Artist Anjee Mai will be here to teach kids in grades 3rd and up how to make an adorable clay creation!  Must sign up\, as spots are limited.  To sign up\, call 507-375-1278. \nThis program is made possible by the voters of Minnesota through a grant provided by the Traverse des Sioux Library Cooperative\, thanks to a legislative appropriation from the arts and cultural heritage fund.
URL:https://www.watonwancountylibrary.com/event/claymate-creations-3/
LOCATION:St. James Library\, 125 Fifth Street S\, St. James\, MN\, 56081\, United States
CATEGORIES:St. James Library
ATTACH;FMTTYPE=image/png:https://www.watonwancountylibrary.com/wp-content/uploads/0625-WAWMWB-Claymate-Creation-event-cover.png
END:VEVENT
BEGIN:VEVENT
DTSTART;TZID=America/Chicago:20250611T160000
DTEND;TZID=America/Chicago:20250611T170000
DTSTAMP:20260424T223006
CREATED:20250527T211049Z
LAST-MODIFIED:20250527T211049Z
UID:3757-1749657600-1749661200@www.watonwancountylibrary.com
SUMMARY:Wood Burning for Adults
DESCRIPTION:Adults will be able to learn how to use wood burning paste to create a fun design on wood!  Spots are limited\, so please sign up by calling 507-435-2781 or 507-375-1278
URL:https://www.watonwancountylibrary.com/event/wood-burning-for-adults/
LOCATION:Lewisville Branch Library\, 129 Lewis Street W\, Lewisville\, MN\, 56060\, United States
CATEGORIES:Lewisville Library
ATTACH;FMTTYPE=image/png:https://www.watonwancountylibrary.com/wp-content/uploads/0625-WL-WOOD-BURNING-DIY-event-cover.png
END:VEVENT
END:VCALENDAR