BEGIN:VCALENDAR
VERSION:2.0
PRODID:-//Watonwan County Library - ECPv6.15.20//NONSGML v1.0//EN
CALSCALE:GREGORIAN
METHOD:PUBLISH
X-ORIGINAL-URL:https://www.watonwancountylibrary.com
X-WR-CALDESC:Events for Watonwan County Library
REFRESH-INTERVAL;VALUE=DURATION:PT1H
X-Robots-Tag:noindex
X-PUBLISHED-TTL:PT1H
BEGIN:VTIMEZONE
TZID:America/Chicago
BEGIN:DAYLIGHT
TZOFFSETFROM:-0600
TZOFFSETTO:-0500
TZNAME:CDT
DTSTART:20240310T080000
END:DAYLIGHT
BEGIN:STANDARD
TZOFFSETFROM:-0500
TZOFFSETTO:-0600
TZNAME:CST
DTSTART:20241103T070000
END:STANDARD
BEGIN:DAYLIGHT
TZOFFSETFROM:-0600
TZOFFSETTO:-0500
TZNAME:CDT
DTSTART:20250309T080000
END:DAYLIGHT
BEGIN:STANDARD
TZOFFSETFROM:-0500
TZOFFSETTO:-0600
TZNAME:CST
DTSTART:20251102T070000
END:STANDARD
BEGIN:DAYLIGHT
TZOFFSETFROM:-0600
TZOFFSETTO:-0500
TZNAME:CDT
DTSTART:20260308T080000
END:DAYLIGHT
BEGIN:STANDARD
TZOFFSETFROM:-0500
TZOFFSETTO:-0600
TZNAME:CST
DTSTART:20261101T070000
END:STANDARD
END:VTIMEZONE
BEGIN:VEVENT
DTSTART;TZID=America/Chicago:20250728T153000
DTEND;TZID=America/Chicago:20250728T173000
DTSTAMP:20260424T183153
CREATED:20250708T200409Z
LAST-MODIFIED:20250708T200409Z
UID:3926-1753716600-1753723800@www.watonwancountylibrary.com
SUMMARY:Lego Club-Butterfield
DESCRIPTION:Calling all brick builders!  Kids are invited to join us for Lego Club at the library!  Bring your creativity and we’ll supply the Legos
URL:https://www.watonwancountylibrary.com/event/lego-club-butterfield-9/
LOCATION:Butterfield Branch Library\, 111 N. Second Street\, Butterfield\, MN\, 56120\, United States
CATEGORIES:Butterfield Library
ATTACH;FMTTYPE=image/png:https://www.watonwancountylibrary.com/wp-content/uploads/Lego-Club-3.png
END:VEVENT
BEGIN:VEVENT
DTSTART;TZID=America/Chicago:20250725T150000
DTEND;TZID=America/Chicago:20250725T160000
DTSTAMP:20260424T183153
CREATED:20250708T200254Z
LAST-MODIFIED:20250708T200254Z
UID:3924-1753455600-1753459200@www.watonwancountylibrary.com
SUMMARY:Lego Club-Lewisville
DESCRIPTION:Calling all brick builders!  Kids are invited to join us for Lego Club at the library!  Bring your creativity and we’ll supply the Legos
URL:https://www.watonwancountylibrary.com/event/lego-club-lewisville-4/
LOCATION:Lewisville Branch Library\, 129 Lewis Street W\, Lewisville\, MN\, 56060\, United States
CATEGORIES:Lewisville Library
ATTACH;FMTTYPE=image/png:https://www.watonwancountylibrary.com/wp-content/uploads/Lego-Club-3.png
END:VEVENT
BEGIN:VEVENT
DTSTART;TZID=America/Chicago:20250724T140000
DTEND;TZID=America/Chicago:20250724T153000
DTSTAMP:20260424T183153
CREATED:20250708T200134Z
LAST-MODIFIED:20250708T200134Z
UID:3922-1753365600-1753371000@www.watonwancountylibrary.com
SUMMARY:Bad Art-Butterfield
DESCRIPTION:For kids in grades K-2.  Come have fun and create the worst art! Have fun not worrying about how it looks and have fun creating a crazy piece of art.
URL:https://www.watonwancountylibrary.com/event/bad-art-butterfield/
LOCATION:Butterfield Branch Library\, 111 N. Second Street\, Butterfield\, MN\, 56120\, United States
CATEGORIES:Butterfield Library
ATTACH;FMTTYPE=image/png:https://www.watonwancountylibrary.com/wp-content/uploads/Bad-Art-event-cover.png
END:VEVENT
BEGIN:VEVENT
DTSTART;TZID=America/Chicago:20250724T100000
DTEND;TZID=America/Chicago:20250724T200000
DTSTAMP:20260424T183153
CREATED:20250708T195929Z
LAST-MODIFIED:20250708T195929Z
UID:3920-1753351200-1753387200@www.watonwancountylibrary.com
SUMMARY:Photo Scavenger Hunt-St. James
DESCRIPTION:Kids in grades K-6\, take your family and run around town taking pictures of the items on the scavenger hunt list with your family.  Come back and show us the pictures to get a prize!
URL:https://www.watonwancountylibrary.com/event/photo-scavenger-hunt-st-james/
LOCATION:St. James Library\, 125 Fifth Street S\, St. James\, MN\, 56081\, United States
CATEGORIES:St. James Library
ATTACH;FMTTYPE=image/png:https://www.watonwancountylibrary.com/wp-content/uploads/Copy-of-0725-WDWA-Photo-Scavenger-Hunt-e1751986709731.png
END:VEVENT
BEGIN:VEVENT
DTSTART;TZID=America/Chicago:20250723T170000
DTEND;TZID=America/Chicago:20250723T180000
DTSTAMP:20260424T183153
CREATED:20250708T194800Z
LAST-MODIFIED:20250708T194800Z
UID:3914-1753290000-1753293600@www.watonwancountylibrary.com
SUMMARY:Trivia for Adults
DESCRIPTION:Join us at the Legion for some Trivia!!  Prizes for the winners! *Prizes donated by library staff
URL:https://www.watonwancountylibrary.com/event/trivia-for-adults/
LOCATION:Lewisville Legion
CATEGORIES:Lewisville Library
ATTACH;FMTTYPE=image/png:https://www.watonwancountylibrary.com/wp-content/uploads/Trivia-event-cover.png
END:VEVENT
BEGIN:VEVENT
DTSTART;TZID=America/Chicago:20250723T140000
DTEND;TZID=America/Chicago:20250723T160000
DTSTAMP:20260424T183153
CREATED:20250708T194412Z
LAST-MODIFIED:20250708T194412Z
UID:3911-1753279200-1753286400@www.watonwancountylibrary.com
SUMMARY:Movie Madness
DESCRIPTION:Get out of the heat and enjoy a movie and popcorn at the library!  Feel free to bring your own water bottle.  Parents and grandparents are welcome to join too\, of course!
URL:https://www.watonwancountylibrary.com/event/movie-madness/
LOCATION:Madelia Branch Library\, 23 First Street NW\, Madelia\, MN\, 56062\, United States
CATEGORIES:Madelia Library
ATTACH;FMTTYPE=image/png:https://www.watonwancountylibrary.com/wp-content/uploads/Movie-Madness-event-cover.png
END:VEVENT
BEGIN:VEVENT
DTSTART;TZID=America/Chicago:20250723T100000
DTEND;TZID=America/Chicago:20250723T110000
DTSTAMP:20260424T183153
CREATED:20250708T192537Z
LAST-MODIFIED:20250708T192537Z
UID:3908-1753264800-1753268400@www.watonwancountylibrary.com
SUMMARY:Tiny Town for Tots
DESCRIPTION:Bring your tiny tots to the library and help them create little cars and play in a tiny town you create.  This program is geared towards toddlers. 
URL:https://www.watonwancountylibrary.com/event/tiny-town-for-tots/
LOCATION:St. James Library\, 125 Fifth Street S\, St. James\, MN\, 56081\, United States
CATEGORIES:St. James Library
ATTACH;FMTTYPE=image/png:https://www.watonwancountylibrary.com/wp-content/uploads/Tiny-Town-event-cover.png
END:VEVENT
BEGIN:VEVENT
DTSTART;TZID=America/Chicago:20250722T153000
DTEND;TZID=America/Chicago:20250722T170000
DTSTAMP:20260424T183153
CREATED:20250708T192207Z
LAST-MODIFIED:20250708T192207Z
UID:3905-1753198200-1753203600@www.watonwancountylibrary.com
SUMMARY:Storymaking
DESCRIPTION:Want to create your own story? Come to the library and start brainstorming characters\, plot and a cover for your very own book.  You will have your very own hardcover blank book to take home to make your own story!  This program is for kids in grades 3rd-6th. 
URL:https://www.watonwancountylibrary.com/event/storymaking/
LOCATION:St. James Library\, 125 Fifth Street S\, St. James\, MN\, 56081\, United States
CATEGORIES:St. James Library
ATTACH;FMTTYPE=image/png:https://www.watonwancountylibrary.com/wp-content/uploads/Story-Making-event-cover.png
END:VEVENT
BEGIN:VEVENT
DTSTART;TZID=America/Chicago:20250721T160000
DTEND;TZID=America/Chicago:20250721T170000
DTSTAMP:20260424T183153
CREATED:20250708T191601Z
LAST-MODIFIED:20260123T224129Z
UID:3900-1753113600-1753117200@www.watonwancountylibrary.com
SUMMARY:Minnesota's Hooded History-Madelia
DESCRIPTION:Find out how the Klan developed in Minnesota\, the strategies they used\, and their ultimate demise in the Gopher State. Local historian and library worker Nancy Vaillancourt has spent decades researching and documenting the activities of the Klan in Minnesota. Each program includes specialized information on the Klan’s presence in the local region.  \nThis program is made possible by the voters of Minnesota through a grant provided by the Traverse des Sioux Library Cooperative\, thanks to a legislative appropriation from the arts and cultural heritage fund.
URL:https://www.watonwancountylibrary.com/event/minnesotas-hooded-history-2/
LOCATION:Madelia Branch Library\, 23 First Street NW\, Madelia\, MN\, 56062\, United States
CATEGORIES:Madelia Library,St. James Library
ATTACH;FMTTYPE=image/png:https://www.watonwancountylibrary.com/wp-content/uploads/Hooded-History-of-MN-event-cover-1.png
END:VEVENT
BEGIN:VEVENT
DTSTART;TZID=America/Chicago:20250721T160000
DTEND;TZID=America/Chicago:20250721T170000
DTSTAMP:20260424T183153
CREATED:20250708T163017Z
LAST-MODIFIED:20250708T163017Z
UID:3894-1753113600-1753117200@www.watonwancountylibrary.com
SUMMARY:Storytime with Munchkin
DESCRIPTION:Listen to some stories with Munchkin the miniature horse and create some horse-themed art!  \nThis program is made possible by the voters of Minnesota through a grant provided by the Traverse des Sioux Library Cooperative\, thanks to a legislative appropriation from the arts and cultural heritage fund.
URL:https://www.watonwancountylibrary.com/event/storytime-with-munchkin/
LOCATION:Lewisville Branch Library\, 129 Lewis Street W\, Lewisville\, MN\, 56060\, United States
CATEGORIES:Lewisville Library
ATTACH;FMTTYPE=image/png:https://www.watonwancountylibrary.com/wp-content/uploads/Storytime-with-Munchkin-event-cover.png
END:VEVENT
BEGIN:VEVENT
DTSTART;TZID=America/Chicago:20250721T140000
DTEND;TZID=America/Chicago:20250721T150000
DTSTAMP:20260424T183153
CREATED:20250708T191513Z
LAST-MODIFIED:20260123T224017Z
UID:3897-1753106400-1753110000@www.watonwancountylibrary.com
SUMMARY:Minnesota's Hooded History-St. James
DESCRIPTION:Find out how the Klan developed in Minnesota\, the strategies they used\, and their ultimate demise in the Gopher State. Local historian and library worker Nancy Vaillancourt has spent decades researching and documenting the activities of the Klan in Minnesota. Each program includes specialized information on the Klan’s presence in the local region.  \nThis program is made possible by the voters of Minnesota through a grant provided by the Traverse des Sioux Library Cooperative\, thanks to a legislative appropriation from the arts and cultural heritage fund.
URL:https://www.watonwancountylibrary.com/event/minnesotas-hooded-history/
LOCATION:St. James Library\, 125 Fifth Street S\, St. James\, MN\, 56081\, United States
CATEGORIES:Madelia Library,St. James Library
ATTACH;FMTTYPE=image/png:https://www.watonwancountylibrary.com/wp-content/uploads/Hooded-History-of-MN-event-cover-1.png
END:VEVENT
BEGIN:VEVENT
DTSTART;TZID=America/Chicago:20250719T130000
DTEND;TZID=America/Chicago:20250719T140000
DTSTAMP:20260424T183153
CREATED:20250708T162630Z
LAST-MODIFIED:20250708T162630Z
UID:3891-1752930000-1752933600@www.watonwancountylibrary.com
SUMMARY:"Will to Murder" and the Glensheen Mansion Murders Case with Prosecutor John DeSanto
DESCRIPTION:St. Louis County Prosecutor John DeSanto\, one of the men who prosecuted Marjorie and her husband\, Roger Caldwell\, of the Glensheen Mansion Murders\, brings readers behind the scenes of Minnesota’s most infamous double murder. John will be here to share another perspective on this case as one of the prosecutors. 
URL:https://www.watonwancountylibrary.com/event/will-to-murder-and-the-glensheen-mansion-murders-case-with-prosecutor-john-desanto/
LOCATION:St. James Library\, 125 Fifth Street S\, St. James\, MN\, 56081\, United States
CATEGORIES:St. James Library
ATTACH;FMTTYPE=image/png:https://www.watonwancountylibrary.com/wp-content/uploads/Will-To-Murder-with-John-DeSanto-event-cover.png
END:VEVENT
BEGIN:VEVENT
DTSTART;TZID=America/Chicago:20250718T180000
DTEND;TZID=America/Chicago:20250718T200000
DTSTAMP:20260424T183153
CREATED:20250708T161615Z
LAST-MODIFIED:20250708T161615Z
UID:3889-1752861600-1752868800@www.watonwancountylibrary.com
SUMMARY:Oregon Trail-LIVE! for Teens
DESCRIPTION:Teens\, going into grades 7th and up\, are invited to travel the Oregon Trail and see who can survive!! 
URL:https://www.watonwancountylibrary.com/event/oregon-trail-live-for-teens/
LOCATION:St. James Library\, 125 Fifth Street S\, St. James\, MN\, 56081\, United States
CATEGORIES:St. James Library
ATTACH;FMTTYPE=image/png:https://www.watonwancountylibrary.com/wp-content/uploads/Oregon-Trail-Event-Cover.png
END:VEVENT
BEGIN:VEVENT
DTSTART;TZID=America/Chicago:20250718T153000
DTEND;TZID=America/Chicago:20250718T163000
DTSTAMP:20260424T183153
CREATED:20250708T160656Z
LAST-MODIFIED:20250708T160656Z
UID:3887-1752852600-1752856200@www.watonwancountylibrary.com
SUMMARY:Sustainable Safari-Butterfield
DESCRIPTION:Sustainable Safari will be visiting with a variety of animals!  Come to see these creatures up close and learn all about them. This event will be held at the Fire Hall. 
URL:https://www.watonwancountylibrary.com/event/sustainable-safari-butterfield/
LOCATION:Butterfield Fire Hall
CATEGORIES:Butterfield Library
ATTACH;FMTTYPE=image/png:https://www.watonwancountylibrary.com/wp-content/uploads/Sustainable-Safari-event-cover.png
END:VEVENT
BEGIN:VEVENT
DTSTART;TZID=America/Chicago:20250718T140000
DTEND;TZID=America/Chicago:20250718T160000
DTSTAMP:20260424T183153
CREATED:20250708T155641Z
LAST-MODIFIED:20250708T155641Z
UID:3880-1752847200-1752854400@www.watonwancountylibrary.com
SUMMARY:Friday Flicks
DESCRIPTION:Join us at the St. James Library for a showing of  “The Secret Life of Bees”. Fresh hot popcorn will be served.
URL:https://www.watonwancountylibrary.com/event/friday-flicks-26/
LOCATION:St. James Library\, 125 Fifth Street S\, St. James\, MN\, 56081\, United States
CATEGORIES:St. James Library
ATTACH;FMTTYPE=image/png:https://www.watonwancountylibrary.com/wp-content/uploads/WA-Friday-Flicks.png
END:VEVENT
BEGIN:VEVENT
DTSTART;TZID=America/Chicago:20250718T133000
DTEND;TZID=America/Chicago:20250718T143000
DTSTAMP:20260424T183153
CREATED:20250708T160353Z
LAST-MODIFIED:20250708T160353Z
UID:3885-1752845400-1752849000@www.watonwancountylibrary.com
SUMMARY:Sustainable Safari-St. James
DESCRIPTION:Sustainable Safari will be visiting with a variety of animals!  Come to see these creatures up close and learn all about them. This event will be held at the Armstrong School’s big gym.
URL:https://www.watonwancountylibrary.com/event/sustainable-safari-st-james/
LOCATION:Armstrong School-St. James
CATEGORIES:St. James Library
ATTACH;FMTTYPE=image/png:https://www.watonwancountylibrary.com/wp-content/uploads/Sustainable-Safari-event-cover.png
END:VEVENT
BEGIN:VEVENT
DTSTART;TZID=America/Chicago:20250718T110000
DTEND;TZID=America/Chicago:20250718T120000
DTSTAMP:20260424T183153
CREATED:20250708T160235Z
LAST-MODIFIED:20250708T160235Z
UID:3882-1752836400-1752840000@www.watonwancountylibrary.com
SUMMARY:Sustainable Safari-Madelia
DESCRIPTION:Sustainable Safari will be visiting with a variety of animals!  Come to see these creatures up close and learn all about them. This event will be held at the Elementary School Gym. 
URL:https://www.watonwancountylibrary.com/event/sustainable-safari-madelia/
LOCATION:Madelia Elementary School
CATEGORIES:Madelia Library
ATTACH;FMTTYPE=image/png:https://www.watonwancountylibrary.com/wp-content/uploads/Sustainable-Safari-event-cover.png
END:VEVENT
BEGIN:VEVENT
DTSTART;TZID=America/Chicago:20250717T153000
DTEND;TZID=America/Chicago:20250717T170000
DTSTAMP:20260424T183153
CREATED:20250708T154437Z
LAST-MODIFIED:20250708T154437Z
UID:3876-1752766200-1752771600@www.watonwancountylibrary.com
SUMMARY:Lego Club-Madelia
DESCRIPTION:Calling all brick builders!  Kids are invited to join us for Lego Club at the library!  Bring your creativity and we’ll supply the Legos
URL:https://www.watonwancountylibrary.com/event/lego-club-madelia-6/
LOCATION:Madelia Branch Library\, 23 First Street NW\, Madelia\, MN\, 56062\, United States
CATEGORIES:Madelia Library
ATTACH;FMTTYPE=image/png:https://www.watonwancountylibrary.com/wp-content/uploads/Lego-Club-3.png
END:VEVENT
BEGIN:VEVENT
DTSTART;TZID=America/Chicago:20250717T153000
DTEND;TZID=America/Chicago:20250717T170000
DTSTAMP:20260424T183153
CREATED:20250708T154246Z
LAST-MODIFIED:20250708T154246Z
UID:3874-1752766200-1752771600@www.watonwancountylibrary.com
SUMMARY:Bad Art-St. James
DESCRIPTION:Kids in grades K-2 are invited to have fun creating the WORST art!  Have fun and don’t worry about how it looks\, just create a crazy piece of art. 
URL:https://www.watonwancountylibrary.com/event/bad-art-st-james/
LOCATION:St. James Library\, 125 Fifth Street S\, St. James\, MN\, 56081\, United States
CATEGORIES:St. James Library
ATTACH;FMTTYPE=image/png:https://www.watonwancountylibrary.com/wp-content/uploads/Bad-Art-event-cover.png
END:VEVENT
BEGIN:VEVENT
DTSTART;TZID=America/Chicago:20250716T170000
DTEND;TZID=America/Chicago:20250716T180000
DTSTAMP:20260424T183153
CREATED:20250708T154122Z
LAST-MODIFIED:20250708T154122Z
UID:3872-1752685200-1752688800@www.watonwancountylibrary.com
SUMMARY:Switch Fun-St. James
DESCRIPTION:For kids in grades 3rd-6th.  Come and play some games on our switch.  Try to get the highest score for a prize!
URL:https://www.watonwancountylibrary.com/event/switch-fun-st-james/
LOCATION:St. James Library\, 125 Fifth Street S\, St. James\, MN\, 56081\, United States
CATEGORIES:St. James Library
ATTACH;FMTTYPE=image/png:https://www.watonwancountylibrary.com/wp-content/uploads/Copy-of-0725-WAWM-Switch-Fun.png
END:VEVENT
BEGIN:VEVENT
DTSTART;TZID=America/Chicago:20250716T150000
DTEND;TZID=America/Chicago:20250716T160000
DTSTAMP:20260424T183153
CREATED:20250708T153927Z
LAST-MODIFIED:20250708T153927Z
UID:3869-1752678000-1752681600@www.watonwancountylibrary.com
SUMMARY:Bad Art-Lewisville
DESCRIPTION:Kids in grades K-2 are invited to have fun creating the WORST art!  Have fun and don’t worry about how it looks\, just create a crazy piece of art.
URL:https://www.watonwancountylibrary.com/event/bad-art-lewisville/
LOCATION:Lewisville Branch Library\, 129 Lewis Street W\, Lewisville\, MN\, 56060\, United States
CATEGORIES:Lewisville Library
ATTACH;FMTTYPE=image/png:https://www.watonwancountylibrary.com/wp-content/uploads/Bad-Art-event-cover.png
END:VEVENT
BEGIN:VEVENT
DTSTART;TZID=America/Chicago:20250716T150000
DTEND;TZID=America/Chicago:20250716T160000
DTSTAMP:20260424T183153
CREATED:20250708T152458Z
LAST-MODIFIED:20250708T152458Z
UID:3867-1752678000-1752681600@www.watonwancountylibrary.com
SUMMARY:Reader's Choice Book Club
DESCRIPTION:This reader’s choice book club is open to all adults and all books. Maybe you will leave with your next great read!
URL:https://www.watonwancountylibrary.com/event/readers-choice-book-club-23/
LOCATION:Butterfield Branch Library\, 111 N. Second Street\, Butterfield\, MN\, 56120\, United States
CATEGORIES:Butterfield Library
ATTACH;FMTTYPE=image/png:https://www.watonwancountylibrary.com/wp-content/uploads/WB-Readers-Choice-Book-Club.png
END:VEVENT
BEGIN:VEVENT
DTSTART;TZID=America/Chicago:20250715T180000
DTEND;TZID=America/Chicago:20250715T190000
DTSTAMP:20260424T183153
CREATED:20250708T152329Z
LAST-MODIFIED:20250708T152329Z
UID:3865-1752602400-1752606000@www.watonwancountylibrary.com
SUMMARY:Evening Storytime and Ice Cream Party
DESCRIPTION:Kids and their caregivers are invited to the library for storytime and ice cream!
URL:https://www.watonwancountylibrary.com/event/evening-storytime-and-ice-cream-party/
LOCATION:Madelia Branch Library\, 23 First Street NW\, Madelia\, MN\, 56062\, United States
CATEGORIES:Madelia Library
ATTACH;FMTTYPE=image/png:https://www.watonwancountylibrary.com/wp-content/uploads/evening-storytime.png
END:VEVENT
BEGIN:VEVENT
DTSTART;TZID=America/Chicago:20250715T173000
DTEND;TZID=America/Chicago:20250715T183000
DTSTAMP:20260424T183153
CREATED:20250708T152112Z
LAST-MODIFIED:20250708T152112Z
UID:3863-1752600600-1752604200@www.watonwancountylibrary.com
SUMMARY:Library Board Meeting
DESCRIPTION:The library board meets monthly and is open to the public.
URL:https://www.watonwancountylibrary.com/event/library-board-meeting-8/
LOCATION:St. James Library\, 125 Fifth Street S\, St. James\, MN\, 56081\, United States
CATEGORIES:St. James Library
ATTACH;FMTTYPE=image/png:https://www.watonwancountylibrary.com/wp-content/uploads/library-board-meeting-event-cover.png
END:VEVENT
BEGIN:VEVENT
DTSTART;TZID=America/Chicago:20250714T183000
DTEND;TZID=America/Chicago:20250714T193000
DTSTAMP:20260424T183153
CREATED:20250708T152014Z
LAST-MODIFIED:20250708T152014Z
UID:3861-1752517800-1752521400@www.watonwancountylibrary.com
SUMMARY:Novels by Night Book Club
DESCRIPTION:We will be discussing the book “The Seed Keeper” by Diane Wilson. Contact the library for a copy. Please contact Shirley at 375-1278 if interested in joining virtually.
URL:https://www.watonwancountylibrary.com/event/novels-by-night-book-club-26/
LOCATION:St. James Library\, 125 Fifth Street S\, St. James\, MN\, 56081\, United States
CATEGORIES:St. James Library
ATTACH;FMTTYPE=image/png:https://www.watonwancountylibrary.com/wp-content/uploads/Novels-by-Night.png
END:VEVENT
BEGIN:VEVENT
DTSTART;TZID=America/Chicago:20250714T170000
DTEND;TZID=America/Chicago:20250714T180000
DTSTAMP:20260424T183153
CREATED:20250708T151849Z
LAST-MODIFIED:20250708T151849Z
UID:3859-1752512400-1752516000@www.watonwancountylibrary.com
SUMMARY:Yoga
DESCRIPTION:Registered Yoga Teacher: Roxanne Romsdahl \nLearn basic hatha yoga poses and breathing patterns to develop a home yoga practice for all ages. The focus will be on poses\, stretches\, and breath work to strengthen the body\, improve flexibility and balance\, and reduce anxiety.
URL:https://www.watonwancountylibrary.com/event/yoga-13/
LOCATION:St. James Library\, 125 Fifth Street S\, St. James\, MN\, 56081\, United States
CATEGORIES:St. James Library
ATTACH;FMTTYPE=image/png:https://www.watonwancountylibrary.com/wp-content/uploads/yoga-event-cover.png
END:VEVENT
BEGIN:VEVENT
DTSTART;TZID=America/Chicago:20250712T100000
DTEND;TZID=America/Chicago:20250712T110000
DTSTAMP:20260424T183153
CREATED:20250708T150658Z
LAST-MODIFIED:20250708T150658Z
UID:3857-1752314400-1752318000@www.watonwancountylibrary.com
SUMMARY:Sensory Play
DESCRIPTION:For our littlest patrons\, ages 0-3\, and their caregivers.  Come explore all the different sensory stations!  Little ones will benefit from sensory play and maybe even meet some new friends.
URL:https://www.watonwancountylibrary.com/event/sensory-play-11/
LOCATION:St. James Library\, 125 Fifth Street S\, St. James\, MN\, 56081\, United States
CATEGORIES:St. James Library
ATTACH;FMTTYPE=image/png:https://www.watonwancountylibrary.com/wp-content/uploads/WA-Sensory-Play.png
END:VEVENT
BEGIN:VEVENT
DTSTART;TZID=America/Chicago:20250710T160000
DTEND;TZID=America/Chicago:20250710T170000
DTSTAMP:20260424T183153
CREATED:20250708T150545Z
LAST-MODIFIED:20250708T150545Z
UID:3854-1752163200-1752166800@www.watonwancountylibrary.com
SUMMARY:World War II Trivia
DESCRIPTION:Come play WWII trivia for prizes! *Prizes are donated by library staff.
URL:https://www.watonwancountylibrary.com/event/world-war-ii-trivia/
LOCATION:Darfur Branch Library\, 200 Adrian Street\, Darfur\, MN\, 56022\, United States
CATEGORIES:Darfur Library
ATTACH;FMTTYPE=image/png:https://www.watonwancountylibrary.com/wp-content/uploads/WWII-event-cover.png
END:VEVENT
BEGIN:VEVENT
DTSTART;TZID=America/Chicago:20250710T143000
DTEND;TZID=America/Chicago:20250710T180000
DTSTAMP:20260424T183153
CREATED:20250708T145926Z
LAST-MODIFIED:20250708T145926Z
UID:3851-1752157800-1752170400@www.watonwancountylibrary.com
SUMMARY:Photo Scavenger Hunt
DESCRIPTION:Race around town and take photos of the items on the list; show us the photos at the library and win a prize!
URL:https://www.watonwancountylibrary.com/event/photo-scavenger-hunt/
LOCATION:Darfur Branch Library\, 200 Adrian Street\, Darfur\, MN\, 56022\, United States
CATEGORIES:Darfur Library
ATTACH;FMTTYPE=image/png:https://www.watonwancountylibrary.com/wp-content/uploads/Copy-of-0725-WDWA-Photo-Scavenger-Hunt-e1751986709731.png
END:VEVENT
BEGIN:VEVENT
DTSTART;TZID=America/Chicago:20250710T100000
DTEND;TZID=America/Chicago:20250710T110000
DTSTAMP:20260424T183153
CREATED:20250701T230925Z
LAST-MODIFIED:20250701T230925Z
UID:3843-1752141600-1752145200@www.watonwancountylibrary.com
SUMMARY:Ice Painting-St. James
DESCRIPTION:For our little ones\, ages 1-5 and their caregivers\, this program is filled with a fun and different way to paint with ice on a stick!  
URL:https://www.watonwancountylibrary.com/event/ice-painting-st-james/
LOCATION:St. James Library\, 125 Fifth Street S\, St. James\, MN\, 56081\, United States
CATEGORIES:St. James Library
ATTACH;FMTTYPE=image/png:https://www.watonwancountylibrary.com/wp-content/uploads/1-1.png
END:VEVENT
END:VCALENDAR