BEGIN:VCALENDAR
VERSION:2.0
PRODID:-//Watonwan County Library - ECPv6.15.20//NONSGML v1.0//EN
CALSCALE:GREGORIAN
METHOD:PUBLISH
X-WR-CALNAME:Watonwan County Library
X-ORIGINAL-URL:https://www.watonwancountylibrary.com
X-WR-CALDESC:Events for Watonwan County Library
REFRESH-INTERVAL;VALUE=DURATION:PT1H
X-Robots-Tag:noindex
X-PUBLISHED-TTL:PT1H
BEGIN:VTIMEZONE
TZID:America/Chicago
BEGIN:DAYLIGHT
TZOFFSETFROM:-0600
TZOFFSETTO:-0500
TZNAME:CDT
DTSTART:20240310T080000
END:DAYLIGHT
BEGIN:STANDARD
TZOFFSETFROM:-0500
TZOFFSETTO:-0600
TZNAME:CST
DTSTART:20241103T070000
END:STANDARD
BEGIN:DAYLIGHT
TZOFFSETFROM:-0600
TZOFFSETTO:-0500
TZNAME:CDT
DTSTART:20250309T080000
END:DAYLIGHT
BEGIN:STANDARD
TZOFFSETFROM:-0500
TZOFFSETTO:-0600
TZNAME:CST
DTSTART:20251102T070000
END:STANDARD
BEGIN:DAYLIGHT
TZOFFSETFROM:-0600
TZOFFSETTO:-0500
TZNAME:CDT
DTSTART:20260308T080000
END:DAYLIGHT
BEGIN:STANDARD
TZOFFSETFROM:-0500
TZOFFSETTO:-0600
TZNAME:CST
DTSTART:20261101T070000
END:STANDARD
END:VTIMEZONE
BEGIN:VEVENT
DTSTART;TZID=America/Chicago:20250818T160000
DTEND;TZID=America/Chicago:20250818T170000
DTSTAMP:20260424T154945
CREATED:20250731T162648Z
LAST-MODIFIED:20250731T162648Z
UID:3981-1755532800-1755536400@www.watonwancountylibrary.com
SUMMARY:Show & Tell for the Young at Heart
DESCRIPTION:Do you have something special or meaningful—a small collection\, a childhood keepsake\, or something that brings you joy? Bring it in to share with others! It’ll be fun to see unique items and hear the personal stories behind them.
URL:https://www.watonwancountylibrary.com/event/show-tell-for-the-young-at-heart/
LOCATION:St. James Library\, 125 Fifth Street S\, St. James\, MN\, 56081\, United States
CATEGORIES:St. James Library
ATTACH;FMTTYPE=image/png:https://www.watonwancountylibrary.com/wp-content/uploads/0825-WA-Show-Tell-for-Adults-event-cover.png
END:VEVENT
BEGIN:VEVENT
DTSTART;TZID=America/Chicago:20250815T140000
DTEND;TZID=America/Chicago:20250815T160000
DTSTAMP:20260424T154945
CREATED:20250731T160518Z
LAST-MODIFIED:20250731T160518Z
UID:3979-1755266400-1755273600@www.watonwancountylibrary.com
SUMMARY:Friday Flicks
DESCRIPTION:Join us at the St. James Library for a showing of  “The Final Season”. Fresh hot popcorn will be served.
URL:https://www.watonwancountylibrary.com/event/friday-flicks-27/
LOCATION:St. James Library\, 125 Fifth Street S\, St. James\, MN\, 56081\, United States
CATEGORIES:St. James Library
ATTACH;FMTTYPE=image/png:https://www.watonwancountylibrary.com/wp-content/uploads/WA-Friday-Flicks.png
END:VEVENT
BEGIN:VEVENT
DTSTART;TZID=America/Chicago:20250815T100000
DTEND;TZID=America/Chicago:20250815T120000
DTSTAMP:20260424T154945
CREATED:20250731T160414Z
LAST-MODIFIED:20250731T160414Z
UID:3977-1755252000-1755259200@www.watonwancountylibrary.com
SUMMARY:Memory Writing
DESCRIPTION:Join Marion Edgar Style as she guides you in recording your thoughts and memories. Refreshments will be served and journals will be provided.
URL:https://www.watonwancountylibrary.com/event/memory-writing-2/
LOCATION:St. James Library\, 125 Fifth Street S\, St. James\, MN\, 56081\, United States
CATEGORIES:St. James Library
ATTACH;FMTTYPE=image/png:https://www.watonwancountylibrary.com/wp-content/uploads/WA-Memory-Writing-with-Marion.png
END:VEVENT
BEGIN:VEVENT
DTSTART;TZID=America/Chicago:20250814T160000
DTEND;TZID=America/Chicago:20250814T180000
DTSTAMP:20260424T154945
CREATED:20250731T160258Z
LAST-MODIFIED:20250731T160258Z
UID:3975-1755187200-1755194400@www.watonwancountylibrary.com
SUMMARY:Back to School Bash-St. James
DESCRIPTION:School is just around the corner. Come in and start packing your backpack by winning fun school supplies while playing BINGO!  This is open to school age\, PreK-6th grade.
URL:https://www.watonwancountylibrary.com/event/back-to-school-bash-st-james/
LOCATION:St. James Library\, 125 Fifth Street S\, St. James\, MN\, 56081\, United States
CATEGORIES:St. James Library
ATTACH;FMTTYPE=image/png:https://www.watonwancountylibrary.com/wp-content/uploads/0825-All-branches-Back-To-School-Bash-event-cover.png
END:VEVENT
BEGIN:VEVENT
DTSTART;TZID=America/Chicago:20250813T160000
DTEND;TZID=America/Chicago:20250813T170000
DTSTAMP:20260424T154945
CREATED:20250731T155536Z
LAST-MODIFIED:20250731T155536Z
UID:3972-1755100800-1755104400@www.watonwancountylibrary.com
SUMMARY:Busted Canvas-Lewisville
DESCRIPTION:Learn the artful busted canvas technique to create a unique piece of art to hang in your home or give as a gift! To sign up\, call 507-435-2781 or 507-375-1278.
URL:https://www.watonwancountylibrary.com/event/busted-canvas-lewisville/
LOCATION:Lewisville Branch Library\, 129 Lewis Street W\, Lewisville\, MN\, 56060\, United States
CATEGORIES:Lewisville Library
ATTACH;FMTTYPE=image/png:https://www.watonwancountylibrary.com/wp-content/uploads/0825-WL-Busted-Canvas-Art-for-Adults-event-cover.png
END:VEVENT
BEGIN:VEVENT
DTSTART;TZID=America/Chicago:20250813T153000
DTEND;TZID=America/Chicago:20250813T170000
DTSTAMP:20260424T154945
CREATED:20250731T155036Z
LAST-MODIFIED:20250731T155036Z
UID:3970-1755099000-1755104400@www.watonwancountylibrary.com
SUMMARY:Lego Club-Madelia
DESCRIPTION:Calling all brick builders!  Kids are invited to join us for Lego Club at the library!  Bring your creativity and we’ll supply the Legos.
URL:https://www.watonwancountylibrary.com/event/lego-club-madelia-7/
LOCATION:Madelia Branch Library\, 23 First Street NW\, Madelia\, MN\, 56062\, United States
CATEGORIES:Madelia Library
ATTACH;FMTTYPE=image/png:https://www.watonwancountylibrary.com/wp-content/uploads/Lego-Club-3.png
END:VEVENT
BEGIN:VEVENT
DTSTART;TZID=America/Chicago:20250812T160000
DTEND;TZID=America/Chicago:20250812T170000
DTSTAMP:20260424T154945
CREATED:20250731T154906Z
LAST-MODIFIED:20250731T154906Z
UID:3968-1755014400-1755018000@www.watonwancountylibrary.com
SUMMARY:Back to School Bash-Darfur
DESCRIPTION:School is just around the corner. Come in and start packing your backpack by winning fun school supplies while playing BINGO!  This is open to school age\, PreK-6th grade.
URL:https://www.watonwancountylibrary.com/event/back-to-school-bash-darfur/
LOCATION:Darfur Branch Library\, 200 Adrian Street\, Darfur\, MN\, 56022\, United States
CATEGORIES:Darfur Library
ATTACH;FMTTYPE=image/png:https://www.watonwancountylibrary.com/wp-content/uploads/0825-All-branches-Back-To-School-Bash-event-cover.png
END:VEVENT
BEGIN:VEVENT
DTSTART;TZID=America/Chicago:20250811T173000
DTEND;TZID=America/Chicago:20250811T183000
DTSTAMP:20260424T154945
CREATED:20250731T152846Z
LAST-MODIFIED:20250731T152846Z
UID:3964-1754933400-1754937000@www.watonwancountylibrary.com
SUMMARY:Evening Storytime
DESCRIPTION:Kids and their caregivers are invited to the library for storytime!
URL:https://www.watonwancountylibrary.com/event/evening-storytime-19/
LOCATION:Butterfield Branch Library\, 111 N. Second Street\, Butterfield\, MN\, 56120\, United States
CATEGORIES:Butterfield Library
ATTACH;FMTTYPE=image/png:https://www.watonwancountylibrary.com/wp-content/uploads/evening-storytime.png
END:VEVENT
BEGIN:VEVENT
DTSTART;TZID=America/Chicago:20250811T170000
DTEND;TZID=America/Chicago:20250811T180000
DTSTAMP:20260424T154945
CREATED:20250725T004543Z
LAST-MODIFIED:20250725T004543Z
UID:3962-1754931600-1754935200@www.watonwancountylibrary.com
SUMMARY:Yoga
DESCRIPTION:Registered Yoga Teacher: Roxanne Romsdahl \nLearn basic hatha yoga poses and breathing patterns to develop a home yoga practice for all ages. The focus will be on poses\, stretches\, and breath work to strengthen the body\, improve flexibility and balance\, and reduce anxiety.
URL:https://www.watonwancountylibrary.com/event/yoga-14/
LOCATION:St. James Library\, 125 Fifth Street S\, St. James\, MN\, 56081\, United States
CATEGORIES:St. James Library
ATTACH;FMTTYPE=image/png:https://www.watonwancountylibrary.com/wp-content/uploads/yoga-event-cover.png
END:VEVENT
BEGIN:VEVENT
DTSTART;TZID=America/Chicago:20250811T140000
DTEND;TZID=America/Chicago:20250811T160000
DTSTAMP:20260424T154945
CREATED:20250725T004417Z
LAST-MODIFIED:20250725T004417Z
UID:3959-1754920800-1754928000@www.watonwancountylibrary.com
SUMMARY:Book Tasting
DESCRIPTION:Hey kids! Not sure what you want to read? Don’t just judge a book by its cover!  Come in and “taste test”  books by visiting tables that each have a different genre. 
URL:https://www.watonwancountylibrary.com/event/book-tasting/
LOCATION:St. James Library\, 125 Fifth Street S\, St. James\, MN\, 56081\, United States
CATEGORIES:St. James Library
ATTACH;FMTTYPE=image/png:https://www.watonwancountylibrary.com/wp-content/uploads/0825-WA-Book-Tasting-event-cover.png
END:VEVENT
BEGIN:VEVENT
DTSTART;VALUE=DATE:20250811
DTEND;VALUE=DATE:20250812
DTSTAMP:20260424T154945
CREATED:20250731T153008Z
LAST-MODIFIED:20250731T153008Z
UID:3966-1754870400-1754956799@www.watonwancountylibrary.com
SUMMARY:NO Novels by Night Book Club
DESCRIPTION:Book club will not be meeting in August.  Our September meeting will be a “reader’s choice”.
URL:https://www.watonwancountylibrary.com/event/no-novels-by-night-book-club/
LOCATION:St. James Library\, 125 Fifth Street S\, St. James\, MN\, 56081\, United States
CATEGORIES:St. James Library
ATTACH;FMTTYPE=image/png:https://www.watonwancountylibrary.com/wp-content/uploads/Novels-by-Night.png
END:VEVENT
BEGIN:VEVENT
DTSTART;TZID=America/Chicago:20250809T100000
DTEND;TZID=America/Chicago:20250809T110000
DTSTAMP:20260424T154945
CREATED:20250725T003942Z
LAST-MODIFIED:20250725T003942Z
UID:3957-1754733600-1754737200@www.watonwancountylibrary.com
SUMMARY:Sensory Play
DESCRIPTION:For our littlest patrons\, ages 0-3\, and their caregivers.  Come explore all the different sensory stations!  Little ones will benefit from sensory play and maybe even meet some new friends.
URL:https://www.watonwancountylibrary.com/event/sensory-play-12/
LOCATION:St. James Library\, 125 Fifth Street S\, St. James\, MN\, 56081\, United States
CATEGORIES:St. James Library
ATTACH;FMTTYPE=image/png:https://www.watonwancountylibrary.com/wp-content/uploads/WA-Sensory-Play.png
END:VEVENT
BEGIN:VEVENT
DTSTART;TZID=America/Chicago:20250808T150000
DTEND;TZID=America/Chicago:20250808T160000
DTSTAMP:20260424T154945
CREATED:20250725T003713Z
LAST-MODIFIED:20250725T003713Z
UID:3954-1754665200-1754668800@www.watonwancountylibrary.com
SUMMARY:Back to School Bash-Lewisville
DESCRIPTION:School is just around the corner. Come in and start packing your backpack by winning fun school supplies while playing BINGO!  This is open to school age\, PreK-6th grade.
URL:https://www.watonwancountylibrary.com/event/back-to-school-bash-lewisville/
LOCATION:Lewisville Branch Library\, 129 Lewis Street W\, Lewisville\, MN\, 56060\, United States
CATEGORIES:Lewisville Library
ATTACH;FMTTYPE=image/png:https://www.watonwancountylibrary.com/wp-content/uploads/0825-All-branches-Back-To-School-Bash-event-cover.png
END:VEVENT
BEGIN:VEVENT
DTSTART;TZID=America/Chicago:20250807T140000
DTEND;TZID=America/Chicago:20250807T150000
DTSTAMP:20260424T154945
CREATED:20250722T183507Z
LAST-MODIFIED:20250722T183507Z
UID:3948-1754575200-1754578800@www.watonwancountylibrary.com
SUMMARY:M.A.S.H. TRIVIA
DESCRIPTION:Are you a fan of the hit T.V. show\, MASH? Show off your knowledge about the show during trivia and even win prizes!! 
URL:https://www.watonwancountylibrary.com/event/m-a-s-h-trivia/
LOCATION:St. James Library\, 125 Fifth Street S\, St. James\, MN\, 56081\, United States
CATEGORIES:St. James Library
ATTACH;FMTTYPE=image/png:https://www.watonwancountylibrary.com/wp-content/uploads/0825-WA-M.A.S.H.-TRIVIA-event-cover.png
END:VEVENT
BEGIN:VEVENT
DTSTART;TZID=America/Chicago:20250805T140000
DTEND;TZID=America/Chicago:20250805T150000
DTSTAMP:20260424T154945
CREATED:20250722T183116Z
LAST-MODIFIED:20250722T183116Z
UID:3945-1754402400-1754406000@www.watonwancountylibrary.com
SUMMARY:Watermelon Fun
DESCRIPTION:Kids in grades 1-6 are invited to the library for a fun craft and tasty watermelon!
URL:https://www.watonwancountylibrary.com/event/watermelon-fun/
LOCATION:Madelia Branch Library\, 23 First Street NW\, Madelia\, MN\, 56062\, United States
CATEGORIES:Madelia Library
ATTACH;FMTTYPE=image/png:https://www.watonwancountylibrary.com/wp-content/uploads/0825-WM-Watermelon-Fun-event-cover.png
END:VEVENT
BEGIN:VEVENT
DTSTART;TZID=America/Chicago:20250805T100000
DTEND;TZID=America/Chicago:20250805T110000
DTSTAMP:20260424T154945
CREATED:20250722T182248Z
LAST-MODIFIED:20250722T182248Z
UID:3943-1754388000-1754391600@www.watonwancountylibrary.com
SUMMARY:Storytime/Play Cafe
DESCRIPTION:Caregivers are invited to bring the little ones to an interactive storytime followed by a special playtime.  Please join us!
URL:https://www.watonwancountylibrary.com/event/storytime-play-cafe-15/
LOCATION:St. James Library\, 125 Fifth Street S\, St. James\, MN\, 56081\, United States
CATEGORIES:St. James Library
ATTACH;FMTTYPE=image/png:https://www.watonwancountylibrary.com/wp-content/uploads/StorytimePlay-Cafe-event-cover.png
END:VEVENT
BEGIN:VEVENT
DTSTART;TZID=America/Chicago:20250804T170000
DTEND;TZID=America/Chicago:20250804T183000
DTSTAMP:20260424T154945
CREATED:20250722T182014Z
LAST-MODIFIED:20250722T182114Z
UID:3939-1754326800-1754332200@www.watonwancountylibrary.com
SUMMARY:Busted Canvas Art for Adults-Butterfield
DESCRIPTION:Learn the artful busted canvas technique to create a unique piece of art to hang in your home or give as a gift! To sign up\, call 507-956-2361.
URL:https://www.watonwancountylibrary.com/event/busted-canvas-art-for-adults-butterfield/
LOCATION:Butterfield Branch Library\, 111 N. Second Street\, Butterfield\, MN\, 56120\, United States
CATEGORIES:Butterfield Library
ATTACH;FMTTYPE=image/png:https://www.watonwancountylibrary.com/wp-content/uploads/0825-WB-Busted-Canvas-Art-for-Adults-event-cover.png
END:VEVENT
BEGIN:VEVENT
DTSTART;TZID=America/Chicago:20250804T140000
DTEND;TZID=America/Chicago:20250804T160000
DTSTAMP:20260424T154945
CREATED:20250722T181409Z
LAST-MODIFIED:20250722T181409Z
UID:3937-1754316000-1754323200@www.watonwancountylibrary.com
SUMMARY:Monday Movie Matinee for Adults
DESCRIPTION:We will be showing the movie “Sense and Sensibility”.  Popcorn will be served!
URL:https://www.watonwancountylibrary.com/event/monday-movie-matinee-for-adults-2/
LOCATION:Madelia Branch Library\, 23 First Street NW\, Madelia\, MN\, 56062\, United States
CATEGORIES:Madelia Library
ATTACH;FMTTYPE=image/png:https://www.watonwancountylibrary.com/wp-content/uploads/Movie-Matinee-Event-Cover.png
END:VEVENT
BEGIN:VEVENT
DTSTART;TZID=America/Chicago:20250801T153000
DTEND;TZID=America/Chicago:20250801T170000
DTSTAMP:20260424T154945
CREATED:20250722T181228Z
LAST-MODIFIED:20250722T181228Z
UID:3935-1754062200-1754067600@www.watonwancountylibrary.com
SUMMARY:Lego Club-St. James
DESCRIPTION:Calling all brick builders!  Kids are invited to join us for Lego Club at the library!  Bring your creativity and we’ll supply the Legos.
URL:https://www.watonwancountylibrary.com/event/lego-club-st-james-9/
LOCATION:St. James Library\, 125 Fifth Street S\, St. James\, MN\, 56081\, United States
CATEGORIES:St. James Library
ATTACH;FMTTYPE=image/png:https://www.watonwancountylibrary.com/wp-content/uploads/Lego-Club-3.png
END:VEVENT
BEGIN:VEVENT
DTSTART;TZID=America/Chicago:20250731T170000
DTEND;TZID=America/Chicago:20250731T190000
DTSTAMP:20260424T154945
CREATED:20250708T202334Z
LAST-MODIFIED:20250708T202334Z
UID:3933-1753981200-1753988400@www.watonwancountylibrary.com
SUMMARY:Knitting Club
DESCRIPTION:All levels of experience are welcome. Whether you want to learn or have a project to finish\, Tessa is here to help!
URL:https://www.watonwancountylibrary.com/event/knitting-club-10/
LOCATION:St. James Library\, 125 Fifth Street S\, St. James\, MN\, 56081\, United States
CATEGORIES:St. James Library
ATTACH;FMTTYPE=image/png:https://www.watonwancountylibrary.com/wp-content/uploads/knitting-club-event-cover-2.png
END:VEVENT
BEGIN:VEVENT
DTSTART;TZID=America/Chicago:20250730T170000
DTEND;TZID=America/Chicago:20250730T190000
DTSTAMP:20260424T154945
CREATED:20250708T195743Z
LAST-MODIFIED:20250722T185058Z
UID:3917-1753894800-1753902000@www.watonwancountylibrary.com
SUMMARY:Music in the Park-RESCHEDULED
DESCRIPTION:The city of St. James and the Watonwan County Library have teamed up to bring back Music in the Park this summer!  Bring the whole family to the bandshell at Memorial Park for this fun event! Food Trucks will be available beginning at 5:00 pm and music begins at 6:00 pm. \nThis program is made possible by the voters of Minnesota through a grant provided by the Traverse des Sioux Library Cooperative\, thanks to a legislative appropriation from the arts and cultural heritage fund.
URL:https://www.watonwancountylibrary.com/event/music-in-the-park-7/
LOCATION:Memorial Park-St. James
CATEGORIES:St. James Library
ATTACH;FMTTYPE=image/png:https://www.watonwancountylibrary.com/wp-content/uploads/Music-in-the-Park-2025-event-cover-2.png
END:VEVENT
BEGIN:VEVENT
DTSTART;TZID=America/Chicago:20250729T140000
DTEND;TZID=America/Chicago:20250729T160000
DTSTAMP:20260424T154945
CREATED:20250708T202214Z
LAST-MODIFIED:20250708T202214Z
UID:3931-1753797600-1753804800@www.watonwancountylibrary.com
SUMMARY:Movie Madness
DESCRIPTION:Get out of the heat and enjoy a movie and popcorn at the library!  Feel free to bring your own water bottle.  Parents and grandparents are welcome to join too\, of course!
URL:https://www.watonwancountylibrary.com/event/movie-madness-2/
LOCATION:St. James Library\, 125 Fifth Street S\, St. James\, MN\, 56081\, United States
CATEGORIES:St. James Library
ATTACH;FMTTYPE=image/png:https://www.watonwancountylibrary.com/wp-content/uploads/Movie-Madness-event-cover.png
END:VEVENT
BEGIN:VEVENT
DTSTART;TZID=America/Chicago:20250728T160000
DTEND;TZID=America/Chicago:20250728T170000
DTSTAMP:20260424T154945
CREATED:20250708T202118Z
LAST-MODIFIED:20250708T202118Z
UID:3928-1753718400-1753722000@www.watonwancountylibrary.com
SUMMARY:"I Love Lucy" Trivia
DESCRIPTION:Do you just LOVE Lucy?!  Maybe you watched it growing up?  See how well you know the show and you could win prizes!!  *Prizes donated by library staff \nCome alone\, in pairs or as a team of 4!  No need to sign up. 
URL:https://www.watonwancountylibrary.com/event/i-love-lucy-trivia/
LOCATION:St. James Library\, 125 Fifth Street S\, St. James\, MN\, 56081\, United States
CATEGORIES:St. James Library
ATTACH;FMTTYPE=image/png:https://www.watonwancountylibrary.com/wp-content/uploads/I-love-lucy-trivia-event-cover.png
END:VEVENT
BEGIN:VEVENT
DTSTART;TZID=America/Chicago:20250728T153000
DTEND;TZID=America/Chicago:20250728T173000
DTSTAMP:20260424T154945
CREATED:20250708T200409Z
LAST-MODIFIED:20250708T200409Z
UID:3926-1753716600-1753723800@www.watonwancountylibrary.com
SUMMARY:Lego Club-Butterfield
DESCRIPTION:Calling all brick builders!  Kids are invited to join us for Lego Club at the library!  Bring your creativity and we’ll supply the Legos
URL:https://www.watonwancountylibrary.com/event/lego-club-butterfield-9/
LOCATION:Butterfield Branch Library\, 111 N. Second Street\, Butterfield\, MN\, 56120\, United States
CATEGORIES:Butterfield Library
ATTACH;FMTTYPE=image/png:https://www.watonwancountylibrary.com/wp-content/uploads/Lego-Club-3.png
END:VEVENT
BEGIN:VEVENT
DTSTART;TZID=America/Chicago:20250725T150000
DTEND;TZID=America/Chicago:20250725T160000
DTSTAMP:20260424T154945
CREATED:20250708T200254Z
LAST-MODIFIED:20250708T200254Z
UID:3924-1753455600-1753459200@www.watonwancountylibrary.com
SUMMARY:Lego Club-Lewisville
DESCRIPTION:Calling all brick builders!  Kids are invited to join us for Lego Club at the library!  Bring your creativity and we’ll supply the Legos
URL:https://www.watonwancountylibrary.com/event/lego-club-lewisville-4/
LOCATION:Lewisville Branch Library\, 129 Lewis Street W\, Lewisville\, MN\, 56060\, United States
CATEGORIES:Lewisville Library
ATTACH;FMTTYPE=image/png:https://www.watonwancountylibrary.com/wp-content/uploads/Lego-Club-3.png
END:VEVENT
BEGIN:VEVENT
DTSTART;TZID=America/Chicago:20250724T140000
DTEND;TZID=America/Chicago:20250724T153000
DTSTAMP:20260424T154945
CREATED:20250708T200134Z
LAST-MODIFIED:20250708T200134Z
UID:3922-1753365600-1753371000@www.watonwancountylibrary.com
SUMMARY:Bad Art-Butterfield
DESCRIPTION:For kids in grades K-2.  Come have fun and create the worst art! Have fun not worrying about how it looks and have fun creating a crazy piece of art.
URL:https://www.watonwancountylibrary.com/event/bad-art-butterfield/
LOCATION:Butterfield Branch Library\, 111 N. Second Street\, Butterfield\, MN\, 56120\, United States
CATEGORIES:Butterfield Library
ATTACH;FMTTYPE=image/png:https://www.watonwancountylibrary.com/wp-content/uploads/Bad-Art-event-cover.png
END:VEVENT
BEGIN:VEVENT
DTSTART;TZID=America/Chicago:20250724T100000
DTEND;TZID=America/Chicago:20250724T200000
DTSTAMP:20260424T154945
CREATED:20250708T195929Z
LAST-MODIFIED:20250708T195929Z
UID:3920-1753351200-1753387200@www.watonwancountylibrary.com
SUMMARY:Photo Scavenger Hunt-St. James
DESCRIPTION:Kids in grades K-6\, take your family and run around town taking pictures of the items on the scavenger hunt list with your family.  Come back and show us the pictures to get a prize!
URL:https://www.watonwancountylibrary.com/event/photo-scavenger-hunt-st-james/
LOCATION:St. James Library\, 125 Fifth Street S\, St. James\, MN\, 56081\, United States
CATEGORIES:St. James Library
ATTACH;FMTTYPE=image/png:https://www.watonwancountylibrary.com/wp-content/uploads/Copy-of-0725-WDWA-Photo-Scavenger-Hunt-e1751986709731.png
END:VEVENT
BEGIN:VEVENT
DTSTART;TZID=America/Chicago:20250723T170000
DTEND;TZID=America/Chicago:20250723T180000
DTSTAMP:20260424T154945
CREATED:20250708T194800Z
LAST-MODIFIED:20250708T194800Z
UID:3914-1753290000-1753293600@www.watonwancountylibrary.com
SUMMARY:Trivia for Adults
DESCRIPTION:Join us at the Legion for some Trivia!!  Prizes for the winners! *Prizes donated by library staff
URL:https://www.watonwancountylibrary.com/event/trivia-for-adults/
LOCATION:Lewisville Legion
CATEGORIES:Lewisville Library
ATTACH;FMTTYPE=image/png:https://www.watonwancountylibrary.com/wp-content/uploads/Trivia-event-cover.png
END:VEVENT
BEGIN:VEVENT
DTSTART;TZID=America/Chicago:20250723T140000
DTEND;TZID=America/Chicago:20250723T160000
DTSTAMP:20260424T154945
CREATED:20250708T194412Z
LAST-MODIFIED:20250708T194412Z
UID:3911-1753279200-1753286400@www.watonwancountylibrary.com
SUMMARY:Movie Madness
DESCRIPTION:Get out of the heat and enjoy a movie and popcorn at the library!  Feel free to bring your own water bottle.  Parents and grandparents are welcome to join too\, of course!
URL:https://www.watonwancountylibrary.com/event/movie-madness/
LOCATION:Madelia Branch Library\, 23 First Street NW\, Madelia\, MN\, 56062\, United States
CATEGORIES:Madelia Library
ATTACH;FMTTYPE=image/png:https://www.watonwancountylibrary.com/wp-content/uploads/Movie-Madness-event-cover.png
END:VEVENT
BEGIN:VEVENT
DTSTART;TZID=America/Chicago:20250723T100000
DTEND;TZID=America/Chicago:20250723T110000
DTSTAMP:20260424T154945
CREATED:20250708T192537Z
LAST-MODIFIED:20250708T192537Z
UID:3908-1753264800-1753268400@www.watonwancountylibrary.com
SUMMARY:Tiny Town for Tots
DESCRIPTION:Bring your tiny tots to the library and help them create little cars and play in a tiny town you create.  This program is geared towards toddlers. 
URL:https://www.watonwancountylibrary.com/event/tiny-town-for-tots/
LOCATION:St. James Library\, 125 Fifth Street S\, St. James\, MN\, 56081\, United States
CATEGORIES:St. James Library
ATTACH;FMTTYPE=image/png:https://www.watonwancountylibrary.com/wp-content/uploads/Tiny-Town-event-cover.png
END:VEVENT
END:VCALENDAR