BEGIN:VCALENDAR
VERSION:2.0
PRODID:-//Watonwan County Library - ECPv6.15.20//NONSGML v1.0//EN
CALSCALE:GREGORIAN
METHOD:PUBLISH
X-WR-CALNAME:Watonwan County Library
X-ORIGINAL-URL:https://www.watonwancountylibrary.com
X-WR-CALDESC:Events for Watonwan County Library
REFRESH-INTERVAL;VALUE=DURATION:PT1H
X-Robots-Tag:noindex
X-PUBLISHED-TTL:PT1H
BEGIN:VTIMEZONE
TZID:America/Chicago
BEGIN:DAYLIGHT
TZOFFSETFROM:-0600
TZOFFSETTO:-0500
TZNAME:CDT
DTSTART:20250309T080000
END:DAYLIGHT
BEGIN:STANDARD
TZOFFSETFROM:-0500
TZOFFSETTO:-0600
TZNAME:CST
DTSTART:20251102T070000
END:STANDARD
BEGIN:DAYLIGHT
TZOFFSETFROM:-0600
TZOFFSETTO:-0500
TZNAME:CDT
DTSTART:20260308T080000
END:DAYLIGHT
BEGIN:STANDARD
TZOFFSETFROM:-0500
TZOFFSETTO:-0600
TZNAME:CST
DTSTART:20261101T070000
END:STANDARD
BEGIN:DAYLIGHT
TZOFFSETFROM:-0600
TZOFFSETTO:-0500
TZNAME:CDT
DTSTART:20270314T080000
END:DAYLIGHT
BEGIN:STANDARD
TZOFFSETFROM:-0500
TZOFFSETTO:-0600
TZNAME:CST
DTSTART:20271107T070000
END:STANDARD
END:VTIMEZONE
BEGIN:VEVENT
DTSTART;TZID=America/Chicago:20260528T170000
DTEND;TZID=America/Chicago:20260528T190000
DTSTAMP:20260423T161752
CREATED:20260422T200843Z
LAST-MODIFIED:20260422T200843Z
UID:4649-1779987600-1779994800@www.watonwancountylibrary.com
SUMMARY:Knitting Club
DESCRIPTION:All levels of experience are welcome. Whether you want to learn or have a project to finish\, Tessa is here to help! 
URL:https://www.watonwancountylibrary.com/event/knitting-club-19/
LOCATION:St. James Library\, 125 Fifth Street S\, St. James\, MN\, 56081\, United States
CATEGORIES:St. James Library
ATTACH;FMTTYPE=image/png:https://www.watonwancountylibrary.com/wp-content/uploads/knitting-club-event-cover-2.png
END:VEVENT
BEGIN:VEVENT
DTSTART;TZID=America/Chicago:20260530T120000
DTEND;TZID=America/Chicago:20260530T140000
DTSTAMP:20260423T161752
CREATED:20260421T165309Z
LAST-MODIFIED:20260421T165309Z
UID:4598-1780142400-1780149600@www.watonwancountylibrary.com
SUMMARY:Coffee & Conversation
DESCRIPTION:Come enjoy a cup of coffee and some conversation each Saturday.
URL:https://www.watonwancountylibrary.com/event/coffee-conversation-11/
LOCATION:Darfur Branch Library\, 200 Adrian Street\, Darfur\, MN\, 56022\, United States
CATEGORIES:Darfur Library
ATTACH;FMTTYPE=image/png:https://www.watonwancountylibrary.com/wp-content/uploads/coffee-and-conversation-event-cover.png
END:VEVENT
END:VCALENDAR