BEGIN:VCALENDAR
VERSION:2.0
PRODID:-//Watonwan County Library - ECPv6.15.20//NONSGML v1.0//EN
CALSCALE:GREGORIAN
METHOD:PUBLISH
X-WR-CALNAME:Watonwan County Library
X-ORIGINAL-URL:https://www.watonwancountylibrary.com
X-WR-CALDESC:Events for Watonwan County Library
REFRESH-INTERVAL;VALUE=DURATION:PT1H
X-Robots-Tag:noindex
X-PUBLISHED-TTL:PT1H
BEGIN:VTIMEZONE
TZID:America/Chicago
BEGIN:DAYLIGHT
TZOFFSETFROM:-0600
TZOFFSETTO:-0500
TZNAME:CDT
DTSTART:20250309T080000
END:DAYLIGHT
BEGIN:STANDARD
TZOFFSETFROM:-0500
TZOFFSETTO:-0600
TZNAME:CST
DTSTART:20251102T070000
END:STANDARD
BEGIN:DAYLIGHT
TZOFFSETFROM:-0600
TZOFFSETTO:-0500
TZNAME:CDT
DTSTART:20260308T080000
END:DAYLIGHT
BEGIN:STANDARD
TZOFFSETFROM:-0500
TZOFFSETTO:-0600
TZNAME:CST
DTSTART:20261101T070000
END:STANDARD
BEGIN:DAYLIGHT
TZOFFSETFROM:-0600
TZOFFSETTO:-0500
TZNAME:CDT
DTSTART:20270314T080000
END:DAYLIGHT
BEGIN:STANDARD
TZOFFSETFROM:-0500
TZOFFSETTO:-0600
TZNAME:CST
DTSTART:20271107T070000
END:STANDARD
END:VTIMEZONE
BEGIN:VEVENT
DTSTART;TZID=America/Chicago:20260316T153000
DTEND;TZID=America/Chicago:20260316T170000
DTSTAMP:20260423T161920
CREATED:20260226T202243Z
LAST-MODIFIED:20260226T202243Z
UID:4478-1773675000-1773680400@www.watonwancountylibrary.com
SUMMARY:Wishing for Spring Crafts for Kids-St. James
DESCRIPTION:Kids can come and do spring crafts at the library!
URL:https://www.watonwancountylibrary.com/event/wishing-for-spring-crafts-for-kids-st-james/
LOCATION:St. James Library\, 125 Fifth Street S\, St. James\, MN\, 56081\, United States
CATEGORIES:St. James Library
ATTACH;FMTTYPE=image/png:https://www.watonwancountylibrary.com/wp-content/uploads/Wishing-for-Spring-Crafts-event-cover.png
END:VEVENT
BEGIN:VEVENT
DTSTART;TZID=America/Chicago:20260316T173000
DTEND;TZID=America/Chicago:20260316T183000
DTSTAMP:20260423T161920
CREATED:20260226T202631Z
LAST-MODIFIED:20260226T202631Z
UID:4480-1773682200-1773685800@www.watonwancountylibrary.com
SUMMARY:Evening Storytime
DESCRIPTION:Kids and their caregivers are invited to the library for storytime!
URL:https://www.watonwancountylibrary.com/event/evening-storytime-27/
LOCATION:Butterfield Branch Library\, 111 N. Second Street\, Butterfield\, MN\, 56120\, United States
CATEGORIES:Butterfield Library
ATTACH;FMTTYPE=image/png:https://www.watonwancountylibrary.com/wp-content/uploads/evening-storytime.png
END:VEVENT
BEGIN:VEVENT
DTSTART;TZID=America/Chicago:20260316T180000
DTEND;TZID=America/Chicago:20260316T193000
DTSTAMP:20260423T161920
CREATED:20260226T202751Z
LAST-MODIFIED:20260226T202751Z
UID:4482-1773684000-1773689400@www.watonwancountylibrary.com
SUMMARY:Spring Candy Jar DIY for Adults
DESCRIPTION:Adults will learn how to repurpose items and use them in a totally different way to create a super cute candy jar to give away or display at home. Supplies provided and spots limited.  To sign up\, call 507-642-3511.
URL:https://www.watonwancountylibrary.com/event/spring-candy-jar-diy-for-adults/
LOCATION:Madelia Branch Library\, 23 First Street NW\, Madelia\, MN\, 56062\, United States
CATEGORIES:Madelia Library
ATTACH;FMTTYPE=image/png:https://www.watonwancountylibrary.com/wp-content/uploads/Spring-Candy-Jar-DIY-event-cover.png
END:VEVENT
BEGIN:VEVENT
DTSTART;TZID=America/Chicago:20260316T183000
DTEND;TZID=America/Chicago:20260316T193000
DTSTAMP:20260423T161920
CREATED:20260226T192857Z
LAST-MODIFIED:20260226T192857Z
UID:4462-1773685800-1773689400@www.watonwancountylibrary.com
SUMMARY:Novels by Night Book Club
DESCRIPTION:We will be discussing the book “The Borrowed Life of Frederick Fife” by Anna Johnston. Contact the library for a copy. Please contact Shirley at 375-1278 if interested in joining virtually.
URL:https://www.watonwancountylibrary.com/event/novels-by-night-book-club-33/
LOCATION:St. James Library\, 125 Fifth Street S\, St. James\, MN\, 56081\, United States
CATEGORIES:St. James Library
ATTACH;FMTTYPE=image/png:https://www.watonwancountylibrary.com/wp-content/uploads/Novels-by-Night.png
END:VEVENT
BEGIN:VEVENT
DTSTART;TZID=America/Chicago:20260317T173000
DTEND;TZID=America/Chicago:20260317T183000
DTSTAMP:20260423T161920
CREATED:20260226T202911Z
LAST-MODIFIED:20260226T202911Z
UID:4484-1773768600-1773772200@www.watonwancountylibrary.com
SUMMARY:Library Board Meeting
DESCRIPTION:The library board meets monthly and is open to the public.
URL:https://www.watonwancountylibrary.com/event/library-board-meeting-13/
LOCATION:St. James Library\, 125 Fifth Street S\, St. James\, MN\, 56081\, United States
CATEGORIES:St. James Library
ATTACH;FMTTYPE=image/png:https://www.watonwancountylibrary.com/wp-content/uploads/library-board-meeting-event-cover.png
END:VEVENT
BEGIN:VEVENT
DTSTART;TZID=America/Chicago:20260318T150000
DTEND;TZID=America/Chicago:20260318T160000
DTSTAMP:20260423T161920
CREATED:20260226T203021Z
LAST-MODIFIED:20260226T203021Z
UID:4486-1773846000-1773849600@www.watonwancountylibrary.com
SUMMARY:Reader's Choice Book Club
DESCRIPTION:This reader’s choice book club is open to all adults and all books. Maybe you will leave with your next great read!
URL:https://www.watonwancountylibrary.com/event/readers-choice-book-club-29/
LOCATION:Butterfield Branch Library\, 111 N. Second Street\, Butterfield\, MN\, 56120\, United States
CATEGORIES:Butterfield Library
ATTACH;FMTTYPE=image/png:https://www.watonwancountylibrary.com/wp-content/uploads/WB-Readers-Choice-Book-Club.png
END:VEVENT
BEGIN:VEVENT
DTSTART;TZID=America/Chicago:20260320T100000
DTEND;TZID=America/Chicago:20260320T110000
DTSTAMP:20260423T161920
CREATED:20260106T210923Z
LAST-MODIFIED:20260106T210923Z
UID:4340-1774000800-1774004400@www.watonwancountylibrary.com
SUMMARY:Memory Writing with Marion
DESCRIPTION:Join Marion Edgar Style as she guides you in recording your thoughts and memories. Refreshments will be served and journals will be provided.
URL:https://www.watonwancountylibrary.com/event/memory-writing-with-marion-33/
LOCATION:St. James Library\, 125 Fifth Street S\, St. James\, MN\, 56081\, United States
CATEGORIES:St. James Library
ATTACH;FMTTYPE=image/png:https://www.watonwancountylibrary.com/wp-content/uploads/WA-Memory-Writing-with-Marion.png
END:VEVENT
BEGIN:VEVENT
DTSTART;TZID=America/Chicago:20260320T140000
DTEND;TZID=America/Chicago:20260320T160000
DTSTAMP:20260423T161920
CREATED:20260226T203331Z
LAST-MODIFIED:20260226T203331Z
UID:4488-1774015200-1774022400@www.watonwancountylibrary.com
SUMMARY:Friday Flicks
DESCRIPTION:Join us at the St. James Library for a showing of  “Song Sung Blue”. Fresh hot popcorn will be served.
URL:https://www.watonwancountylibrary.com/event/friday-flicks-33/
LOCATION:St. James Library\, 125 Fifth Street S\, St. James\, MN\, 56081\, United States
CATEGORIES:St. James Library
ATTACH;FMTTYPE=image/png:https://www.watonwancountylibrary.com/wp-content/uploads/WA-Friday-Flicks.png
END:VEVENT
BEGIN:VEVENT
DTSTART;TZID=America/Chicago:20260321T103000
DTEND;TZID=America/Chicago:20260321T113000
DTSTAMP:20260423T161920
CREATED:20260226T204202Z
LAST-MODIFIED:20260226T204202Z
UID:4490-1774089000-1774092600@www.watonwancountylibrary.com
SUMMARY:The History of the MN Twins with Stevan Miner
DESCRIPTION:Stevan has been a fan of the MN Twins since they moved here in 1961.  He will talk about their history and bring lots of collected memorabilia to show! *He will also do a 1:00 presentation at our Darfur Branch Library.  \nThis program was made possible in part with a grant from the Arts & Cultural Heritage Fund of the Minnesota Clean Water\, Land\, and Legacy Amendment through the Traverse des Sioux Library System.
URL:https://www.watonwancountylibrary.com/event/the-history-of-the-mn-twins-with-stevan-miner/
LOCATION:St. James Library\, 125 Fifth Street S\, St. James\, MN\, 56081\, United States
CATEGORIES:St. James Library
ATTACH;FMTTYPE=image/png:https://www.watonwancountylibrary.com/wp-content/uploads/History-of-MN-Twins-event-cover.png
END:VEVENT
BEGIN:VEVENT
DTSTART;TZID=America/Chicago:20260321T120000
DTEND;TZID=America/Chicago:20260321T140000
DTSTAMP:20260423T161920
CREATED:20260226T220427Z
LAST-MODIFIED:20260226T220427Z
UID:4524-1774094400-1774101600@www.watonwancountylibrary.com
SUMMARY:Coffee and Conversation
DESCRIPTION:Come enjoy a cup of coffee and some conversation each Saturday.
URL:https://www.watonwancountylibrary.com/event/coffee-and-conversation-21/
LOCATION:Darfur Branch Library\, 200 Adrian Street\, Darfur\, MN\, 56022\, United States
CATEGORIES:Darfur Library
ATTACH;FMTTYPE=image/png:https://www.watonwancountylibrary.com/wp-content/uploads/coffee-and-conversation-event-cover.png
END:VEVENT
BEGIN:VEVENT
DTSTART;TZID=America/Chicago:20260321T130000
DTEND;TZID=America/Chicago:20260321T140000
DTSTAMP:20260423T161920
CREATED:20260226T204247Z
LAST-MODIFIED:20260226T204247Z
UID:4493-1774098000-1774101600@www.watonwancountylibrary.com
SUMMARY:The History of the MN Twins with Stevan Miner
DESCRIPTION:Stevan has been a fan of the MN Twins since they moved here in 1961.  He will talk about their history and bring lots of collected memorabilia to show! *He will also do a 10:30 am presentation at our St. James Library.  \nThis program was made possible in part with a grant from the Arts & Cultural Heritage Fund of the Minnesota Clean Water\, Land\, and Legacy Amendment through the Traverse des Sioux Library System.
URL:https://www.watonwancountylibrary.com/event/the-history-of-the-mn-twins-with-stevan-miner-2/
LOCATION:Darfur Branch Library\, 200 Adrian Street\, Darfur\, MN\, 56022\, United States
CATEGORIES:Darfur Library
ATTACH;FMTTYPE=image/png:https://www.watonwancountylibrary.com/wp-content/uploads/History-of-MN-Twins-event-cover.png
END:VEVENT
BEGIN:VEVENT
DTSTART;TZID=America/Chicago:20260323T153000
DTEND;TZID=America/Chicago:20260323T170000
DTSTAMP:20260423T161920
CREATED:20260226T204522Z
LAST-MODIFIED:20260226T204522Z
UID:4495-1774279800-1774285200@www.watonwancountylibrary.com
SUMMARY:Wishing for Spring Crafts for Kids-Lewisville
DESCRIPTION:Kids can come and do spring crafts at the library!
URL:https://www.watonwancountylibrary.com/event/wishing-for-spring-crafts-for-kids-lewisville/
LOCATION:Lewisville Branch Library\, 129 Lewis Street W\, Lewisville\, MN\, 56060\, United States
CATEGORIES:Lewisville Library
ATTACH;FMTTYPE=image/png:https://www.watonwancountylibrary.com/wp-content/uploads/Wishing-for-Spring-Crafts-event-cover.png
END:VEVENT
BEGIN:VEVENT
DTSTART;TZID=America/Chicago:20260323T173000
DTEND;TZID=America/Chicago:20260323T190000
DTSTAMP:20260423T161920
CREATED:20260226T204745Z
LAST-MODIFIED:20260226T204745Z
UID:4497-1774287000-1774292400@www.watonwancountylibrary.com
SUMMARY:Whimsical Garden Shovel DIY
DESCRIPTION:Adults are invited to the library to create and customize a whimsical garden shovel craft to gift or display in their home!  All supplies are provided; spots are limited.  To sign up\, call 507-375-1278.
URL:https://www.watonwancountylibrary.com/event/whimsical-garden-shovel-diy/
LOCATION:St. James Library\, 125 Fifth Street S\, St. James\, MN\, 56081\, United States
CATEGORIES:St. James Library
ATTACH;FMTTYPE=image/png:https://www.watonwancountylibrary.com/wp-content/uploads/Whimsical-Garden-Shovel-DIY-event-cover.png
END:VEVENT
BEGIN:VEVENT
DTSTART;TZID=America/Chicago:20260324T153000
DTEND;TZID=America/Chicago:20260324T170000
DTSTAMP:20260423T161920
CREATED:20260226T204845Z
LAST-MODIFIED:20260226T204845Z
UID:4500-1774366200-1774371600@www.watonwancountylibrary.com
SUMMARY:Lego Club-Madelia
DESCRIPTION:Calling all brick builders!  Kids are invited to join us for Lego Club at the library!  Bring your creativity and we’ll supply the Legos.
URL:https://www.watonwancountylibrary.com/event/lego-club-madelia-9/
LOCATION:Madelia Branch Library\, 23 First Street NW\, Madelia\, MN\, 56062\, United States
CATEGORIES:Madelia Library
ATTACH;FMTTYPE=image/png:https://www.watonwancountylibrary.com/wp-content/uploads/Lego-Club-3.png
END:VEVENT
BEGIN:VEVENT
DTSTART;TZID=America/Chicago:20260324T153000
DTEND;TZID=America/Chicago:20260324T170000
DTSTAMP:20260423T161920
CREATED:20260226T204917Z
LAST-MODIFIED:20260226T204917Z
UID:4502-1774366200-1774371600@www.watonwancountylibrary.com
SUMMARY:Lego Club-Darfur
DESCRIPTION:Calling all brick builders!  Kids are invited to join us for Lego Club at the library!  Bring your creativity and we’ll supply the Legos.
URL:https://www.watonwancountylibrary.com/event/lego-club-darfur/
LOCATION:Darfur Branch Library\, 200 Adrian Street\, Darfur\, MN\, 56022\, United States
CATEGORIES:Darfur Library
ATTACH;FMTTYPE=image/png:https://www.watonwancountylibrary.com/wp-content/uploads/Lego-Club-3.png
END:VEVENT
BEGIN:VEVENT
DTSTART;TZID=America/Chicago:20260326T170000
DTEND;TZID=America/Chicago:20260326T190000
DTSTAMP:20260423T161920
CREATED:20260226T205025Z
LAST-MODIFIED:20260226T205025Z
UID:4504-1774544400-1774551600@www.watonwancountylibrary.com
SUMMARY:Knitting Club
DESCRIPTION:All levels of experience are welcome. Whether you want to learn or have a project to finish\, Tessa is here to help!
URL:https://www.watonwancountylibrary.com/event/knitting-club-17/
LOCATION:St. James Library\, 125 Fifth Street S\, St. James\, MN\, 56081\, United States
CATEGORIES:St. James Library
ATTACH;FMTTYPE=image/png:https://www.watonwancountylibrary.com/wp-content/uploads/knitting-club-event-cover-2.png
END:VEVENT
BEGIN:VEVENT
DTSTART;TZID=America/Chicago:20260327T180000
DTEND;TZID=America/Chicago:20260327T193000
DTSTAMP:20260423T161920
CREATED:20260226T205135Z
LAST-MODIFIED:20260226T205135Z
UID:4506-1774634400-1774639800@www.watonwancountylibrary.com
SUMMARY:Oregon Trail LIVE!
DESCRIPTION:Teens\, in grades 7th and up\, are invited to travel the Oregon Trail and see who can survive!! 
URL:https://www.watonwancountylibrary.com/event/oregon-trail-live-2/
LOCATION:St. James Library\, 125 Fifth Street S\, St. James\, MN\, 56081\, United States
CATEGORIES:St. James Library
ATTACH;FMTTYPE=image/png:https://www.watonwancountylibrary.com/wp-content/uploads/Oregon-Trail-Event-Cover.png
END:VEVENT
BEGIN:VEVENT
DTSTART;TZID=America/Chicago:20260328T120000
DTEND;TZID=America/Chicago:20260328T140000
DTSTAMP:20260423T161920
CREATED:20260226T220454Z
LAST-MODIFIED:20260226T220454Z
UID:4526-1774699200-1774706400@www.watonwancountylibrary.com
SUMMARY:Coffee and Conversation
DESCRIPTION:Come enjoy a cup of coffee and some conversation each Saturday.
URL:https://www.watonwancountylibrary.com/event/coffee-and-conversation-22/
LOCATION:Darfur Branch Library\, 200 Adrian Street\, Darfur\, MN\, 56022\, United States
CATEGORIES:Darfur Library
ATTACH;FMTTYPE=image/png:https://www.watonwancountylibrary.com/wp-content/uploads/coffee-and-conversation-event-cover.png
END:VEVENT
BEGIN:VEVENT
DTSTART;TZID=America/Chicago:20260330T160000
DTEND;TZID=America/Chicago:20260330T170000
DTSTAMP:20260423T161920
CREATED:20260226T205228Z
LAST-MODIFIED:20260226T205228Z
UID:4508-1774886400-1774890000@www.watonwancountylibrary.com
SUMMARY:Lego Club-Butterfield
DESCRIPTION:Calling all brick builders!  Kids are invited to join us for Lego Club at the library!  Bring your creativity and we’ll supply the Legos.
URL:https://www.watonwancountylibrary.com/event/lego-club-butterfield-11/
LOCATION:Butterfield Branch Library\, 111 N. Second Street\, Butterfield\, MN\, 56120\, United States
CATEGORIES:Butterfield Library
ATTACH;FMTTYPE=image/png:https://www.watonwancountylibrary.com/wp-content/uploads/Lego-Club-3.png
END:VEVENT
BEGIN:VEVENT
DTSTART;TZID=America/Chicago:20260330T173000
DTEND;TZID=America/Chicago:20260330T183000
DTSTAMP:20260423T161920
CREATED:20260226T205516Z
LAST-MODIFIED:20260226T205516Z
UID:4510-1774891800-1774895400@www.watonwancountylibrary.com
SUMMARY:Kathleen T. Blue\, Ph.D. Professor of Anthropology
DESCRIPTION:Kathleen will bring bones and casts to illustrate her role when working with law enforcement or medical examiners to solve crimes. This program is suitable for early teens up through adults. 
URL:https://www.watonwancountylibrary.com/event/kathleen-t-blue-ph-d-professor-of-anthropology/
LOCATION:St. James Library\, 125 Fifth Street S\, St. James\, MN\, 56081\, United States
CATEGORIES:St. James Library
ATTACH;FMTTYPE=image/png:https://www.watonwancountylibrary.com/wp-content/uploads/Professor-of-Anthropology-event-cover.png
END:VEVENT
BEGIN:VEVENT
DTSTART;TZID=America/Chicago:20260331T160000
DTEND;TZID=America/Chicago:20260331T173000
DTSTAMP:20260423T161920
CREATED:20260226T205834Z
LAST-MODIFIED:20260226T205834Z
UID:4513-1774972800-1774978200@www.watonwancountylibrary.com
SUMMARY:Escape Room
DESCRIPTION:Work with a group to try to solve puzzles\, beat challenges and escape before time runs out! For kids in grades 3-6th.  Sign up is required: 507-375-1278
URL:https://www.watonwancountylibrary.com/event/escape-room/
LOCATION:St. James Library\, 125 Fifth Street S\, St. James\, MN\, 56081\, United States
CATEGORIES:St. James Library
ATTACH;FMTTYPE=image/png:https://www.watonwancountylibrary.com/wp-content/uploads/Escape-Room-event-cover.png
END:VEVENT
BEGIN:VEVENT
DTSTART;TZID=America/Chicago:20260331T173000
DTEND;TZID=America/Chicago:20260331T183000
DTSTAMP:20260423T161920
CREATED:20260226T205926Z
LAST-MODIFIED:20260226T205926Z
UID:4516-1774978200-1774981800@www.watonwancountylibrary.com
SUMMARY:Evening Storytime
DESCRIPTION:Kids and their caregivers are invited to the library for storytime!
URL:https://www.watonwancountylibrary.com/event/evening-storytime-28/
LOCATION:Madelia Branch Library\, 23 First Street NW\, Madelia\, MN\, 56062\, United States
CATEGORIES:Madelia Library
ATTACH;FMTTYPE=image/png:https://www.watonwancountylibrary.com/wp-content/uploads/evening-storytime.png
END:VEVENT
BEGIN:VEVENT
DTSTART;TZID=America/Chicago:20260402T153000
DTEND;TZID=America/Chicago:20260402T170000
DTSTAMP:20260423T161920
CREATED:20260327T183717Z
LAST-MODIFIED:20260327T183717Z
UID:4531-1775143800-1775149200@www.watonwancountylibrary.com
SUMMARY:Lego Club-St. James
DESCRIPTION:Calling all brick builders!  Kids are invited to join us for Lego Club at the library!  Bring your creativity and we’ll supply the Legos.
URL:https://www.watonwancountylibrary.com/event/lego-club-st-james-14/
LOCATION:St. James Library\, 125 Fifth Street S\, St. James\, MN\, 56081\, United States
CATEGORIES:St. James Library
ATTACH;FMTTYPE=image/png:https://www.watonwancountylibrary.com/wp-content/uploads/Lego-Club-3.png
END:VEVENT
BEGIN:VEVENT
DTSTART;TZID=America/Chicago:20260404T100000
DTEND;TZID=America/Chicago:20260404T120000
DTSTAMP:20260423T161920
CREATED:20260327T183923Z
LAST-MODIFIED:20260327T192307Z
UID:4533-1775296800-1775304000@www.watonwancountylibrary.com
SUMMARY:Cribbage
DESCRIPTION:Whether you are a pro or just learning\, you will have fun playing cribbage at the library! We will also have refreshments. Open to all ages\, but we ask that kids bring an adult. 
URL:https://www.watonwancountylibrary.com/event/cribbage-26/
LOCATION:St. James Library\, 125 Fifth Street S\, St. James\, MN\, 56081\, United States
CATEGORIES:St. James Library
ATTACH;FMTTYPE=image/png:https://www.watonwancountylibrary.com/wp-content/uploads/Copy-of-Copy-of-0426-WA-Waffles-and-movie-party.png
END:VEVENT
BEGIN:VEVENT
DTSTART;TZID=America/Chicago:20260404T120000
DTEND;TZID=America/Chicago:20260404T140000
DTSTAMP:20260423T161920
CREATED:20260327T184124Z
LAST-MODIFIED:20260327T184124Z
UID:4535-1775304000-1775311200@www.watonwancountylibrary.com
SUMMARY:Coffee & Conversation
DESCRIPTION:Come enjoy a cup of coffee and some conversation each Saturday.
URL:https://www.watonwancountylibrary.com/event/coffee-conversation-6/
LOCATION:Darfur Branch Library\, 200 Adrian Street\, Darfur\, MN\, 56022\, United States
CATEGORIES:Darfur Library
ATTACH;FMTTYPE=image/png:https://www.watonwancountylibrary.com/wp-content/uploads/coffee-and-conversation-event-cover.png
END:VEVENT
BEGIN:VEVENT
DTSTART;VALUE=DATE:20260406
DTEND;VALUE=DATE:20260419
DTSTAMP:20260423T161920
CREATED:20260327T184339Z
LAST-MODIFIED:20260327T184339Z
UID:4537-1775433600-1776556799@www.watonwancountylibrary.com
SUMMARY:Peep Diorama Contest!
DESCRIPTION:Create a Peep diorama at home and bring to the library during the week of April 6th to enter it into the contest.  Voting will take place from April 13-18 with winners announced the following week!  Prizes provided by an anonymous donor.
URL:https://www.watonwancountylibrary.com/event/peep-diorama-contest-2/
LOCATION:MN
CATEGORIES:Lewisville Library,Madelia Library,St. James Library
ATTACH;FMTTYPE=image/png:https://www.watonwancountylibrary.com/wp-content/uploads/Peep-Diorama-Contest.png
END:VEVENT
BEGIN:VEVENT
DTSTART;TZID=America/Chicago:20260406T143000
DTEND;TZID=America/Chicago:20260406T153000
DTSTAMP:20260423T161920
CREATED:20260327T185236Z
LAST-MODIFIED:20260327T185236Z
UID:4539-1775485800-1775489400@www.watonwancountylibrary.com
SUMMARY:Uncommon Facts About Common Birds with Stan Tekiela
DESCRIPTION:Stan is a Minnesota author\, photographer and naturalist. This is a fun and entertaining talk presenting fascinating facts and tidbits about some of the birds that people love to hate along with some of the more common birds in our yard. Stan will challenge your preconceived ideas about some common birds such as the European Starling\, the American Crow and much\, much more. You will never look at these birds the same way ever again. He will also have his many books available for purchase and signing! \nThis program was made possible in part with a grant from the Arts & Cultural Heritage Fund of the Minnesota Clean Water\, Land\, and Legacy Amendment through the Traverse des Sioux Library System.
URL:https://www.watonwancountylibrary.com/event/uncommon-facts-about-common-birds-with-stan-tekiela/
LOCATION:Madelia Branch Library\, 23 First Street NW\, Madelia\, MN\, 56062\, United States
CATEGORIES:Madelia Library
ATTACH;FMTTYPE=image/png:https://www.watonwancountylibrary.com/wp-content/uploads/Copy-of-0426-WM-Uncommon-facts-about-birds-with-Stan-Tekiela-1.png
END:VEVENT
BEGIN:VEVENT
DTSTART;TZID=America/Chicago:20260406T163000
DTEND;TZID=America/Chicago:20260406T173000
DTSTAMP:20260423T161920
CREATED:20260327T185527Z
LAST-MODIFIED:20260327T185527Z
UID:4543-1775493000-1775496600@www.watonwancountylibrary.com
SUMMARY:Start Mushrooming with Stan Tekiela
DESCRIPTION:Stan is a Minnesota author\, photographer and naturalist. The fun and enjoyable way to learn how to forage for wild mushrooms and not kill yourself. Stan makes this serious topic fun and interesting. You too can safely get out and collect wild edible mushrooms without fear. Learn the safe seven mushrooms and how to safely collect\, cook and store. He will also have his many books available for purchase and signing! \nThis program was made possible in part with a grant from the Arts & Cultural Heritage Fund of the Minnesota Clean Water\, Land\, and Legacy Amendment through the Traverse des Sioux Library System. \n 
URL:https://www.watonwancountylibrary.com/event/start-mushrooming-with-stan-tekiela/
LOCATION:Lewisville Fire Hall
CATEGORIES:Lewisville Library
ATTACH;FMTTYPE=image/png:https://www.watonwancountylibrary.com/wp-content/uploads/Copy-of-0426-WL-Mushrooming-with-Stan-Tekiela.png
END:VEVENT
BEGIN:VEVENT
DTSTART;TZID=America/Chicago:20260407T100000
DTEND;TZID=America/Chicago:20260407T110000
DTSTAMP:20260423T161920
CREATED:20260327T185630Z
LAST-MODIFIED:20260327T185630Z
UID:4546-1775556000-1775559600@www.watonwancountylibrary.com
SUMMARY:Storytime/Play Cafe
DESCRIPTION:Caregivers are invited to bring the little ones to an interactive storytime followed by a special playtime.  Please join us!
URL:https://www.watonwancountylibrary.com/event/storytime-play-cafe-23/
LOCATION:St. James Library\, 125 Fifth Street S\, St. James\, MN\, 56081\, United States
CATEGORIES:St. James Library
ATTACH;FMTTYPE=image/png:https://www.watonwancountylibrary.com/wp-content/uploads/2025-WA-StorytimePlay-Cafe-event-cover.png
END:VEVENT
BEGIN:VEVENT
DTSTART;TZID=America/Chicago:20260407T153000
DTEND;TZID=America/Chicago:20260407T170000
DTSTAMP:20260423T161920
CREATED:20260327T190245Z
LAST-MODIFIED:20260327T190245Z
UID:4548-1775575800-1775581200@www.watonwancountylibrary.com
SUMMARY:Escape Room
DESCRIPTION:Work with a group to try to solve puzzles\, beat challenges and escape before time runs out! For kids in grades 3-6th.  Sign up is required: 507-642-3511.
URL:https://www.watonwancountylibrary.com/event/escape-room-2/
LOCATION:Madelia Branch Library\, 23 First Street NW\, Madelia\, MN\, 56062\, United States
CATEGORIES:Madelia Library
ATTACH;FMTTYPE=image/png:https://www.watonwancountylibrary.com/wp-content/uploads/Escape-Room-event-cover.png
END:VEVENT
END:VCALENDAR