BEGIN:VCALENDAR
VERSION:2.0
PRODID:-//Watonwan County Library - ECPv6.15.20//NONSGML v1.0//EN
CALSCALE:GREGORIAN
METHOD:PUBLISH
X-WR-CALNAME:Watonwan County Library
X-ORIGINAL-URL:https://www.watonwancountylibrary.com
X-WR-CALDESC:Events for Watonwan County Library
REFRESH-INTERVAL;VALUE=DURATION:PT1H
X-Robots-Tag:noindex
X-PUBLISHED-TTL:PT1H
BEGIN:VTIMEZONE
TZID:America/Chicago
BEGIN:DAYLIGHT
TZOFFSETFROM:-0600
TZOFFSETTO:-0500
TZNAME:CDT
DTSTART:20250309T080000
END:DAYLIGHT
BEGIN:STANDARD
TZOFFSETFROM:-0500
TZOFFSETTO:-0600
TZNAME:CST
DTSTART:20251102T070000
END:STANDARD
BEGIN:DAYLIGHT
TZOFFSETFROM:-0600
TZOFFSETTO:-0500
TZNAME:CDT
DTSTART:20260308T080000
END:DAYLIGHT
BEGIN:STANDARD
TZOFFSETFROM:-0500
TZOFFSETTO:-0600
TZNAME:CST
DTSTART:20261101T070000
END:STANDARD
BEGIN:DAYLIGHT
TZOFFSETFROM:-0600
TZOFFSETTO:-0500
TZNAME:CDT
DTSTART:20270314T080000
END:DAYLIGHT
BEGIN:STANDARD
TZOFFSETFROM:-0500
TZOFFSETTO:-0600
TZNAME:CST
DTSTART:20271107T070000
END:STANDARD
END:VTIMEZONE
BEGIN:VEVENT
DTSTART;TZID=America/Chicago:20260311T100000
DTEND;TZID=America/Chicago:20260311T110000
DTSTAMP:20260423T174601
CREATED:20260226T201104Z
LAST-MODIFIED:20260226T201104Z
UID:4470-1773223200-1773226800@www.watonwancountylibrary.com
SUMMARY:Homeschoolers Club
DESCRIPTION:Homeschoolers\, come and meet other homeschool kids\, listen to a story and do a fun activity! Parents can connect and share ideas!
URL:https://www.watonwancountylibrary.com/event/homeschoolers-club-2/
LOCATION:St. James Library\, 125 Fifth Street S\, St. James\, MN\, 56081\, United States
CATEGORIES:St. James Library
ATTACH;FMTTYPE=image/png:https://www.watonwancountylibrary.com/wp-content/uploads/Homeschool-Club-event-cover.png
END:VEVENT
BEGIN:VEVENT
DTSTART;TZID=America/Chicago:20260310T153000
DTEND;TZID=America/Chicago:20260310T170000
DTSTAMP:20260423T174601
CREATED:20260226T200920Z
LAST-MODIFIED:20260226T200920Z
UID:4467-1773156600-1773162000@www.watonwancountylibrary.com
SUMMARY:Wishing for Spring Crafts for Kids-Darfur
DESCRIPTION:Kids can come and do spring crafts at the library!
URL:https://www.watonwancountylibrary.com/event/wishing-for-spring-crafts-for-kids-darfur/
LOCATION:Darfur Branch Library\, 200 Adrian Street\, Darfur\, MN\, 56022\, United States
CATEGORIES:Darfur Library
ATTACH;FMTTYPE=image/png:https://www.watonwancountylibrary.com/wp-content/uploads/Wishing-for-Spring-Crafts-event-cover.png
END:VEVENT
BEGIN:VEVENT
DTSTART;TZID=America/Chicago:20260310T153000
DTEND;TZID=America/Chicago:20260310T163000
DTSTAMP:20260423T174601
CREATED:20260226T200519Z
LAST-MODIFIED:20260226T200519Z
UID:4464-1773156600-1773160200@www.watonwancountylibrary.com
SUMMARY:Dance Party
DESCRIPTION:Kids in grades 3rd-6th can come and dance your hearts out playing “Just Dance”!
URL:https://www.watonwancountylibrary.com/event/dance-party/
LOCATION:Madelia Branch Library\, 23 First Street NW\, Madelia\, MN\, 56062\, United States
CATEGORIES:Madelia Library
ATTACH;FMTTYPE=image/png:https://www.watonwancountylibrary.com/wp-content/uploads/Dance-Party-event-cover.png
END:VEVENT
BEGIN:VEVENT
DTSTART;TZID=America/Chicago:20260309T170000
DTEND;TZID=America/Chicago:20260309T180000
DTSTAMP:20260423T174601
CREATED:20260106T205920Z
LAST-MODIFIED:20260106T205920Z
UID:4325-1773075600-1773079200@www.watonwancountylibrary.com
SUMMARY:Yoga
DESCRIPTION:Registered Yoga Teacher: Roxanne Romsdahl \nLearn basic hatha yoga poses and breathing patterns to develop a home yoga practice for all ages. The focus will be on poses\, stretches\, and breath work to strengthen the body\, improve flexibility and balance\, and reduce anxiety.
URL:https://www.watonwancountylibrary.com/event/yoga-21/
LOCATION:St. James Library\, 125 Fifth Street S\, St. James\, MN\, 56081\, United States
CATEGORIES:St. James Library
ATTACH;FMTTYPE=image/png:https://www.watonwancountylibrary.com/wp-content/uploads/yoga-event-cover-1.png
END:VEVENT
BEGIN:VEVENT
DTSTART;TZID=America/Chicago:20260309T150000
DTEND;TZID=America/Chicago:20260309T163000
DTSTAMP:20260423T174601
CREATED:20260226T192608Z
LAST-MODIFIED:20260226T192608Z
UID:4459-1773068400-1773073800@www.watonwancountylibrary.com
SUMMARY:DIY Spring Candy Jar Craft for Adults
DESCRIPTION:Adults will learn how to repurpose items and use them in a totally different way to create a super cute candy jar to give away or display at home. Supplies provided and spots limited.  To sign up\, call 507-956-2361.
URL:https://www.watonwancountylibrary.com/event/diy-spring-candy-jar-craft-for-adults/
LOCATION:Butterfield Branch Library\, 111 N. Second Street\, Butterfield\, MN\, 56120\, United States
CATEGORIES:Butterfield Library
ATTACH;FMTTYPE=image/png:https://www.watonwancountylibrary.com/wp-content/uploads/Spring-Candy-Jar-DIY-event-cover.png
END:VEVENT
BEGIN:VEVENT
DTSTART;TZID=America/Chicago:20260307T120000
DTEND;TZID=America/Chicago:20260307T140000
DTSTAMP:20260423T174601
CREATED:20260226T220311Z
LAST-MODIFIED:20260226T220311Z
UID:4520-1772884800-1772892000@www.watonwancountylibrary.com
SUMMARY:Coffee and Conversation
DESCRIPTION:Come enjoy a cup of coffee and some conversation each Saturday.
URL:https://www.watonwancountylibrary.com/event/coffee-and-conversation-19/
LOCATION:Darfur Branch Library\, 200 Adrian Street\, Darfur\, MN\, 56022\, United States
CATEGORIES:Darfur Library
ATTACH;FMTTYPE=image/png:https://www.watonwancountylibrary.com/wp-content/uploads/coffee-and-conversation-event-cover.png
END:VEVENT
BEGIN:VEVENT
DTSTART;TZID=America/Chicago:20260307T100000
DTEND;TZID=America/Chicago:20260307T120000
DTSTAMP:20260423T174601
CREATED:20260224T164546Z
LAST-MODIFIED:20260224T164546Z
UID:4457-1772877600-1772884800@www.watonwancountylibrary.com
SUMMARY:Cribbage
DESCRIPTION:Whether you are a pro or just learning\, you will have fun playing cribbage at the library! We will also have refreshments. Open to all ages\, but we ask that kids bring an adult. 
URL:https://www.watonwancountylibrary.com/event/cribbage-25/
LOCATION:St. James Library\, 125 Fifth Street S\, St. James\, MN\, 56081\, United States
CATEGORIES:St. James Library
ATTACH;FMTTYPE=image/jpeg:https://www.watonwancountylibrary.com/wp-content/uploads/H2P_cribbage.jpg
END:VEVENT
BEGIN:VEVENT
DTSTART;TZID=America/Chicago:20260305T153000
DTEND;TZID=America/Chicago:20260305T170000
DTSTAMP:20260423T174601
CREATED:20260224T164437Z
LAST-MODIFIED:20260224T164437Z
UID:4455-1772724600-1772730000@www.watonwancountylibrary.com
SUMMARY:Lego Club-St. James
DESCRIPTION:Calling all brick builders!  Kids are invited to join us for Lego Club at the library!  Bring your creativity and we’ll supply the Legos.
URL:https://www.watonwancountylibrary.com/event/lego-club-st-james-13/
LOCATION:St. James Library\, 125 Fifth Street S\, St. James\, MN\, 56081\, United States
CATEGORIES:St. James Library
ATTACH;FMTTYPE=image/png:https://www.watonwancountylibrary.com/wp-content/uploads/Lego-Club-3.png
END:VEVENT
BEGIN:VEVENT
DTSTART;TZID=America/Chicago:20260303T100000
DTEND;TZID=America/Chicago:20260303T110000
DTSTAMP:20260423T174601
CREATED:20260224T164358Z
LAST-MODIFIED:20260224T164358Z
UID:4453-1772532000-1772535600@www.watonwancountylibrary.com
SUMMARY:Storytime/Play Cafe
DESCRIPTION:Caregivers are invited to bring the little ones to an interactive storytime followed by a special playtime.  Please join us!
URL:https://www.watonwancountylibrary.com/event/storytime-play-cafe-22/
LOCATION:St. James Library\, 125 Fifth Street S\, St. James\, MN\, 56081\, United States
CATEGORIES:St. James Library
ATTACH;FMTTYPE=image/png:https://www.watonwancountylibrary.com/wp-content/uploads/2025-WA-StorytimePlay-Cafe-event-cover.png
END:VEVENT
BEGIN:VEVENT
DTSTART;TZID=America/Chicago:20260302T173000
DTEND;TZID=America/Chicago:20260302T183000
DTSTAMP:20260423T174601
CREATED:20260224T164314Z
LAST-MODIFIED:20260224T164314Z
UID:4450-1772472600-1772476200@www.watonwancountylibrary.com
SUMMARY:"Loons" with Stan Tekiela
DESCRIPTION:Minnesota author\, photographer and naturalist\, Stan has spent over 20 years studying and photographing loons. Image after image\, he will share stunning pictures of loons in all their splendor and glory. Stan answers the age old questions about loons such as; Do they mate for life? Do the same loons return to the same lake each year? And so much more. Stan will also have his many books available for purchase and signing!
URL:https://www.watonwancountylibrary.com/event/loons-with-stan-tekiela/
LOCATION:St. James Library\, 125 Fifth Street S\, St. James\, MN\, 56081\, United States
CATEGORIES:St. James Library
ATTACH;FMTTYPE=image/png:https://www.watonwancountylibrary.com/wp-content/uploads/0326-Loons-with-Stan-Tekiela-event-cover.png
END:VEVENT
BEGIN:VEVENT
DTSTART;TZID=America/Chicago:20260302T140000
DTEND;TZID=America/Chicago:20260302T160000
DTSTAMP:20260423T174601
CREATED:20260224T164149Z
LAST-MODIFIED:20260224T164149Z
UID:4448-1772460000-1772467200@www.watonwancountylibrary.com
SUMMARY:Monday Movie Matinee for Adults
DESCRIPTION:We will be showing the movie “Arthur the King”.  Popcorn will be served!
URL:https://www.watonwancountylibrary.com/event/monday-movie-matinee-for-adults-3/
LOCATION:Madelia Branch Library\, 23 First Street NW\, Madelia\, MN\, 56062\, United States
CATEGORIES:Madelia Library
ATTACH;FMTTYPE=image/png:https://www.watonwancountylibrary.com/wp-content/uploads/Movie-Matinee-Event-Cover.png
END:VEVENT
BEGIN:VEVENT
DTSTART;TZID=America/Chicago:20260228T120000
DTEND;TZID=America/Chicago:20260228T140000
DTSTAMP:20260423T174601
CREATED:20260226T220233Z
LAST-MODIFIED:20260226T220233Z
UID:4518-1772280000-1772287200@www.watonwancountylibrary.com
SUMMARY:Coffee and Conversation
DESCRIPTION:Come enjoy a cup of coffee and some conversation each Saturday.
URL:https://www.watonwancountylibrary.com/event/coffee-and-conversation-18/
LOCATION:Darfur Branch Library\, 200 Adrian Street\, Darfur\, MN\, 56022\, United States
CATEGORIES:Darfur Library
ATTACH;FMTTYPE=image/png:https://www.watonwancountylibrary.com/wp-content/uploads/coffee-and-conversation-event-cover.png
END:VEVENT
BEGIN:VEVENT
DTSTART;TZID=America/Chicago:20260227T153000
DTEND;TZID=America/Chicago:20260227T170000
DTSTAMP:20260423T174601
CREATED:20260211T170421Z
LAST-MODIFIED:20260211T170421Z
UID:4438-1772206200-1772211600@www.watonwancountylibrary.com
SUMMARY:Pokémon Party-St. James
DESCRIPTION:Come “catch all” the fun with Pokémon themed crafts and activities. Open to kids in grades K and up. 
URL:https://www.watonwancountylibrary.com/event/pokemon-party-st-james/
LOCATION:St. James Library\, 125 Fifth Street S\, St. James\, MN\, 56081\, United States
CATEGORIES:St. James Library
ATTACH;FMTTYPE=image/png:https://www.watonwancountylibrary.com/wp-content/uploads/Pokemon-Party-All-Branches-event-cover.png
END:VEVENT
BEGIN:VEVENT
DTSTART;TZID=America/Chicago:20260227T153000
DTEND;TZID=America/Chicago:20260227T163000
DTSTAMP:20260423T174601
CREATED:20260211T171449Z
LAST-MODIFIED:20260211T171449Z
UID:4444-1772206200-1772209800@www.watonwancountylibrary.com
SUMMARY:Pokémon Party-Lewisville
DESCRIPTION:Come “catch all” the fun with Pokémon themed crafts and activities. Open to kids in grades K and up.
URL:https://www.watonwancountylibrary.com/event/pokemon-party-lewisville/
LOCATION:Lewisville Branch Library\, 129 Lewis Street W\, Lewisville\, MN\, 56060\, United States
CATEGORIES:Lewisville Library
ATTACH;FMTTYPE=image/png:https://www.watonwancountylibrary.com/wp-content/uploads/Pokemon-Party-All-Branches-event-cover.png
END:VEVENT
BEGIN:VEVENT
DTSTART;TZID=America/Chicago:20260227T153000
DTEND;TZID=America/Chicago:20260227T163000
DTSTAMP:20260423T174601
CREATED:20260211T171417Z
LAST-MODIFIED:20260211T171417Z
UID:4442-1772206200-1772209800@www.watonwancountylibrary.com
SUMMARY:Pokémon Party-Madelia
DESCRIPTION:Come “catch all” the fun with Pokémon themed crafts and activities. Open to kids in grades K and up.
URL:https://www.watonwancountylibrary.com/event/pokemon-party-madelia/
LOCATION:Madelia Branch Library\, 23 First Street NW\, Madelia\, MN\, 56062\, United States
CATEGORIES:Madelia Library
ATTACH;FMTTYPE=image/png:https://www.watonwancountylibrary.com/wp-content/uploads/Pokemon-Party-All-Branches-event-cover.png
END:VEVENT
BEGIN:VEVENT
DTSTART;TZID=America/Chicago:20260227T153000
DTEND;TZID=America/Chicago:20260227T163000
DTSTAMP:20260423T174601
CREATED:20260211T170520Z
LAST-MODIFIED:20260211T170520Z
UID:4440-1772206200-1772209800@www.watonwancountylibrary.com
SUMMARY:Pokémon Party-Butterfield
DESCRIPTION:Come “catch all” the fun with Pokémon themed crafts and activities. Open to kids in grades K and up.
URL:https://www.watonwancountylibrary.com/event/pokemon-party-butterfield/
LOCATION:Butterfield Branch Library\, 111 N. Second Street\, Butterfield\, MN\, 56120\, United States
CATEGORIES:Butterfield Library
ATTACH;FMTTYPE=image/png:https://www.watonwancountylibrary.com/wp-content/uploads/Pokemon-Party-All-Branches-event-cover.png
END:VEVENT
BEGIN:VEVENT
DTSTART;TZID=America/Chicago:20260226T170000
DTEND;TZID=America/Chicago:20260226T190000
DTSTAMP:20260423T174601
CREATED:20260211T171925Z
LAST-MODIFIED:20260211T171925Z
UID:4446-1772125200-1772132400@www.watonwancountylibrary.com
SUMMARY:Knitting Club
DESCRIPTION:All levels of experience are welcome. Whether you want to learn or have a project to finish\, Tessa is here to help!
URL:https://www.watonwancountylibrary.com/event/knitting-club-16/
LOCATION:St. James Library\, 125 Fifth Street S\, St. James\, MN\, 56081\, United States
CATEGORIES:St. James Library
ATTACH;FMTTYPE=image/png:https://www.watonwancountylibrary.com/wp-content/uploads/knitting-club-event-cover-2.png
END:VEVENT
BEGIN:VEVENT
DTSTART;TZID=America/Chicago:20260226T163000
DTEND;TZID=America/Chicago:20260226T173000
DTSTAMP:20260423T174601
CREATED:20260211T170324Z
LAST-MODIFIED:20260211T170324Z
UID:4435-1772123400-1772127000@www.watonwancountylibrary.com
SUMMARY:Pokémon Party-Darfur
DESCRIPTION:Come “catch all” the fun with Pokémon themed crafts and activities. Open to kids in grades K and up. 
URL:https://www.watonwancountylibrary.com/event/pokemon-party-darfur/
LOCATION:Darfur Branch Library\, 200 Adrian Street\, Darfur\, MN\, 56022\, United States
CATEGORIES:Darfur Library
ATTACH;FMTTYPE=image/png:https://www.watonwancountylibrary.com/wp-content/uploads/Pokemon-Party-All-Branches-event-cover.png
END:VEVENT
BEGIN:VEVENT
DTSTART;TZID=America/Chicago:20260224T173000
DTEND;TZID=America/Chicago:20260224T183000
DTSTAMP:20260423T174601
CREATED:20260210T231835Z
LAST-MODIFIED:20260210T231835Z
UID:4431-1771954200-1771957800@www.watonwancountylibrary.com
SUMMARY:Quiet Game Challenge
DESCRIPTION:Who can master the art of silence and snag the most victories?!  Put your stealthy skills to the test with games like Hide and Seek\, Heads Up 7up\, Squeaky Chicken Game and more!  This is for kids in grades 3rd-6th.  Call to sign up: 507-375-1278.
URL:https://www.watonwancountylibrary.com/event/quiet-game-challenge/
LOCATION:St. James Library\, 125 Fifth Street S\, St. James\, MN\, 56081\, United States
CATEGORIES:St. James Library
ATTACH;FMTTYPE=image/png:https://www.watonwancountylibrary.com/wp-content/uploads/Quiet-Game-Challenge-event-cover.png
END:VEVENT
BEGIN:VEVENT
DTSTART;TZID=America/Chicago:20260224T173000
DTEND;TZID=America/Chicago:20260224T180000
DTSTAMP:20260423T174601
CREATED:20260210T231440Z
LAST-MODIFIED:20260210T231440Z
UID:4429-1771954200-1771956000@www.watonwancountylibrary.com
SUMMARY:Evening Storytime
DESCRIPTION:Kids and their caregivers are invited to the library for storytime!
URL:https://www.watonwancountylibrary.com/event/evening-storytime-26/
LOCATION:Madelia Branch Library\, 23 First Street NW\, Madelia\, MN\, 56062\, United States
CATEGORIES:Madelia Library
ATTACH;FMTTYPE=image/png:https://www.watonwancountylibrary.com/wp-content/uploads/evening-storytime.png
END:VEVENT
BEGIN:VEVENT
DTSTART;TZID=America/Chicago:20260223T150000
DTEND;TZID=America/Chicago:20260223T170000
DTSTAMP:20260423T174601
CREATED:20260210T231318Z
LAST-MODIFIED:20260210T231318Z
UID:4427-1771858800-1771866000@www.watonwancountylibrary.com
SUMMARY:Adventure Club-Butterfield
DESCRIPTION:In collaboration with the MN Extension Office and Community Ed\, we will be holding Adventure Club at the school in the cafeteria. Kids will get information from school about how to sign up. 
URL:https://www.watonwancountylibrary.com/event/adventure-club-butterfield-14/
LOCATION:Butterfield-Odin School
CATEGORIES:Butterfield Library
ATTACH;FMTTYPE=image/png:https://www.watonwancountylibrary.com/wp-content/uploads/adventure-club.png
END:VEVENT
BEGIN:VEVENT
DTSTART;TZID=America/Chicago:20260220T140000
DTEND;TZID=America/Chicago:20260220T160000
DTSTAMP:20260423T174601
CREATED:20260210T231232Z
LAST-MODIFIED:20260210T231232Z
UID:4425-1771596000-1771603200@www.watonwancountylibrary.com
SUMMARY:Friday Flicks
DESCRIPTION:Join us at the St. James Library for a showing of  “National Treasure 2: Book of Secrets”. Fresh hot popcorn will be served.
URL:https://www.watonwancountylibrary.com/event/friday-flicks-32/
LOCATION:St. James Library\, 125 Fifth Street S\, St. James\, MN\, 56081\, United States
CATEGORIES:St. James Library
ATTACH;FMTTYPE=image/png:https://www.watonwancountylibrary.com/wp-content/uploads/WA-Friday-Flicks.png
END:VEVENT
BEGIN:VEVENT
DTSTART;TZID=America/Chicago:20260220T100000
DTEND;TZID=America/Chicago:20260220T110000
DTSTAMP:20260423T174601
CREATED:20260106T210902Z
LAST-MODIFIED:20260106T210902Z
UID:4338-1771581600-1771585200@www.watonwancountylibrary.com
SUMMARY:Memory Writing with Marion
DESCRIPTION:Join Marion Edgar Style as she guides you in recording your thoughts and memories. Refreshments will be served and journals will be provided.
URL:https://www.watonwancountylibrary.com/event/memory-writing-with-marion-32/
LOCATION:St. James Library\, 125 Fifth Street S\, St. James\, MN\, 56081\, United States
CATEGORIES:St. James Library
ATTACH;FMTTYPE=image/png:https://www.watonwancountylibrary.com/wp-content/uploads/WA-Memory-Writing-with-Marion.png
END:VEVENT
BEGIN:VEVENT
DTSTART;TZID=America/Chicago:20260219T153000
DTEND;TZID=America/Chicago:20260219T163000
DTSTAMP:20260423T174601
CREATED:20260210T231036Z
LAST-MODIFIED:20260210T231036Z
UID:4423-1771515000-1771518600@www.watonwancountylibrary.com
SUMMARY:Busted Canvas DIY
DESCRIPTION:Learn the artful busted canvas technique to create a unique piece of art to hang in your home or give as a gift! To sign up\, call 507-877-5010.
URL:https://www.watonwancountylibrary.com/event/busted-canvas-diy/
LOCATION:Darfur Branch Library\, 200 Adrian Street\, Darfur\, MN\, 56022\, United States
CATEGORIES:Darfur Library
ATTACH;FMTTYPE=image/png:https://www.watonwancountylibrary.com/wp-content/uploads/0825-WB-Busted-Canvas-Art-for-Adults-event-cover-1.png
END:VEVENT
BEGIN:VEVENT
DTSTART;TZID=America/Chicago:20260218T150000
DTEND;TZID=America/Chicago:20260218T160000
DTSTAMP:20260423T174601
CREATED:20260210T230926Z
LAST-MODIFIED:20260210T230926Z
UID:4421-1771426800-1771430400@www.watonwancountylibrary.com
SUMMARY:Reader's Choice Book Club
DESCRIPTION:This reader’s choice book club is open to all adults and all books. Maybe you will leave with your next great read!
URL:https://www.watonwancountylibrary.com/event/readers-choice-book-club-28/
LOCATION:Butterfield Branch Library\, 111 N. Second Street\, Butterfield\, MN\, 56120\, United States
CATEGORIES:Butterfield Library
ATTACH;FMTTYPE=image/png:https://www.watonwancountylibrary.com/wp-content/uploads/WB-Readers-Choice-Book-Club.png
END:VEVENT
BEGIN:VEVENT
DTSTART;TZID=America/Chicago:20260217T173000
DTEND;TZID=America/Chicago:20260217T183000
DTSTAMP:20260423T174601
CREATED:20260210T230827Z
LAST-MODIFIED:20260210T230827Z
UID:4419-1771349400-1771353000@www.watonwancountylibrary.com
SUMMARY:Library Board Meeting
DESCRIPTION:The library board meets monthly and is open to the public.
URL:https://www.watonwancountylibrary.com/event/library-board-meeting-12/
LOCATION:St. James Library\, 125 Fifth Street S\, St. James\, MN\, 56081\, United States
CATEGORIES:St. James Library
ATTACH;FMTTYPE=image/png:https://www.watonwancountylibrary.com/wp-content/uploads/library-board-meeting-event-cover.png
END:VEVENT
BEGIN:VEVENT
DTSTART;VALUE=DATE:20260216
DTEND;VALUE=DATE:20260217
DTSTAMP:20260423T174601
CREATED:20260210T230032Z
LAST-MODIFIED:20260210T230032Z
UID:4416-1771200000-1771286399@www.watonwancountylibrary.com
SUMMARY:CLOSED FOR PRESIDENTS DAY
DESCRIPTION:All libraries will be closed for Presidents Day.
URL:https://www.watonwancountylibrary.com/event/closed-for-presidents-day/
LOCATION:MN
CATEGORIES:Butterfield Library,Darfur Library,Lewisville Library,Madelia Library,St. James Library
ATTACH;FMTTYPE=image/png:https://www.watonwancountylibrary.com/wp-content/uploads/PRESIDENTS-DAY-1.png
END:VEVENT
BEGIN:VEVENT
DTSTART;TZID=America/Chicago:20260214T100000
DTEND;TZID=America/Chicago:20260214T110000
DTSTAMP:20260423T174601
CREATED:20260210T225729Z
LAST-MODIFIED:20260210T225729Z
UID:4414-1771063200-1771066800@www.watonwancountylibrary.com
SUMMARY:Sensory Play
DESCRIPTION:For our littlest patrons\, ages 0-3\, and their caregivers.  Come explore all the different sensory stations!  Little ones will benefit from sensory play and maybe even meet some new friends. 
URL:https://www.watonwancountylibrary.com/event/sensory-play-13/
LOCATION:St. James Library\, 125 Fifth Street S\, St. James\, MN\, 56081\, United States
CATEGORIES:St. James Library
ATTACH;FMTTYPE=image/png:https://www.watonwancountylibrary.com/wp-content/uploads/2025-WA-Sensory-Play-event-cover.png
END:VEVENT
BEGIN:VEVENT
DTSTART;TZID=America/Chicago:20260213T160000
DTEND;TZID=America/Chicago:20260213T170000
DTSTAMP:20260423T174601
CREATED:20260210T225201Z
LAST-MODIFIED:20260210T225201Z
UID:4409-1770998400-1771002000@www.watonwancountylibrary.com
SUMMARY:Teen Button Making
DESCRIPTION:Teens in grades 7-12 are invited to gather at the library to create their own BUTTONS to wear and display!  Teens can choose from popular images\, sayings or custom draw their own.  All supplies will be provided for this FREE program.  No need to sign up!
URL:https://www.watonwancountylibrary.com/event/teen-button-making/
LOCATION:St. James Library\, 125 Fifth Street S\, St. James\, MN\, 56081\, United States
CATEGORIES:St. James Library
ATTACH;FMTTYPE=image/png:https://www.watonwancountylibrary.com/wp-content/uploads/Copy-of-0226-WA-TEENS-button-making.png
END:VEVENT
BEGIN:VEVENT
DTSTART;TZID=America/Chicago:20260213T150000
DTEND;TZID=America/Chicago:20260213T160000
DTSTAMP:20260423T174601
CREATED:20260210T225319Z
LAST-MODIFIED:20260210T225319Z
UID:4412-1770994800-1770998400@www.watonwancountylibrary.com
SUMMARY:DIY Aroma Stones
DESCRIPTION:Adults are invited to come and learn how to make your own aroma stones which are perfect for adding fresh scents to areas of your home or office.  Spots are limited.  Call to sign up 507-435-2781.
URL:https://www.watonwancountylibrary.com/event/diy-aroma-stones-2/
LOCATION:Lewisville Branch Library\, 129 Lewis Street W\, Lewisville\, MN\, 56060\, United States
CATEGORIES:Lewisville Library
ATTACH;FMTTYPE=image/png:https://www.watonwancountylibrary.com/wp-content/uploads/DIY-Aroma-Stones-event-cover.png
END:VEVENT
END:VCALENDAR