BEGIN:VCALENDAR
VERSION:2.0
PRODID:-//Watonwan County Library - ECPv6.15.20//NONSGML v1.0//EN
CALSCALE:GREGORIAN
METHOD:PUBLISH
X-WR-CALNAME:Watonwan County Library
X-ORIGINAL-URL:https://www.watonwancountylibrary.com
X-WR-CALDESC:Events for Watonwan County Library
REFRESH-INTERVAL;VALUE=DURATION:PT1H
X-Robots-Tag:noindex
X-PUBLISHED-TTL:PT1H
BEGIN:VTIMEZONE
TZID:America/Chicago
BEGIN:DAYLIGHT
TZOFFSETFROM:-0600
TZOFFSETTO:-0500
TZNAME:CDT
DTSTART:20240310T080000
END:DAYLIGHT
BEGIN:STANDARD
TZOFFSETFROM:-0500
TZOFFSETTO:-0600
TZNAME:CST
DTSTART:20241103T070000
END:STANDARD
BEGIN:DAYLIGHT
TZOFFSETFROM:-0600
TZOFFSETTO:-0500
TZNAME:CDT
DTSTART:20250309T080000
END:DAYLIGHT
BEGIN:STANDARD
TZOFFSETFROM:-0500
TZOFFSETTO:-0600
TZNAME:CST
DTSTART:20251102T070000
END:STANDARD
BEGIN:DAYLIGHT
TZOFFSETFROM:-0600
TZOFFSETTO:-0500
TZNAME:CDT
DTSTART:20260308T080000
END:DAYLIGHT
BEGIN:STANDARD
TZOFFSETFROM:-0500
TZOFFSETTO:-0600
TZNAME:CST
DTSTART:20261101T070000
END:STANDARD
END:VTIMEZONE
BEGIN:VEVENT
DTSTART;TZID=America/Chicago:20250917T150000
DTEND;TZID=America/Chicago:20250917T160000
DTSTAMP:20260424T130457
CREATED:20250825T213519Z
LAST-MODIFIED:20250825T213519Z
UID:4037-1758121200-1758124800@www.watonwancountylibrary.com
SUMMARY:Reader's Choice Book club
DESCRIPTION:This reader’s choice book club is open to all adults and all books. Maybe you will leave with your next great read!
URL:https://www.watonwancountylibrary.com/event/readers-choice-book-club-25/
LOCATION:Butterfield Branch Library\, 111 N. Second Street\, Butterfield\, MN\, 56120\, United States
CATEGORIES:Butterfield Library
ATTACH;FMTTYPE=image/png:https://www.watonwancountylibrary.com/wp-content/uploads/WB-Readers-Choice-Book-Club.png
END:VEVENT
BEGIN:VEVENT
DTSTART;TZID=America/Chicago:20250915T163000
DTEND;TZID=America/Chicago:20250915T173000
DTSTAMP:20260424T130457
CREATED:20250825T210723Z
LAST-MODIFIED:20250825T210723Z
UID:4035-1757953800-1757957400@www.watonwancountylibrary.com
SUMMARY:Musician Kerry Grombacher -Lewisville
DESCRIPTION:Kerry Grombacher\, a modern-day troubadour\, will be here to perform “Songs and Stories of the American West”.  *This will be held at the Fire Hall \nThis program is made possible by the voters of Minnesota through a grant provided by the Traverse des Sioux Library Cooperative\, thanks to a legislative appropriation from the arts and cultural heritage fund.
URL:https://www.watonwancountylibrary.com/event/musician-kerry-grombacher-lewisville/
LOCATION:Lewisville Fire Hall
CATEGORIES:Lewisville Library
ATTACH;FMTTYPE=image/png:https://www.watonwancountylibrary.com/wp-content/uploads/0925-WA-WM-WL-Musician-Kerry-Grombacher-event-cover.png
END:VEVENT
BEGIN:VEVENT
DTSTART;TZID=America/Chicago:20250915T133000
DTEND;TZID=America/Chicago:20250915T143000
DTSTAMP:20260424T130457
CREATED:20250825T210614Z
LAST-MODIFIED:20250825T210614Z
UID:4033-1757943000-1757946600@www.watonwancountylibrary.com
SUMMARY:Musician Kerry Grombacher -Madelia
DESCRIPTION:Kerry Grombacher\, a modern-day troubadour\, will be here to perform “Songs and Stories of the American West”.  \nThis program is made possible by the voters of Minnesota through a grant provided by the Traverse des Sioux Library Cooperative\, thanks to a legislative appropriation from the arts and cultural heritage fund.
URL:https://www.watonwancountylibrary.com/event/musician-kerry-grombacher-madelia/
LOCATION:Madelia Branch Library\, 23 First Street NW\, Madelia\, MN\, 56062\, United States
CATEGORIES:Madelia Library
ATTACH;FMTTYPE=image/png:https://www.watonwancountylibrary.com/wp-content/uploads/0925-WA-WM-WL-Musician-Kerry-Grombacher-event-cover.png
END:VEVENT
BEGIN:VEVENT
DTSTART;TZID=America/Chicago:20250915T100000
DTEND;TZID=America/Chicago:20250915T110000
DTSTAMP:20260424T130457
CREATED:20250825T210501Z
LAST-MODIFIED:20250825T210831Z
UID:4030-1757930400-1757934000@www.watonwancountylibrary.com
SUMMARY:Musician Kerry Grombacher -St. James
DESCRIPTION:Kerry Grombacher\, a modern-day troubadour\, will be here to perform “Songs and Stories of the American West”.  \nThis program is made possible by the voters of Minnesota through a grant provided by the Traverse des Sioux Library Cooperative\, thanks to a legislative appropriation from the arts and cultural heritage fund.
URL:https://www.watonwancountylibrary.com/event/musician-kerry-grombacher-st-james/
LOCATION:St. James Library\, 125 Fifth Street S\, St. James\, MN\, 56081\, United States
CATEGORIES:St. James Library
ATTACH;FMTTYPE=image/png:https://www.watonwancountylibrary.com/wp-content/uploads/0925-WA-WM-WL-Musician-Kerry-Grombacher-event-cover.png
END:VEVENT
BEGIN:VEVENT
DTSTART;TZID=America/Chicago:20250913T100000
DTEND;TZID=America/Chicago:20250913T110000
DTSTAMP:20260424T130457
CREATED:20250825T205625Z
LAST-MODIFIED:20250825T205625Z
UID:4027-1757757600-1757761200@www.watonwancountylibrary.com
SUMMARY:Sensory Play Cafe
DESCRIPTION:For our littlest patrons\, ages 0-3\, and their caregivers.  Come explore all the different sensory stations!  Little ones will benefit from sensory play and maybe even meet some new friends.
URL:https://www.watonwancountylibrary.com/event/sensory-play-cafe-10/
LOCATION:St. James Library\, 125 Fifth Street S\, St. James\, MN\, 56081\, United States
CATEGORIES:St. James Library
ATTACH;FMTTYPE=image/png:https://www.watonwancountylibrary.com/wp-content/uploads/2025-WA-Sensory-Play-event-cover.png
END:VEVENT
BEGIN:VEVENT
DTSTART;TZID=America/Chicago:20250912T100000
DTEND;TZID=America/Chicago:20250912T110000
DTSTAMP:20260424T130457
CREATED:20250825T201258Z
LAST-MODIFIED:20250825T201258Z
UID:4025-1757671200-1757674800@www.watonwancountylibrary.com
SUMMARY:Memory Writing with Marion
DESCRIPTION:Join Marion Edgar Style as she guides you in recording your thoughts and memories. Refreshments will be served and journals will be provided. \n *This is a date change from when we regularly meet. 
URL:https://www.watonwancountylibrary.com/event/memory-writing-with-marion-28/
LOCATION:St. James Library\, 125 Fifth Street S\, St. James\, MN\, 56081\, United States
CATEGORIES:St. James Library
ATTACH;FMTTYPE=image/png:https://www.watonwancountylibrary.com/wp-content/uploads/WA-Memory-Writing-with-Marion.png
END:VEVENT
BEGIN:VEVENT
DTSTART;TZID=America/Chicago:20250911T100000
DTEND;TZID=America/Chicago:20250911T110000
DTSTAMP:20260424T130457
CREATED:20250825T201126Z
LAST-MODIFIED:20250825T201126Z
UID:4022-1757584800-1757588400@www.watonwancountylibrary.com
SUMMARY:Good Life\, Good Death-Conversations & Education about Death and Dying
DESCRIPTION:Join Julia Uleberg Swanson\, End of Life Doula\, as she starts the conversation we all need to be having with our loved ones. There will be a different topic each month. 
URL:https://www.watonwancountylibrary.com/event/good-life-good-death-conversations-education-about-death-and-dying/
LOCATION:St. James Library\, 125 Fifth Street S\, St. James\, MN\, 56081\, United States
CATEGORIES:St. James Library
ATTACH;FMTTYPE=image/png:https://www.watonwancountylibrary.com/wp-content/uploads/WA-0925-1025-1125-1225-Good-Life-Good-Death-event-cover.png
END:VEVENT
BEGIN:VEVENT
DTSTART;TZID=America/Chicago:20250910T160000
DTEND;TZID=America/Chicago:20250910T170000
DTSTAMP:20260424T130457
CREATED:20250825T200427Z
LAST-MODIFIED:20250825T200427Z
UID:4020-1757520000-1757523600@www.watonwancountylibrary.com
SUMMARY:Family Game Night-Lewisville
DESCRIPTION:Kids and families are invited to come and play games at the library!  This is a great way to learn and try new games.
URL:https://www.watonwancountylibrary.com/event/family-game-night-lewisville/
LOCATION:Lewisville Branch Library\, 129 Lewis Street W\, Lewisville\, MN\, 56060\, United States
CATEGORIES:Lewisville Library
ATTACH;FMTTYPE=image/png:https://www.watonwancountylibrary.com/wp-content/uploads/Family-Game-Night.png
END:VEVENT
BEGIN:VEVENT
DTSTART;TZID=America/Chicago:20250909T160000
DTEND;TZID=America/Chicago:20250909T170000
DTSTAMP:20260424T130457
CREATED:20250825T195539Z
LAST-MODIFIED:20250825T195539Z
UID:4017-1757433600-1757437200@www.watonwancountylibrary.com
SUMMARY:Cloud Dough Creation
DESCRIPTION:Kids are welcome to come and learn how to make CLOUD DOUGH! Like play-dough but even better! Call to sign up: 507-642-3511
URL:https://www.watonwancountylibrary.com/event/cloud-dough-creation/
LOCATION:Madelia Branch Library\, 23 First Street NW\, Madelia\, MN\, 56062\, United States
CATEGORIES:Madelia Library
ATTACH;FMTTYPE=image/png:https://www.watonwancountylibrary.com/wp-content/uploads/0925-WM-Cloud-Dough-event-cover.png
END:VEVENT
BEGIN:VEVENT
DTSTART;TZID=America/Chicago:20250908T183000
DTEND;TZID=America/Chicago:20250908T193000
DTSTAMP:20260424T130457
CREATED:20250825T195046Z
LAST-MODIFIED:20250825T195046Z
UID:4015-1757356200-1757359800@www.watonwancountylibrary.com
SUMMARY:Novels by Night Book Club
DESCRIPTION:Our September meeting will be a “reader’s choice”. Share what you are reading.  Maybe you will leave with your next great read!
URL:https://www.watonwancountylibrary.com/event/novels-by-night-book-club-27/
LOCATION:St. James Library\, 125 Fifth Street S\, St. James\, MN\, 56081\, United States
CATEGORIES:St. James Library
ATTACH;FMTTYPE=image/png:https://www.watonwancountylibrary.com/wp-content/uploads/Novels-by-Night.png
END:VEVENT
BEGIN:VEVENT
DTSTART;TZID=America/Chicago:20250908T170000
DTEND;TZID=America/Chicago:20250908T180000
DTSTAMP:20260424T130457
CREATED:20250825T194938Z
LAST-MODIFIED:20250825T194938Z
UID:4013-1757350800-1757354400@www.watonwancountylibrary.com
SUMMARY:Yoga
DESCRIPTION:Registered Yoga Teacher: Roxanne Romsdahl \nLearn basic hatha yoga poses and breathing patterns to develop a home yoga practice for all ages. The focus will be on poses\, stretches\, and breath work to strengthen the body\, improve flexibility and balance\, and reduce anxiety.
URL:https://www.watonwancountylibrary.com/event/yoga-15/
LOCATION:St. James Library\, 125 Fifth Street S\, St. James\, MN\, 56081\, United States
CATEGORIES:St. James Library
ATTACH;FMTTYPE=image/png:https://www.watonwancountylibrary.com/wp-content/uploads/yoga-event-cover.png
END:VEVENT
BEGIN:VEVENT
DTSTART;TZID=America/Chicago:20250908T160000
DTEND;TZID=America/Chicago:20250908T170000
DTSTAMP:20260424T130457
CREATED:20250825T194817Z
LAST-MODIFIED:20250825T194817Z
UID:4010-1757347200-1757350800@www.watonwancountylibrary.com
SUMMARY:Puzzle and Play
DESCRIPTION:Caregivers and their little ones are invited to the library for a puzzle party!
URL:https://www.watonwancountylibrary.com/event/puzzle-and-play/
LOCATION:Butterfield Branch Library\, 111 N. Second Street\, Butterfield\, MN\, 56120\, United States
CATEGORIES:Butterfield Library
ATTACH;FMTTYPE=image/png:https://www.watonwancountylibrary.com/wp-content/uploads/0925-WB-Puzzle-and-Play-event-cover.png
END:VEVENT
BEGIN:VEVENT
DTSTART;TZID=America/Chicago:20250908T140000
DTEND;TZID=America/Chicago:20250908T160000
DTSTAMP:20260424T130457
CREATED:20250825T192248Z
LAST-MODIFIED:20250825T192248Z
UID:4008-1757340000-1757347200@www.watonwancountylibrary.com
SUMMARY:Monday Movie Matinee
DESCRIPTION:We will be showing the movie “The Notebook”.  Popcorn will be served!
URL:https://www.watonwancountylibrary.com/event/monday-movie-matinee-3/
LOCATION:Madelia Branch Library\, 23 First Street NW\, Madelia\, MN\, 56062\, United States
CATEGORIES:Madelia Library
ATTACH;FMTTYPE=image/png:https://www.watonwancountylibrary.com/wp-content/uploads/Movie-Matinee-Event-Cover.png
END:VEVENT
BEGIN:VEVENT
DTSTART;TZID=America/Chicago:20250904T150000
DTEND;TZID=America/Chicago:20250904T160000
DTSTAMP:20260424T130457
CREATED:20250825T192059Z
LAST-MODIFIED:20250825T192059Z
UID:4005-1756998000-1757001600@www.watonwancountylibrary.com
SUMMARY:Travis Smith Demonstration-Butterfield
DESCRIPTION:Travis Smith\, of St. James\, will share how he creates sleeping mats out of plastic bags for the homeless.  He will demonstrate how he weaves them together on his homemade loom!
URL:https://www.watonwancountylibrary.com/event/travis-smith-demonstration-butterfield/
LOCATION:Butterfield Branch Library\, 111 N. Second Street\, Butterfield\, MN\, 56120\, United States
CATEGORIES:Butterfield Library
ATTACH;FMTTYPE=image/png:https://www.watonwancountylibrary.com/wp-content/uploads/0925-WB-WA-Travis-Smith-Mat-Demo-event-cover.png
END:VEVENT
BEGIN:VEVENT
DTSTART;TZID=America/Chicago:20250902T100000
DTEND;TZID=America/Chicago:20250902T110000
DTSTAMP:20260424T130457
CREATED:20250825T191434Z
LAST-MODIFIED:20250825T191434Z
UID:4002-1756807200-1756810800@www.watonwancountylibrary.com
SUMMARY:Storytime/Play Cafe
DESCRIPTION:Caregivers are invited to bring the little ones to an interactive storytime followed by a special playtime.  Please join us!
URL:https://www.watonwancountylibrary.com/event/storytime-play-cafe-16/
LOCATION:St. James Library\, 125 Fifth Street S\, St. James\, MN\, 56081\, United States
CATEGORIES:St. James Library
ATTACH;FMTTYPE=image/png:https://www.watonwancountylibrary.com/wp-content/uploads/2025-WA-StorytimePlay-Cafe-event-cover.png
END:VEVENT
BEGIN:VEVENT
DTSTART;TZID=America/Chicago:20250828T170000
DTEND;TZID=America/Chicago:20250828T190000
DTSTAMP:20260424T130457
CREATED:20250731T163843Z
LAST-MODIFIED:20250731T163843Z
UID:4000-1756400400-1756407600@www.watonwancountylibrary.com
SUMMARY:Knitting Club
DESCRIPTION:All levels of experience are welcome. Whether you want to learn or have a project to finish\, Tessa is here to help!
URL:https://www.watonwancountylibrary.com/event/knitting-club-11/
LOCATION:St. James Library\, 125 Fifth Street S\, St. James\, MN\, 56081\, United States
CATEGORIES:Madelia Library
ATTACH;FMTTYPE=image/png:https://www.watonwancountylibrary.com/wp-content/uploads/knitting-club-event-cover-2.png
END:VEVENT
BEGIN:VEVENT
DTSTART;TZID=America/Chicago:20250827T150000
DTEND;TZID=America/Chicago:20250827T160000
DTSTAMP:20260424T130457
CREATED:20250731T163750Z
LAST-MODIFIED:20250731T163750Z
UID:3998-1756306800-1756310400@www.watonwancountylibrary.com
SUMMARY:Lego Club-Lewisville
DESCRIPTION:Calling all brick builders!  Kids are invited to join us for Lego Club at the library!  Bring your creativity and we’ll supply the Legos.
URL:https://www.watonwancountylibrary.com/event/lego-club-lewisville-5/
LOCATION:Lewisville Branch Library\, 129 Lewis Street W\, Lewisville\, MN\, 56060\, United States
CATEGORIES:Lewisville Library
ATTACH;FMTTYPE=image/png:https://www.watonwancountylibrary.com/wp-content/uploads/Lego-Club-3.png
END:VEVENT
BEGIN:VEVENT
DTSTART;TZID=America/Chicago:20250826T173000
DTEND;TZID=America/Chicago:20250826T183000
DTSTAMP:20260424T130457
CREATED:20250731T163636Z
LAST-MODIFIED:20250731T163636Z
UID:3996-1756229400-1756233000@www.watonwancountylibrary.com
SUMMARY:Meet and Greet with Little Foot
DESCRIPTION:Want to learn more about bearded dragons and meet one up close?!  Here is your chance!  Little Foot\, the bearded dragon\, will be visiting with Melissa and she will teach you everything she knows about these cute little creatures.  
URL:https://www.watonwancountylibrary.com/event/meet-and-greet-with-little-foot/
LOCATION:Madelia Branch Library\, 23 First Street NW\, Madelia\, MN\, 56062\, United States
CATEGORIES:Madelia Library
ATTACH;FMTTYPE=image/png:https://www.watonwancountylibrary.com/wp-content/uploads/Little-Foot-event-cover.png
END:VEVENT
BEGIN:VEVENT
DTSTART;TZID=America/Chicago:20250825T180000
DTEND;TZID=America/Chicago:20250825T190000
DTSTAMP:20260424T130457
CREATED:20250731T163512Z
LAST-MODIFIED:20250731T163512Z
UID:3994-1756144800-1756148400@www.watonwancountylibrary.com
SUMMARY:Cutting Board String Art for Adults
DESCRIPTION:Come and create a one-of-a-kind cutting board to display in your kitchen.  Be prepared to do a little hammering!  To sign up\, please call 507-642-3511.
URL:https://www.watonwancountylibrary.com/event/cutting-board-string-art-for-adults-2/
LOCATION:Madelia Branch Library\, 23 First Street NW\, Madelia\, MN\, 56062\, United States
CATEGORIES:Madelia Library
ATTACH;FMTTYPE=image/png:https://www.watonwancountylibrary.com/wp-content/uploads/0625-WB-STRING-ART-event-cover.png
END:VEVENT
BEGIN:VEVENT
DTSTART;TZID=America/Chicago:20250821T160000
DTEND;TZID=America/Chicago:20250821T170000
DTSTAMP:20260424T130457
CREATED:20250731T163341Z
LAST-MODIFIED:20250731T163341Z
UID:3992-1755792000-1755795600@www.watonwancountylibrary.com
SUMMARY:Wood Burning for Adults
DESCRIPTION:Adults will be able to learn how to use wood burning paste to create a fun design on wood!  Spots are limited\, so please sign up by calling 507-877-5010 or 507-375-1278.
URL:https://www.watonwancountylibrary.com/event/wood-burning-for-adults-2/
LOCATION:Darfur Branch Library\, 200 Adrian Street\, Darfur\, MN\, 56022\, United States
CATEGORIES:Darfur Library
ATTACH;FMTTYPE=image/png:https://www.watonwancountylibrary.com/wp-content/uploads/0625-WL-WOOD-BURNING-DIY-event-cover.png
END:VEVENT
BEGIN:VEVENT
DTSTART;TZID=America/Chicago:20250821T140000
DTEND;TZID=America/Chicago:20250821T150000
DTSTAMP:20260424T130457
CREATED:20250731T163221Z
LAST-MODIFIED:20250731T163221Z
UID:3990-1755784800-1755788400@www.watonwancountylibrary.com
SUMMARY:Back to School Bash-Butterfield
DESCRIPTION:School is just around the corner. Come in and start packing your backpack by winning fun school supplies while playing BINGO!  This is open to school age\, PreK-6th grade.
URL:https://www.watonwancountylibrary.com/event/back-to-school-bash-butterfield/
LOCATION:Butterfield Branch Library\, 111 N. Second Street\, Butterfield\, MN\, 56120\, United States
CATEGORIES:Butterfield Library
ATTACH;FMTTYPE=image/png:https://www.watonwancountylibrary.com/wp-content/uploads/0825-All-branches-Back-To-School-Bash-event-cover.png
END:VEVENT
BEGIN:VEVENT
DTSTART;TZID=America/Chicago:20250820T150000
DTEND;TZID=America/Chicago:20250820T160000
DTSTAMP:20260424T130457
CREATED:20250731T163120Z
LAST-MODIFIED:20250731T163120Z
UID:3988-1755702000-1755705600@www.watonwancountylibrary.com
SUMMARY:Reader's Choice Book Club
DESCRIPTION:This reader’s choice book club is open to all adults and all books. Maybe you will leave with your next great read!
URL:https://www.watonwancountylibrary.com/event/readers-choice-book-club-24/
LOCATION:Butterfield Branch Library\, 111 N. Second Street\, Butterfield\, MN\, 56120\, United States
CATEGORIES:Butterfield Library
ATTACH;FMTTYPE=image/png:https://www.watonwancountylibrary.com/wp-content/uploads/WB-Readers-Choice-Book-Club.png
END:VEVENT
BEGIN:VEVENT
DTSTART;TZID=America/Chicago:20250819T180000
DTEND;TZID=America/Chicago:20250819T190000
DTSTAMP:20260424T130457
CREATED:20250731T162911Z
LAST-MODIFIED:20250731T162911Z
UID:3986-1755626400-1755630000@www.watonwancountylibrary.com
SUMMARY:Evening Storytime
DESCRIPTION:Kids and their caregivers are invited to the library for storytime!
URL:https://www.watonwancountylibrary.com/event/evening-storytime-20/
LOCATION:Madelia Branch Library\, 23 First Street NW\, Madelia\, MN\, 56062\, United States
CATEGORIES:Madelia Library
ATTACH;FMTTYPE=image/png:https://www.watonwancountylibrary.com/wp-content/uploads/evening-storytime.png
END:VEVENT
BEGIN:VEVENT
DTSTART;TZID=America/Chicago:20250819T173000
DTEND;TZID=America/Chicago:20250819T183000
DTSTAMP:20260424T130457
CREATED:20250731T162806Z
LAST-MODIFIED:20250731T162806Z
UID:3984-1755624600-1755628200@www.watonwancountylibrary.com
SUMMARY:Library Board Meeting
DESCRIPTION:The library board meets monthly and is open to the public. 
URL:https://www.watonwancountylibrary.com/event/library-board-meeting-9/
LOCATION:St. James Library\, 125 Fifth Street S\, St. James\, MN\, 56081\, United States
CATEGORIES:St. James Library
ATTACH;FMTTYPE=image/png:https://www.watonwancountylibrary.com/wp-content/uploads/library-board-meeting-event-cover.png
END:VEVENT
BEGIN:VEVENT
DTSTART;TZID=America/Chicago:20250818T160000
DTEND;TZID=America/Chicago:20250818T170000
DTSTAMP:20260424T130457
CREATED:20250731T162648Z
LAST-MODIFIED:20250731T162648Z
UID:3981-1755532800-1755536400@www.watonwancountylibrary.com
SUMMARY:Show & Tell for the Young at Heart
DESCRIPTION:Do you have something special or meaningful—a small collection\, a childhood keepsake\, or something that brings you joy? Bring it in to share with others! It’ll be fun to see unique items and hear the personal stories behind them.
URL:https://www.watonwancountylibrary.com/event/show-tell-for-the-young-at-heart/
LOCATION:St. James Library\, 125 Fifth Street S\, St. James\, MN\, 56081\, United States
CATEGORIES:St. James Library
ATTACH;FMTTYPE=image/png:https://www.watonwancountylibrary.com/wp-content/uploads/0825-WA-Show-Tell-for-Adults-event-cover.png
END:VEVENT
BEGIN:VEVENT
DTSTART;TZID=America/Chicago:20250815T140000
DTEND;TZID=America/Chicago:20250815T160000
DTSTAMP:20260424T130457
CREATED:20250731T160518Z
LAST-MODIFIED:20250731T160518Z
UID:3979-1755266400-1755273600@www.watonwancountylibrary.com
SUMMARY:Friday Flicks
DESCRIPTION:Join us at the St. James Library for a showing of  “The Final Season”. Fresh hot popcorn will be served.
URL:https://www.watonwancountylibrary.com/event/friday-flicks-27/
LOCATION:St. James Library\, 125 Fifth Street S\, St. James\, MN\, 56081\, United States
CATEGORIES:St. James Library
ATTACH;FMTTYPE=image/png:https://www.watonwancountylibrary.com/wp-content/uploads/WA-Friday-Flicks.png
END:VEVENT
BEGIN:VEVENT
DTSTART;TZID=America/Chicago:20250815T100000
DTEND;TZID=America/Chicago:20250815T120000
DTSTAMP:20260424T130457
CREATED:20250731T160414Z
LAST-MODIFIED:20250731T160414Z
UID:3977-1755252000-1755259200@www.watonwancountylibrary.com
SUMMARY:Memory Writing
DESCRIPTION:Join Marion Edgar Style as she guides you in recording your thoughts and memories. Refreshments will be served and journals will be provided.
URL:https://www.watonwancountylibrary.com/event/memory-writing-2/
LOCATION:St. James Library\, 125 Fifth Street S\, St. James\, MN\, 56081\, United States
CATEGORIES:St. James Library
ATTACH;FMTTYPE=image/png:https://www.watonwancountylibrary.com/wp-content/uploads/WA-Memory-Writing-with-Marion.png
END:VEVENT
BEGIN:VEVENT
DTSTART;TZID=America/Chicago:20250814T160000
DTEND;TZID=America/Chicago:20250814T180000
DTSTAMP:20260424T130457
CREATED:20250731T160258Z
LAST-MODIFIED:20250731T160258Z
UID:3975-1755187200-1755194400@www.watonwancountylibrary.com
SUMMARY:Back to School Bash-St. James
DESCRIPTION:School is just around the corner. Come in and start packing your backpack by winning fun school supplies while playing BINGO!  This is open to school age\, PreK-6th grade.
URL:https://www.watonwancountylibrary.com/event/back-to-school-bash-st-james/
LOCATION:St. James Library\, 125 Fifth Street S\, St. James\, MN\, 56081\, United States
CATEGORIES:St. James Library
ATTACH;FMTTYPE=image/png:https://www.watonwancountylibrary.com/wp-content/uploads/0825-All-branches-Back-To-School-Bash-event-cover.png
END:VEVENT
BEGIN:VEVENT
DTSTART;TZID=America/Chicago:20250813T160000
DTEND;TZID=America/Chicago:20250813T170000
DTSTAMP:20260424T130457
CREATED:20250731T155536Z
LAST-MODIFIED:20250731T155536Z
UID:3972-1755100800-1755104400@www.watonwancountylibrary.com
SUMMARY:Busted Canvas-Lewisville
DESCRIPTION:Learn the artful busted canvas technique to create a unique piece of art to hang in your home or give as a gift! To sign up\, call 507-435-2781 or 507-375-1278.
URL:https://www.watonwancountylibrary.com/event/busted-canvas-lewisville/
LOCATION:Lewisville Branch Library\, 129 Lewis Street W\, Lewisville\, MN\, 56060\, United States
CATEGORIES:Lewisville Library
ATTACH;FMTTYPE=image/png:https://www.watonwancountylibrary.com/wp-content/uploads/0825-WL-Busted-Canvas-Art-for-Adults-event-cover.png
END:VEVENT
BEGIN:VEVENT
DTSTART;TZID=America/Chicago:20250813T153000
DTEND;TZID=America/Chicago:20250813T170000
DTSTAMP:20260424T130457
CREATED:20250731T155036Z
LAST-MODIFIED:20250731T155036Z
UID:3970-1755099000-1755104400@www.watonwancountylibrary.com
SUMMARY:Lego Club-Madelia
DESCRIPTION:Calling all brick builders!  Kids are invited to join us for Lego Club at the library!  Bring your creativity and we’ll supply the Legos.
URL:https://www.watonwancountylibrary.com/event/lego-club-madelia-7/
LOCATION:Madelia Branch Library\, 23 First Street NW\, Madelia\, MN\, 56062\, United States
CATEGORIES:Madelia Library
ATTACH;FMTTYPE=image/png:https://www.watonwancountylibrary.com/wp-content/uploads/Lego-Club-3.png
END:VEVENT
END:VCALENDAR