BEGIN:VCALENDAR
VERSION:2.0
PRODID:-//Watonwan County Library - ECPv6.15.20//NONSGML v1.0//EN
CALSCALE:GREGORIAN
METHOD:PUBLISH
X-ORIGINAL-URL:https://www.watonwancountylibrary.com
X-WR-CALDESC:Events for Watonwan County Library
REFRESH-INTERVAL;VALUE=DURATION:PT1H
X-Robots-Tag:noindex
X-PUBLISHED-TTL:PT1H
BEGIN:VTIMEZONE
TZID:America/Chicago
BEGIN:DAYLIGHT
TZOFFSETFROM:-0600
TZOFFSETTO:-0500
TZNAME:CDT
DTSTART:20240310T080000
END:DAYLIGHT
BEGIN:STANDARD
TZOFFSETFROM:-0500
TZOFFSETTO:-0600
TZNAME:CST
DTSTART:20241103T070000
END:STANDARD
BEGIN:DAYLIGHT
TZOFFSETFROM:-0600
TZOFFSETTO:-0500
TZNAME:CDT
DTSTART:20250309T080000
END:DAYLIGHT
BEGIN:STANDARD
TZOFFSETFROM:-0500
TZOFFSETTO:-0600
TZNAME:CST
DTSTART:20251102T070000
END:STANDARD
BEGIN:DAYLIGHT
TZOFFSETFROM:-0600
TZOFFSETTO:-0500
TZNAME:CDT
DTSTART:20260308T080000
END:DAYLIGHT
BEGIN:STANDARD
TZOFFSETFROM:-0500
TZOFFSETTO:-0600
TZNAME:CST
DTSTART:20261101T070000
END:STANDARD
END:VTIMEZONE
BEGIN:VEVENT
DTSTART;TZID=America/Chicago:20251013T170000
DTEND;TZID=America/Chicago:20251013T180000
DTSTAMP:20260424T102412
CREATED:20250925T143856Z
LAST-MODIFIED:20250925T143856Z
UID:4091-1760374800-1760378400@www.watonwancountylibrary.com
SUMMARY:Yoga
DESCRIPTION:Registered Yoga Teacher: Roxanne Romsdahl \nLearn basic hatha yoga poses and breathing patterns to develop a home yoga practice for all ages. The focus will be on poses\, stretches\, and breath work to strengthen the body\, improve flexibility and balance\, and reduce anxiety.
URL:https://www.watonwancountylibrary.com/event/yoga-16/
LOCATION:St. James Library\, 125 Fifth Street S\, St. James\, MN\, 56081\, United States
CATEGORIES:St. James Library
ATTACH;FMTTYPE=image/png:https://www.watonwancountylibrary.com/wp-content/uploads/yoga-event-cover.png
END:VEVENT
BEGIN:VEVENT
DTSTART;TZID=America/Chicago:20251013T150000
DTEND;TZID=America/Chicago:20251013T170000
DTSTAMP:20260424T102412
CREATED:20250925T143745Z
LAST-MODIFIED:20250925T143745Z
UID:4089-1760367600-1760374800@www.watonwancountylibrary.com
SUMMARY:Adventure Club-Butterfield
DESCRIPTION:In collaboration with the MN Extension Office and Community Ed\, we will be holding Adventure Club at the school in the cafeteria. Kids will get information from school about how to sign up.
URL:https://www.watonwancountylibrary.com/event/adventure-club-butterfield-13/
LOCATION:Butterfield-Odin School
CATEGORIES:Butterfield Library
ATTACH;FMTTYPE=image/png:https://www.watonwancountylibrary.com/wp-content/uploads/adventure-club.png
END:VEVENT
BEGIN:VEVENT
DTSTART;TZID=America/Chicago:20251011T100000
DTEND;TZID=America/Chicago:20251011T110000
DTSTAMP:20260424T102412
CREATED:20250918T205425Z
LAST-MODIFIED:20250918T205425Z
UID:4083-1760176800-1760180400@www.watonwancountylibrary.com
SUMMARY:Sensory Play Cafe
DESCRIPTION:For our littlest patrons\, ages 0-3\, and their caregivers.  Come explore all the different sensory stations!  Little ones will benefit from sensory play and maybe even meet some new friends.
URL:https://www.watonwancountylibrary.com/event/sensory-play-cafe-11/
LOCATION:St. James Library\, 125 Fifth Street S\, St. James\, MN\, 56081\, United States
CATEGORIES:St. James Library
ATTACH;FMTTYPE=image/png:https://www.watonwancountylibrary.com/wp-content/uploads/2025-WA-Sensory-Play-event-cover.png
END:VEVENT
BEGIN:VEVENT
DTSTART;TZID=America/Chicago:20251009T150000
DTEND;TZID=America/Chicago:20251009T170000
DTSTAMP:20260424T102412
CREATED:20250918T204735Z
LAST-MODIFIED:20250918T204935Z
UID:4079-1760022000-1760029200@www.watonwancountylibrary.com
SUMMARY:Adventure Club-St. James
DESCRIPTION:In collaboration with the MN Extension Office and Community Ed\, we will be holding Adventure Club at the high school in the home ec. room. Kids will get information from school and sign up using REVTRAK.
URL:https://www.watonwancountylibrary.com/event/adventure-club-st-james-11/
LOCATION:St. James Middle/High School
CATEGORIES:St. James Library
ATTACH;FMTTYPE=image/png:https://www.watonwancountylibrary.com/wp-content/uploads/adventure-club.png
END:VEVENT
BEGIN:VEVENT
DTSTART;TZID=America/Chicago:20251009T100000
DTEND;TZID=America/Chicago:20251009T110000
DTSTAMP:20260424T102412
CREATED:20250918T205151Z
LAST-MODIFIED:20250918T205151Z
UID:4081-1760004000-1760007600@www.watonwancountylibrary.com
SUMMARY:Good Life\, Good Death-Conversations & Education about Death and Dying
DESCRIPTION:Join Julia Uleberg Swanson\, End of Life Doula\, as she starts the conversation we all need to be having with our loved ones. There will be a different topic each month.  In October\, we plan to discuss the dying process and what to expect as well as Advanced Care Directives-why you should have one and who needs to know about it!
URL:https://www.watonwancountylibrary.com/event/good-life-good-death-conversations-education-about-death-and-dying-2/
LOCATION:St. James Library\, 125 Fifth Street S\, St. James\, MN\, 56081\, United States
CATEGORIES:St. James Library
ATTACH;FMTTYPE=image/png:https://www.watonwancountylibrary.com/wp-content/uploads/WA-0925-1025-1125-1225-Good-Life-Good-Death-event-cover.png
END:VEVENT
BEGIN:VEVENT
DTSTART;TZID=America/Chicago:20251007T170000
DTEND;TZID=America/Chicago:20251007T180000
DTSTAMP:20260424T102412
CREATED:20250925T143025Z
LAST-MODIFIED:20250925T143025Z
UID:4086-1759856400-1759860000@www.watonwancountylibrary.com
SUMMARY:Author Jill Kalz
DESCRIPTION:Jill Kalz is the author of “The Winter Bees”\, a collection of interconnected short stories set in rural Minnesota (her current home) and a 2019 Midwest Book Award finalist. Kalz is also the author of nearly 100 children’s books. \nPaid for and hosted by the Friends of the St. James Library
URL:https://www.watonwancountylibrary.com/event/author-jill-kalz/
LOCATION:St. James Library\, 125 Fifth Street S\, St. James\, MN\, 56081\, United States
CATEGORIES:St. James Library
ATTACH;FMTTYPE=image/png:https://www.watonwancountylibrary.com/wp-content/uploads/1025-FOL-Author-Event-with-Jill-Kalz-event-cover.png
END:VEVENT
BEGIN:VEVENT
DTSTART;TZID=America/Chicago:20251007T150000
DTEND;TZID=America/Chicago:20251007T170000
DTSTAMP:20260424T102412
CREATED:20250918T204613Z
LAST-MODIFIED:20250918T204613Z
UID:4077-1759849200-1759856400@www.watonwancountylibrary.com
SUMMARY:Adventure Club-Madelia
DESCRIPTION:In collaboration with the MN Extension Office and Community Ed\, we will be holding Adventure Club at the elementary school in the STEM lab. Kids will get information from school about how to sign up
URL:https://www.watonwancountylibrary.com/event/adventure-club-madelia-13/
LOCATION:Madelia Elementary School
CATEGORIES:Madelia Library
ATTACH;FMTTYPE=image/png:https://www.watonwancountylibrary.com/wp-content/uploads/adventure-club.png
END:VEVENT
BEGIN:VEVENT
DTSTART;TZID=America/Chicago:20251007T100000
DTEND;TZID=America/Chicago:20251007T110000
DTSTAMP:20260424T102412
CREATED:20250918T204359Z
LAST-MODIFIED:20250918T204359Z
UID:4075-1759831200-1759834800@www.watonwancountylibrary.com
SUMMARY:Storytime/Play Cafe
DESCRIPTION:Caregivers are invited to bring the little ones to an interactive storytime followed by a special playtime.  Please join us!
URL:https://www.watonwancountylibrary.com/event/storytime-play-cafe-17/
LOCATION:St. James Library\, 125 Fifth Street S\, St. James\, MN\, 56081\, United States
CATEGORIES:St. James Library
ATTACH;FMTTYPE=image/png:https://www.watonwancountylibrary.com/wp-content/uploads/2025-WA-StorytimePlay-Cafe-event-cover.png
END:VEVENT
BEGIN:VEVENT
DTSTART;TZID=America/Chicago:20251006T173000
DTEND;TZID=America/Chicago:20251006T183000
DTSTAMP:20260424T102412
CREATED:20250918T204150Z
LAST-MODIFIED:20250918T204150Z
UID:4073-1759771800-1759775400@www.watonwancountylibrary.com
SUMMARY:Evening Storytime-Butterfield
DESCRIPTION:Kids and their caregivers are invited to the library for storytime!
URL:https://www.watonwancountylibrary.com/event/evening-storytime-butterfield/
LOCATION:Butterfield Branch Library\, 111 N. Second Street\, Butterfield\, MN\, 56120\, United States
CATEGORIES:Butterfield Library
ATTACH;FMTTYPE=image/png:https://www.watonwancountylibrary.com/wp-content/uploads/evening-storytime.png
END:VEVENT
BEGIN:VEVENT
DTSTART;TZID=America/Chicago:20251006T160000
DTEND;TZID=America/Chicago:20251006T173000
DTSTAMP:20260424T102412
CREATED:20250918T204023Z
LAST-MODIFIED:20250918T204023Z
UID:4070-1759766400-1759771800@www.watonwancountylibrary.com
SUMMARY:Spooky Movie for Kids
DESCRIPTION:It’s spooky season and kids are invited to watch “Hocus Pocus“ at the library!  Popcorn will be served and kids are encouraged to bring a water bottle. Parents/Grandparents are also welcome to attend!
URL:https://www.watonwancountylibrary.com/event/spooky-movie-for-kids/
LOCATION:St. James Library\, 125 Fifth Street S\, St. James\, MN\, 56081\, United States
CATEGORIES:St. James Library
ATTACH;FMTTYPE=image/png:https://www.watonwancountylibrary.com/wp-content/uploads/1025-WA-Spooky-Movie-event-cover.png
END:VEVENT
BEGIN:VEVENT
DTSTART;TZID=America/Chicago:20251006T140000
DTEND;TZID=America/Chicago:20251006T160000
DTSTAMP:20260424T102412
CREATED:20250918T203416Z
LAST-MODIFIED:20250918T203416Z
UID:4068-1759759200-1759766400@www.watonwancountylibrary.com
SUMMARY:Monday Movie Matinee
DESCRIPTION:We will be showing the movie “Runaway Bride”.  Popcorn will be served!
URL:https://www.watonwancountylibrary.com/event/monday-movie-matinee-4/
LOCATION:Madelia Branch Library\, 23 First Street NW\, Madelia\, MN\, 56062\, United States
CATEGORIES:Madelia Library
ATTACH;FMTTYPE=image/png:https://www.watonwancountylibrary.com/wp-content/uploads/Movie-Matinee-Event-Cover.png
END:VEVENT
BEGIN:VEVENT
DTSTART;TZID=America/Chicago:20251004T103000
DTEND;TZID=America/Chicago:20251004T113000
DTSTAMP:20260424T102412
CREATED:20250918T203224Z
LAST-MODIFIED:20250918T203224Z
UID:4066-1759573800-1759577400@www.watonwancountylibrary.com
SUMMARY:Travis Smith Demonstration-Lewisville
DESCRIPTION:Travis Smith\, of St. James\, will share how he creates sleeping mats out of plastic bags for the homeless.  He will demonstrate how he weaves them together on his homemade loom!
URL:https://www.watonwancountylibrary.com/event/travis-smith-demonstration-lewisville/
LOCATION:Lewisville Branch Library\, 129 Lewis Street W\, Lewisville\, MN\, 56060\, United States
CATEGORIES:Lewisville Library
ATTACH;FMTTYPE=image/png:https://www.watonwancountylibrary.com/wp-content/uploads/0925-WB-WA-Travis-Smith-Mat-Demo-event-cover.png
END:VEVENT
BEGIN:VEVENT
DTSTART;TZID=America/Chicago:20251004T100000
DTEND;TZID=America/Chicago:20251004T120000
DTSTAMP:20260424T102412
CREATED:20250918T203006Z
LAST-MODIFIED:20250918T203006Z
UID:4064-1759572000-1759579200@www.watonwancountylibrary.com
SUMMARY:Cribbage
DESCRIPTION:Cribbage is back!  Whether you are a pro or just learning\, you will have fun playing cribbage at the library! We will also have refreshments. Open to all ages\, but we ask that kids bring an adult. 
URL:https://www.watonwancountylibrary.com/event/cribbage-20/
LOCATION:St. James Library\, 125 Fifth Street S\, St. James\, MN\, 56081\, United States
CATEGORIES:St. James Library
ATTACH;FMTTYPE=image/jpeg:https://www.watonwancountylibrary.com/wp-content/uploads/H2P_cribbage.jpg
END:VEVENT
BEGIN:VEVENT
DTSTART;TZID=America/Chicago:20251002T153000
DTEND;TZID=America/Chicago:20251002T170000
DTSTAMP:20260424T102412
CREATED:20250918T202018Z
LAST-MODIFIED:20250918T202018Z
UID:4062-1759419000-1759424400@www.watonwancountylibrary.com
SUMMARY:Lego Club-St. James
DESCRIPTION:Kids are invited to the library for Lego Club!  You bring the creativity and we supply the Legos!
URL:https://www.watonwancountylibrary.com/event/lego-club-st-james-10/
LOCATION:St. James Library\, 125 Fifth Street S\, St. James\, MN\, 56081\, United States
CATEGORIES:St. James Library
ATTACH;FMTTYPE=image/png:https://www.watonwancountylibrary.com/wp-content/uploads/Lego-Club-3.png
END:VEVENT
BEGIN:VEVENT
DTSTART;TZID=America/Chicago:20251002T150000
DTEND;TZID=America/Chicago:20251002T160000
DTSTAMP:20260424T102412
CREATED:20250918T201843Z
LAST-MODIFIED:20250918T201843Z
UID:4059-1759417200-1759420800@www.watonwancountylibrary.com
SUMMARY:DIY Ghost Shelf Sitter-Darfur
DESCRIPTION:Adults are invited to the library to make a cute ghost to sit on a shelf.  All supplies and instruction provided.  Must sign up by calling 507-877-5010 or 507-375-1278.
URL:https://www.watonwancountylibrary.com/event/diy-ghost-shelf-sitter-darfur/
LOCATION:Darfur Branch Library\, 200 Adrian Street\, Darfur\, MN\, 56022\, United States
CATEGORIES:Darfur Library
ATTACH;FMTTYPE=image/png:https://www.watonwancountylibrary.com/wp-content/uploads/Ghost-Shelf-Sitter-DIY-event-cover.png
END:VEVENT
BEGIN:VEVENT
DTSTART;TZID=America/Chicago:20251001T153000
DTEND;TZID=America/Chicago:20251001T163000
DTSTAMP:20260424T102412
CREATED:20250918T201524Z
LAST-MODIFIED:20250918T201524Z
UID:4056-1759332600-1759336200@www.watonwancountylibrary.com
SUMMARY:Graphic Novel Book Club-St. James
DESCRIPTION:For kids in grades 3-6!  Read a graphic novel with the theme of the month or come and get book ideas.. During the book club we will discuss graphic novels and do some fun activities related to the theme. The theme in October is Dragons!
URL:https://www.watonwancountylibrary.com/event/graphic-novel-book-club-st-james/
LOCATION:St. James Library\, 125 Fifth Street S\, St. James\, MN\, 56081\, United States
CATEGORIES:St. James Library
ATTACH;FMTTYPE=image/png:https://www.watonwancountylibrary.com/wp-content/uploads/Graphic-Novel-Club-event-cover.png
END:VEVENT
BEGIN:VEVENT
DTSTART;TZID=America/Chicago:20250930T180000
DTEND;TZID=America/Chicago:20250930T200000
DTSTAMP:20260424T102412
CREATED:20250825T214843Z
LAST-MODIFIED:20250825T214843Z
UID:4054-1759255200-1759262400@www.watonwancountylibrary.com
SUMMARY:Puzzles & Popcorn Challenge for Adults
DESCRIPTION:Adults are invited to sign up as a team of 4 to take on the puzzles & popcorn challenge! The first team to complete the puzzle wins bragging rights and a small prize! Call 507-375-1278 to sign up.
URL:https://www.watonwancountylibrary.com/event/puzzles-popcorn-challenge-for-adults/
LOCATION:St. James Library\, 125 Fifth Street S\, St. James\, MN\, 56081\, United States
CATEGORIES:St. James Library
ATTACH;FMTTYPE=image/jpeg:https://www.watonwancountylibrary.com/wp-content/uploads/puzzles-f2b858e7f3d44642bf0df99d3da6e704.jpg
END:VEVENT
BEGIN:VEVENT
DTSTART;TZID=America/Chicago:20250929T173000
DTEND;TZID=America/Chicago:20250929T183000
DTSTAMP:20260424T102412
CREATED:20250825T214733Z
LAST-MODIFIED:20250825T214733Z
UID:4051-1759167000-1759170600@www.watonwancountylibrary.com
SUMMARY:DIY Spooky Decor
DESCRIPTION:Adults are invited to create a fun piece of decor just in time for spooky season!  Spots are limited\, so please call 507-642-3511 to sign up. 
URL:https://www.watonwancountylibrary.com/event/diy-spooky-decor/
LOCATION:Madelia Branch Library\, 23 First Street NW\, Madelia\, MN\, 56062\, United States
CATEGORIES:Madelia Library
ATTACH;FMTTYPE=image/png:https://www.watonwancountylibrary.com/wp-content/uploads/0925-WM-DIY-spooky-decor-for-adults-event-cover.png
END:VEVENT
BEGIN:VEVENT
DTSTART;TZID=America/Chicago:20250926T160000
DTEND;TZID=America/Chicago:20250926T170000
DTSTAMP:20260424T102412
CREATED:20250825T214422Z
LAST-MODIFIED:20250825T214422Z
UID:4049-1758902400-1758906000@www.watonwancountylibrary.com
SUMMARY:Travis Smith Demonstration-St. James
DESCRIPTION:Travis Smith\, of St. James\, will share how he creates sleeping mats out of plastic bags for the homeless.  He will demonstrate how he weaves them together on his homemade loom!
URL:https://www.watonwancountylibrary.com/event/travis-smith-demonstration-st-james/
LOCATION:St. James Library\, 125 Fifth Street S\, St. James\, MN\, 56081\, United States
CATEGORIES:St. James Library
ATTACH;FMTTYPE=image/png:https://www.watonwancountylibrary.com/wp-content/uploads/0925-WB-WA-Travis-Smith-Mat-Demo-event-cover.png
END:VEVENT
BEGIN:VEVENT
DTSTART;TZID=America/Chicago:20250925T170000
DTEND;TZID=America/Chicago:20250925T190000
DTSTAMP:20260424T102412
CREATED:20250825T214258Z
LAST-MODIFIED:20250825T214258Z
UID:4047-1758819600-1758826800@www.watonwancountylibrary.com
SUMMARY:Knitting Club
DESCRIPTION:All levels of experience are welcome. Whether you want to learn or have a project to finish\, Tessa is here to help! 
URL:https://www.watonwancountylibrary.com/event/knitting-club-12/
LOCATION:St. James Library\, 125 Fifth Street S\, St. James\, MN\, 56081\, United States
CATEGORIES:St. James Library
ATTACH;FMTTYPE=image/png:https://www.watonwancountylibrary.com/wp-content/uploads/knitting-club-event-cover-2.png
END:VEVENT
BEGIN:VEVENT
DTSTART;TZID=America/Chicago:20250923T173000
DTEND;TZID=America/Chicago:20250923T183000
DTSTAMP:20260424T102412
CREATED:20250825T214101Z
LAST-MODIFIED:20250825T214101Z
UID:4045-1758648600-1758652200@www.watonwancountylibrary.com
SUMMARY:Evening Storytime
DESCRIPTION:Kids and their caregivers are invited to the library for storytime and a craft!
URL:https://www.watonwancountylibrary.com/event/evening-storytime-21/
LOCATION:Madelia Branch Library\, 23 First Street NW\, Madelia\, MN\, 56062\, United States
CATEGORIES:Madelia Library
ATTACH;FMTTYPE=image/png:https://www.watonwancountylibrary.com/wp-content/uploads/evening-storytime.png
END:VEVENT
BEGIN:VEVENT
DTSTART;TZID=America/Chicago:20250922T173000
DTEND;TZID=America/Chicago:20250922T190000
DTSTAMP:20260424T102412
CREATED:20250825T213941Z
LAST-MODIFIED:20250825T213941Z
UID:4043-1758562200-1758567600@www.watonwancountylibrary.com
SUMMARY:Family Game Night-St. James
DESCRIPTION:Kids and families are invited to come and play games at the library!  This is a great way to learn and try new games.
URL:https://www.watonwancountylibrary.com/event/family-game-night-st-james/
LOCATION:St. James Library\, 125 Fifth Street S\, St. James\, MN\, 56081\, United States
CATEGORIES:St. James Library
ATTACH;FMTTYPE=image/png:https://www.watonwancountylibrary.com/wp-content/uploads/Family-Game-Night.png
END:VEVENT
BEGIN:VEVENT
DTSTART;TZID=America/Chicago:20250922T150000
DTEND;TZID=America/Chicago:20250922T160000
DTSTAMP:20260424T102412
CREATED:20250825T213822Z
LAST-MODIFIED:20250825T213822Z
UID:4041-1758553200-1758556800@www.watonwancountylibrary.com
SUMMARY:DIY Halloween Decor for Adults
DESCRIPTION:Adults are invited to create a fun piece of decor just in time for spooky season!  Spots are limited\, so please call 507-956-2361 to sign up. 
URL:https://www.watonwancountylibrary.com/event/diy-halloween-decor-for-adults/
LOCATION:Butterfield Branch Library\, 111 N. Second Street\, Butterfield\, MN\, 56120\, United States
CATEGORIES:Butterfield Library
ATTACH;FMTTYPE=image/png:https://www.watonwancountylibrary.com/wp-content/uploads/halloween-decor-event-cover.png
END:VEVENT
BEGIN:VEVENT
DTSTART;TZID=America/Chicago:20250919T140000
DTEND;TZID=America/Chicago:20250919T160000
DTSTAMP:20260424T102412
CREATED:20250825T213656Z
LAST-MODIFIED:20250825T213656Z
UID:4039-1758290400-1758297600@www.watonwancountylibrary.com
SUMMARY:Friday Flicks
DESCRIPTION:Join us at the St. James Library for a showing of  “The Unbreakable Boy”.  Fresh hot popcorn will be served.
URL:https://www.watonwancountylibrary.com/event/friday-flicks-28/
LOCATION:St. James Library\, 125 Fifth Street S\, St. James\, MN\, 56081\, United States
CATEGORIES:St. James Library
ATTACH;FMTTYPE=image/png:https://www.watonwancountylibrary.com/wp-content/uploads/WA-Friday-Flicks.png
END:VEVENT
BEGIN:VEVENT
DTSTART;TZID=America/Chicago:20250917T150000
DTEND;TZID=America/Chicago:20250917T160000
DTSTAMP:20260424T102412
CREATED:20250825T213519Z
LAST-MODIFIED:20250825T213519Z
UID:4037-1758121200-1758124800@www.watonwancountylibrary.com
SUMMARY:Reader's Choice Book club
DESCRIPTION:This reader’s choice book club is open to all adults and all books. Maybe you will leave with your next great read!
URL:https://www.watonwancountylibrary.com/event/readers-choice-book-club-25/
LOCATION:Butterfield Branch Library\, 111 N. Second Street\, Butterfield\, MN\, 56120\, United States
CATEGORIES:Butterfield Library
ATTACH;FMTTYPE=image/png:https://www.watonwancountylibrary.com/wp-content/uploads/WB-Readers-Choice-Book-Club.png
END:VEVENT
BEGIN:VEVENT
DTSTART;TZID=America/Chicago:20250915T163000
DTEND;TZID=America/Chicago:20250915T173000
DTSTAMP:20260424T102412
CREATED:20250825T210723Z
LAST-MODIFIED:20250825T210723Z
UID:4035-1757953800-1757957400@www.watonwancountylibrary.com
SUMMARY:Musician Kerry Grombacher -Lewisville
DESCRIPTION:Kerry Grombacher\, a modern-day troubadour\, will be here to perform “Songs and Stories of the American West”.  *This will be held at the Fire Hall \nThis program is made possible by the voters of Minnesota through a grant provided by the Traverse des Sioux Library Cooperative\, thanks to a legislative appropriation from the arts and cultural heritage fund.
URL:https://www.watonwancountylibrary.com/event/musician-kerry-grombacher-lewisville/
LOCATION:Lewisville Fire Hall
CATEGORIES:Lewisville Library
ATTACH;FMTTYPE=image/png:https://www.watonwancountylibrary.com/wp-content/uploads/0925-WA-WM-WL-Musician-Kerry-Grombacher-event-cover.png
END:VEVENT
BEGIN:VEVENT
DTSTART;TZID=America/Chicago:20250915T133000
DTEND;TZID=America/Chicago:20250915T143000
DTSTAMP:20260424T102412
CREATED:20250825T210614Z
LAST-MODIFIED:20250825T210614Z
UID:4033-1757943000-1757946600@www.watonwancountylibrary.com
SUMMARY:Musician Kerry Grombacher -Madelia
DESCRIPTION:Kerry Grombacher\, a modern-day troubadour\, will be here to perform “Songs and Stories of the American West”.  \nThis program is made possible by the voters of Minnesota through a grant provided by the Traverse des Sioux Library Cooperative\, thanks to a legislative appropriation from the arts and cultural heritage fund.
URL:https://www.watonwancountylibrary.com/event/musician-kerry-grombacher-madelia/
LOCATION:Madelia Branch Library\, 23 First Street NW\, Madelia\, MN\, 56062\, United States
CATEGORIES:Madelia Library
ATTACH;FMTTYPE=image/png:https://www.watonwancountylibrary.com/wp-content/uploads/0925-WA-WM-WL-Musician-Kerry-Grombacher-event-cover.png
END:VEVENT
BEGIN:VEVENT
DTSTART;TZID=America/Chicago:20250915T100000
DTEND;TZID=America/Chicago:20250915T110000
DTSTAMP:20260424T102412
CREATED:20250825T210501Z
LAST-MODIFIED:20250825T210831Z
UID:4030-1757930400-1757934000@www.watonwancountylibrary.com
SUMMARY:Musician Kerry Grombacher -St. James
DESCRIPTION:Kerry Grombacher\, a modern-day troubadour\, will be here to perform “Songs and Stories of the American West”.  \nThis program is made possible by the voters of Minnesota through a grant provided by the Traverse des Sioux Library Cooperative\, thanks to a legislative appropriation from the arts and cultural heritage fund.
URL:https://www.watonwancountylibrary.com/event/musician-kerry-grombacher-st-james/
LOCATION:St. James Library\, 125 Fifth Street S\, St. James\, MN\, 56081\, United States
CATEGORIES:St. James Library
ATTACH;FMTTYPE=image/png:https://www.watonwancountylibrary.com/wp-content/uploads/0925-WA-WM-WL-Musician-Kerry-Grombacher-event-cover.png
END:VEVENT
BEGIN:VEVENT
DTSTART;TZID=America/Chicago:20250913T100000
DTEND;TZID=America/Chicago:20250913T110000
DTSTAMP:20260424T102412
CREATED:20250825T205625Z
LAST-MODIFIED:20250825T205625Z
UID:4027-1757757600-1757761200@www.watonwancountylibrary.com
SUMMARY:Sensory Play Cafe
DESCRIPTION:For our littlest patrons\, ages 0-3\, and their caregivers.  Come explore all the different sensory stations!  Little ones will benefit from sensory play and maybe even meet some new friends.
URL:https://www.watonwancountylibrary.com/event/sensory-play-cafe-10/
LOCATION:St. James Library\, 125 Fifth Street S\, St. James\, MN\, 56081\, United States
CATEGORIES:St. James Library
ATTACH;FMTTYPE=image/png:https://www.watonwancountylibrary.com/wp-content/uploads/2025-WA-Sensory-Play-event-cover.png
END:VEVENT
BEGIN:VEVENT
DTSTART;TZID=America/Chicago:20250912T100000
DTEND;TZID=America/Chicago:20250912T110000
DTSTAMP:20260424T102412
CREATED:20250825T201258Z
LAST-MODIFIED:20250825T201258Z
UID:4025-1757671200-1757674800@www.watonwancountylibrary.com
SUMMARY:Memory Writing with Marion
DESCRIPTION:Join Marion Edgar Style as she guides you in recording your thoughts and memories. Refreshments will be served and journals will be provided. \n *This is a date change from when we regularly meet. 
URL:https://www.watonwancountylibrary.com/event/memory-writing-with-marion-28/
LOCATION:St. James Library\, 125 Fifth Street S\, St. James\, MN\, 56081\, United States
CATEGORIES:St. James Library
ATTACH;FMTTYPE=image/png:https://www.watonwancountylibrary.com/wp-content/uploads/WA-Memory-Writing-with-Marion.png
END:VEVENT
END:VCALENDAR