BEGIN:VCALENDAR
VERSION:2.0
PRODID:-//Watonwan County Library - ECPv6.15.20//NONSGML v1.0//EN
CALSCALE:GREGORIAN
METHOD:PUBLISH
X-WR-CALNAME:Watonwan County Library
X-ORIGINAL-URL:https://www.watonwancountylibrary.com
X-WR-CALDESC:Events for Watonwan County Library
REFRESH-INTERVAL;VALUE=DURATION:PT1H
X-Robots-Tag:noindex
X-PUBLISHED-TTL:PT1H
BEGIN:VTIMEZONE
TZID:America/Chicago
BEGIN:DAYLIGHT
TZOFFSETFROM:-0600
TZOFFSETTO:-0500
TZNAME:CDT
DTSTART:20240310T080000
END:DAYLIGHT
BEGIN:STANDARD
TZOFFSETFROM:-0500
TZOFFSETTO:-0600
TZNAME:CST
DTSTART:20241103T070000
END:STANDARD
BEGIN:DAYLIGHT
TZOFFSETFROM:-0600
TZOFFSETTO:-0500
TZNAME:CDT
DTSTART:20250309T080000
END:DAYLIGHT
BEGIN:STANDARD
TZOFFSETFROM:-0500
TZOFFSETTO:-0600
TZNAME:CST
DTSTART:20251102T070000
END:STANDARD
BEGIN:DAYLIGHT
TZOFFSETFROM:-0600
TZOFFSETTO:-0500
TZNAME:CDT
DTSTART:20260308T080000
END:DAYLIGHT
BEGIN:STANDARD
TZOFFSETFROM:-0500
TZOFFSETTO:-0600
TZNAME:CST
DTSTART:20261101T070000
END:STANDARD
END:VTIMEZONE
BEGIN:VEVENT
DTSTART;TZID=America/Chicago:20251103T150000
DTEND;TZID=America/Chicago:20251103T160000
DTSTAMP:20260424T072527
CREATED:20251027T200506Z
LAST-MODIFIED:20251027T200506Z
UID:4152-1762182000-1762185600@www.watonwancountylibrary.com
SUMMARY:DIY Wood Burning Gift Tags
DESCRIPTION:Adults are invited to the library to learn a new way of wood burning!  All supplies and instruction provided.  Must sign up by calling 507-956-2361.
URL:https://www.watonwancountylibrary.com/event/diy-wood-burning-gift-tags/
LOCATION:Butterfield Branch Library\, 111 N. Second Street\, Butterfield\, MN\, 56120\, United States
CATEGORIES:Butterfield Library
ATTACH;FMTTYPE=image/png:https://www.watonwancountylibrary.com/wp-content/uploads/WM-WB-Wood-Burning-Gift-Tags-Event-Cover.png
END:VEVENT
BEGIN:VEVENT
DTSTART;TZID=America/Chicago:20251103T140000
DTEND;TZID=America/Chicago:20251103T160000
DTSTAMP:20260424T072527
CREATED:20251027T195853Z
LAST-MODIFIED:20251027T195853Z
UID:4150-1762178400-1762185600@www.watonwancountylibrary.com
SUMMARY:Monday Movie Matinee
DESCRIPTION:We will be showing the movie “Mrs. Doubtfire”.  Popcorn will be served!
URL:https://www.watonwancountylibrary.com/event/monday-movie-matinee-5/
LOCATION:Madelia Branch Library\, 23 First Street NW\, Madelia\, MN\, 56062\, United States
CATEGORIES:Madelia Library
ATTACH;FMTTYPE=image/png:https://www.watonwancountylibrary.com/wp-content/uploads/Movie-Matinee-Event-Cover.png
END:VEVENT
BEGIN:VEVENT
DTSTART;TZID=America/Chicago:20251101T120000
DTEND;TZID=America/Chicago:20251101T140000
DTSTAMP:20260424T072527
CREATED:20251027T195738Z
LAST-MODIFIED:20251027T195738Z
UID:4148-1761998400-1762005600@www.watonwancountylibrary.com
SUMMARY:Coffee and Conversation
DESCRIPTION:Come enjoy a cup of coffee and some conversation each Saturday.
URL:https://www.watonwancountylibrary.com/event/coffee-and-conversation-11/
LOCATION:Darfur Branch Library\, 200 Adrian Street\, Darfur\, MN\, 56022\, United States
CATEGORIES:Darfur Library
ATTACH;FMTTYPE=image/png:https://www.watonwancountylibrary.com/wp-content/uploads/coffee-and-conversation-event-cover.png
END:VEVENT
BEGIN:VEVENT
DTSTART;TZID=America/Chicago:20251101T100000
DTEND;TZID=America/Chicago:20251101T120000
DTSTAMP:20260424T072527
CREATED:20251027T195549Z
LAST-MODIFIED:20251027T195549Z
UID:4145-1761991200-1761998400@www.watonwancountylibrary.com
SUMMARY:Cribbage
DESCRIPTION:Whether you are a pro or just learning\, you will have fun playing cribbage at the library! We will also have refreshments. Open to all ages\, but we ask that kids bring an adult. 
URL:https://www.watonwancountylibrary.com/event/cribbage-21/
LOCATION:St. James Library\, 125 Fifth Street S\, St. James\, MN\, 56081\, United States
CATEGORIES:St. James Library
ATTACH;FMTTYPE=image/jpeg:https://www.watonwancountylibrary.com/wp-content/uploads/H2P_cribbage.jpg
END:VEVENT
BEGIN:VEVENT
DTSTART;VALUE=DATE:20251031
DTEND;VALUE=DATE:20251101
DTSTAMP:20260424T072527
CREATED:20250925T163527Z
LAST-MODIFIED:20250925T163527Z
UID:4140-1761868800-1761955199@www.watonwancountylibrary.com
SUMMARY:Costume Show Off
DESCRIPTION:Kids are invited to show off their Halloween costumes by stopping into their hometown library! \nOpen hours that day: St. James 10-5:30\, Madelia 10:30-5\, Butterfield 1:30-5\, Lewisville 2:30-6
URL:https://www.watonwancountylibrary.com/event/costume-show-off/
LOCATION:MN
CATEGORIES:Butterfield Library,Lewisville Library,Madelia Library,St. James Library
ATTACH;FMTTYPE=image/png:https://www.watonwancountylibrary.com/wp-content/uploads/1025-All-Branches-Costume-Show-Off-event-cover.png
END:VEVENT
BEGIN:VEVENT
DTSTART;TZID=America/Chicago:20251030T170000
DTEND;TZID=America/Chicago:20251030T190000
DTSTAMP:20260424T072527
CREATED:20250925T163235Z
LAST-MODIFIED:20250925T163235Z
UID:4138-1761843600-1761850800@www.watonwancountylibrary.com
SUMMARY:Knitting Club
DESCRIPTION:All levels of experience are welcome. Whether you want to learn or have a project to finish\, Tessa is here to help! 
URL:https://www.watonwancountylibrary.com/event/knitting-club-13/
LOCATION:St. James Library\, 125 Fifth Street S\, St. James\, MN\, 56081\, United States
CATEGORIES:St. James Library
ATTACH;FMTTYPE=image/png:https://www.watonwancountylibrary.com/wp-content/uploads/knitting-club-event-cover-2.png
END:VEVENT
BEGIN:VEVENT
DTSTART;TZID=America/Chicago:20251029T173000
DTEND;TZID=America/Chicago:20251029T183000
DTSTAMP:20260424T072527
CREATED:20250925T162627Z
LAST-MODIFIED:20250925T162627Z
UID:4135-1761759000-1761762600@www.watonwancountylibrary.com
SUMMARY:Real Ghost Stories
DESCRIPTION:Melissa\, from the St. James Library\, is an amateur ghost hunter and will share some of her stories about different haunted locations she has visited.  Are you brave enough to attend?!
URL:https://www.watonwancountylibrary.com/event/real-ghost-stories/
LOCATION:St. James Library\, 125 Fifth Street S\, St. James\, MN\, 56081\, United States
CATEGORIES:St. James Library
ATTACH;FMTTYPE=image/png:https://www.watonwancountylibrary.com/wp-content/uploads/1025-WA-Real-Ghost-Stories-event-cover.png
END:VEVENT
BEGIN:VEVENT
DTSTART;TZID=America/Chicago:20251024T180000
DTEND;TZID=America/Chicago:20251024T190000
DTSTAMP:20260424T072527
CREATED:20250925T161121Z
LAST-MODIFIED:20250925T161121Z
UID:4130-1761328800-1761332400@www.watonwancountylibrary.com
SUMMARY:Teen Halloween Busted Canvas
DESCRIPTION:For teens in grades 7-12. Learn the artful busted canvas technique to create a unique piece of spooky art!  All supplies are provided.  To sign up\, call 507-375-1278 as spots are limited.  \n 
URL:https://www.watonwancountylibrary.com/event/teen-halloween-busted-canvas/
LOCATION:St. James Library\, 125 Fifth Street S\, St. James\, MN\, 56081\, United States
CATEGORIES:St. James Library
ATTACH;FMTTYPE=image/png:https://www.watonwancountylibrary.com/wp-content/uploads/1025-WA-Halloween-Busted-Canvas-for-Teens-event-cover.png
END:VEVENT
BEGIN:VEVENT
DTSTART;TZID=America/Chicago:20251023T180000
DTEND;TZID=America/Chicago:20251023T200000
DTSTAMP:20260424T072527
CREATED:20250925T153156Z
LAST-MODIFIED:20250925T153156Z
UID:4128-1761242400-1761249600@www.watonwancountylibrary.com
SUMMARY:Mocktails & Murder
DESCRIPTION:There’s been a murder and it’s up to you to help solve it! Come alone\, or with some friends…then enjoy some mocktails while you solve a murder. Adults only. 
URL:https://www.watonwancountylibrary.com/event/mocktails-murder-2/
LOCATION:St. James Library\, 125 Fifth Street S\, St. James\, MN\, 56081\, United States
CATEGORIES:St. James Library
ATTACH;FMTTYPE=image/png:https://www.watonwancountylibrary.com/wp-content/uploads/Mocktails-and-Murder-event-cover-1.png
END:VEVENT
BEGIN:VEVENT
DTSTART;TZID=America/Chicago:20251023T160000
DTEND;TZID=America/Chicago:20251023T170000
DTSTAMP:20260424T072527
CREATED:20250925T152336Z
LAST-MODIFIED:20250925T152336Z
UID:4126-1761235200-1761238800@www.watonwancountylibrary.com
SUMMARY:Travis Smith Demonstration-Darfur
DESCRIPTION:Travis Smith\, of St. James\, will share how he creates sleeping mats out of plastic bags for the homeless.  He will demonstrate how he weaves them together on his homemade loom!
URL:https://www.watonwancountylibrary.com/event/travis-smith-demonstration-darfur/
LOCATION:Darfur Branch Library\, 200 Adrian Street\, Darfur\, MN\, 56022\, United States
CATEGORIES:Darfur Library
ATTACH;FMTTYPE=image/png:https://www.watonwancountylibrary.com/wp-content/uploads/0925-WB-WA-Travis-Smith-Mat-Demo-event-cover.png
END:VEVENT
BEGIN:VEVENT
DTSTART;TZID=America/Chicago:20251021T173000
DTEND;TZID=America/Chicago:20251021T183000
DTSTAMP:20260424T072527
CREATED:20250925T151932Z
LAST-MODIFIED:20250925T151932Z
UID:4122-1761067800-1761071400@www.watonwancountylibrary.com
SUMMARY:Library Board Meeting
DESCRIPTION:The library board meets monthly and is open to the public. 
URL:https://www.watonwancountylibrary.com/event/library-board-meeting-10/
LOCATION:St. James Library\, 125 Fifth Street S\, St. James\, MN\, 56081\, United States
CATEGORIES:St. James Library
ATTACH;FMTTYPE=image/png:https://www.watonwancountylibrary.com/wp-content/uploads/library-board-meeting-event-cover.png
END:VEVENT
BEGIN:VEVENT
DTSTART;TZID=America/Chicago:20251021T160000
DTEND;TZID=America/Chicago:20251021T170000
DTSTAMP:20260424T072527
CREATED:20250925T152048Z
LAST-MODIFIED:20250925T152048Z
UID:4124-1761062400-1761066000@www.watonwancountylibrary.com
SUMMARY:Graphic Novel Book Club-Madelia
DESCRIPTION:For kids in grades 3-6!  Read a graphic novel with the theme of the month or come and get book ideas.. During the book club we will discuss graphic novels and do some fun activities related to the theme. The theme in October is Dragons!
URL:https://www.watonwancountylibrary.com/event/graphic-novel-book-club-madelia/
LOCATION:Madelia Branch Library\, 23 First Street NW\, Madelia\, MN\, 56062\, United States
CATEGORIES:Madelia Library
ATTACH;FMTTYPE=image/png:https://www.watonwancountylibrary.com/wp-content/uploads/Graphic-Novel-Club-event-cover.png
END:VEVENT
BEGIN:VEVENT
DTSTART;TZID=America/Chicago:20251020T173000
DTEND;TZID=America/Chicago:20251020T183000
DTSTAMP:20260424T072527
CREATED:20250925T151657Z
LAST-MODIFIED:20250925T151657Z
UID:4120-1760981400-1760985000@www.watonwancountylibrary.com
SUMMARY:Mushroom Craft for Kids-Butterfield
DESCRIPTION:Kids can head over to the library to make a fun mushroom craft to take home!
URL:https://www.watonwancountylibrary.com/event/mushroom-craft-for-kids-butterfield/
LOCATION:Butterfield Branch Library\, 111 N. Second Street\, Butterfield\, MN\, 56120\, United States
CATEGORIES:Butterfield Library
ATTACH;FMTTYPE=image/png:https://www.watonwancountylibrary.com/wp-content/uploads/WL-and-WB-Mushroom-Craft-event-cover.png
END:VEVENT
BEGIN:VEVENT
DTSTART;TZID=America/Chicago:20251020T153000
DTEND;TZID=America/Chicago:20251020T170000
DTSTAMP:20260424T072527
CREATED:20250925T151402Z
LAST-MODIFIED:20250925T151402Z
UID:4117-1760974200-1760979600@www.watonwancountylibrary.com
SUMMARY:Ghost in a Frame Craft for Kids
DESCRIPTION:Open to kids in grades 3-6.  Come to the library to create a spooky craft! Must sign up ahead of time by calling 507-375-1278.
URL:https://www.watonwancountylibrary.com/event/ghost-in-a-frame-craft-for-kids/
LOCATION:St. James Library\, 125 Fifth Street S\, St. James\, MN\, 56081\, United States
CATEGORIES:St. James Library
ATTACH;FMTTYPE=image/png:https://www.watonwancountylibrary.com/wp-content/uploads/1025-Ghost-In-A-Frame-Craft-event-cover.png
END:VEVENT
BEGIN:VEVENT
DTSTART;TZID=America/Chicago:20251020T150000
DTEND;TZID=America/Chicago:20251020T160000
DTSTAMP:20260424T072527
CREATED:20250925T150909Z
LAST-MODIFIED:20250925T150909Z
UID:4115-1760972400-1760976000@www.watonwancountylibrary.com
SUMMARY:DIY Ghost Shelf Sitter for Adults
DESCRIPTION:Adults are invited to the library to make a cute ghost to sit on a shelf.  All supplies and instruction provided.  Must sign up by calling 507-435-2781 or 507-375-1278.
URL:https://www.watonwancountylibrary.com/event/diy-ghost-shelf-sitter-for-adults/
LOCATION:Lewisville Branch Library\, 129 Lewis Street W\, Lewisville\, MN\, 56060\, United States
CATEGORIES:Lewisville Library
ATTACH;FMTTYPE=image/png:https://www.watonwancountylibrary.com/wp-content/uploads/Ghost-Shelf-Sitter-DIY-event-cover.png
END:VEVENT
BEGIN:VEVENT
DTSTART;TZID=America/Chicago:20251017T140000
DTEND;TZID=America/Chicago:20251017T160000
DTSTAMP:20260424T072527
CREATED:20250925T150659Z
LAST-MODIFIED:20250925T150659Z
UID:4113-1760709600-1760716800@www.watonwancountylibrary.com
SUMMARY:Friday Flicks
DESCRIPTION:Join us at the St. James Library for a showing of  “Amelia”. Fresh hot popcorn will be served.
URL:https://www.watonwancountylibrary.com/event/friday-flicks-29/
LOCATION:St. James Library\, 125 Fifth Street S\, St. James\, MN\, 56081\, United States
CATEGORIES:St. James Library
ATTACH;FMTTYPE=image/png:https://www.watonwancountylibrary.com/wp-content/uploads/WA-Friday-Flicks.png
END:VEVENT
BEGIN:VEVENT
DTSTART;TZID=America/Chicago:20251017T100000
DTEND;TZID=America/Chicago:20251017T110000
DTSTAMP:20260424T072527
CREATED:20250925T150556Z
LAST-MODIFIED:20250925T150556Z
UID:4111-1760695200-1760698800@www.watonwancountylibrary.com
SUMMARY:Memory Writing with Marion
DESCRIPTION:Join Marion Edgar Style as she guides you in recording your thoughts and memories. Refreshments will be served and journals will be provided.
URL:https://www.watonwancountylibrary.com/event/memory-writing-with-marion-29/
LOCATION:St. James Library\, 125 Fifth Street S\, St. James\, MN\, 56081\, United States
CATEGORIES:St. James Library
ATTACH;FMTTYPE=image/png:https://www.watonwancountylibrary.com/wp-content/uploads/WA-Memory-Writing-with-Marion.png
END:VEVENT
BEGIN:VEVENT
DTSTART;TZID=America/Chicago:20251016T180000
DTEND;TZID=America/Chicago:20251016T190000
DTSTAMP:20260424T072527
CREATED:20250925T150246Z
LAST-MODIFIED:20250925T150246Z
UID:4109-1760637600-1760641200@www.watonwancountylibrary.com
SUMMARY:Evening Storytime and Craft-St. James
DESCRIPTION:Kids and their caregivers are invited to the library for storytime and a craft!
URL:https://www.watonwancountylibrary.com/event/evening-storytime-and-craft-st-james/
LOCATION:St. James Library\, 125 Fifth Street S\, St. James\, MN\, 56081\, United States
CATEGORIES:St. James Library
ATTACH;FMTTYPE=image/png:https://www.watonwancountylibrary.com/wp-content/uploads/evening-storytime.png
END:VEVENT
BEGIN:VEVENT
DTSTART;TZID=America/Chicago:20251015T160000
DTEND;TZID=America/Chicago:20251015T170000
DTSTAMP:20260424T072527
CREATED:20250925T150056Z
LAST-MODIFIED:20250925T150056Z
UID:4106-1760544000-1760547600@www.watonwancountylibrary.com
SUMMARY:Mushroom Craft for Kids-Lewisville
DESCRIPTION:Kids in grades K-2 can head over to the library to make a fun mushroom craft to take home! Children under the age of 7 need to be accompanied by an adult. 
URL:https://www.watonwancountylibrary.com/event/mushroom-craft-for-kids-lewisville/
LOCATION:Lewisville Branch Library\, 129 Lewis Street W\, Lewisville\, MN\, 56060\, United States
CATEGORIES:Lewisville Library
ATTACH;FMTTYPE=image/png:https://www.watonwancountylibrary.com/wp-content/uploads/WL-and-WB-Mushroom-Craft-event-cover.png
END:VEVENT
BEGIN:VEVENT
DTSTART;TZID=America/Chicago:20251015T150000
DTEND;TZID=America/Chicago:20251015T160000
DTSTAMP:20260424T072527
CREATED:20250925T145713Z
LAST-MODIFIED:20250925T145713Z
UID:4104-1760540400-1760544000@www.watonwancountylibrary.com
SUMMARY:Reader's Choice Book Club
DESCRIPTION:This reader’s choice book club is open to all adults and all books. Maybe you will leave with your next great read!
URL:https://www.watonwancountylibrary.com/event/readers-choice-book-club-26/
LOCATION:Butterfield Branch Library\, 111 N. Second Street\, Butterfield\, MN\, 56120\, United States
CATEGORIES:Butterfield Library
ATTACH;FMTTYPE=image/png:https://www.watonwancountylibrary.com/wp-content/uploads/WB-Readers-Choice-Book-Club.png
END:VEVENT
BEGIN:VEVENT
DTSTART;TZID=America/Chicago:20251014T173000
DTEND;TZID=America/Chicago:20251014T183000
DTSTAMP:20260424T072527
CREATED:20250925T145319Z
LAST-MODIFIED:20250925T145319Z
UID:4101-1760463000-1760466600@www.watonwancountylibrary.com
SUMMARY:Minute-To-Win-It Games
DESCRIPTION:Kids in grades 3-6 are invited to the library for some fast moving minute-to-win-it games!
URL:https://www.watonwancountylibrary.com/event/minute-to-win-it-games/
LOCATION:Madelia Branch Library\, 23 First Street NW\, Madelia\, MN\, 56062\, United States
CATEGORIES:Madelia Library
ATTACH;FMTTYPE=image/png:https://www.watonwancountylibrary.com/wp-content/uploads/1025-WM-Minute-to-Win-it-event-cover.png
END:VEVENT
BEGIN:VEVENT
DTSTART;TZID=America/Chicago:20251014T153000
DTEND;TZID=America/Chicago:20251014T163000
DTSTAMP:20260424T072527
CREATED:20250925T144949Z
LAST-MODIFIED:20250925T144949Z
UID:4099-1760455800-1760459400@www.watonwancountylibrary.com
SUMMARY:Graphic Novel Book Club-Butterfield
DESCRIPTION:For kids in grades 3-6!  Read a graphic novel with the theme of the month or come and get book ideas.. During the book club we will discuss graphic novels and do some fun activities related to the theme. The theme in October is Dragons!
URL:https://www.watonwancountylibrary.com/event/graphic-novel-book-club-butterfield/
LOCATION:Butterfield Branch Library\, 111 N. Second Street\, Butterfield\, MN\, 56120\, United States
CATEGORIES:Butterfield Library
ATTACH;FMTTYPE=image/png:https://www.watonwancountylibrary.com/wp-content/uploads/Graphic-Novel-Club-event-cover.png
END:VEVENT
BEGIN:VEVENT
DTSTART;TZID=America/Chicago:20251013T183000
DTEND;TZID=America/Chicago:20251013T193000
DTSTAMP:20260424T072527
CREATED:20250925T144159Z
LAST-MODIFIED:20250925T144159Z
UID:4097-1760380200-1760383800@www.watonwancountylibrary.com
SUMMARY:Novels by Night Book Club
DESCRIPTION:We will be discussing the book “Remarkably Bright Creatures” by Shelby Van Pelt. Contact the library for a copy. Please contact Shirley at 375-1278 if interested in joining virtually.
URL:https://www.watonwancountylibrary.com/event/novels-by-night-book-club-28/
LOCATION:St. James Library\, 125 Fifth Street S\, St. James\, MN\, 56081\, United States
CATEGORIES:St. James Library
ATTACH;FMTTYPE=image/png:https://www.watonwancountylibrary.com/wp-content/uploads/Novels-by-Night.png
END:VEVENT
BEGIN:VEVENT
DTSTART;TZID=America/Chicago:20251013T173000
DTEND;TZID=America/Chicago:20251013T183000
DTSTAMP:20260424T072527
CREATED:20250925T144009Z
LAST-MODIFIED:20250925T144046Z
UID:4093-1760376600-1760380200@www.watonwancountylibrary.com
SUMMARY:Travis Smith Demonstration-Madelia
DESCRIPTION:Travis Smith\, of St. James\, will share how he creates sleeping mats out of plastic bags for the homeless.  He will demonstrate how he weaves them together on his homemade loom!
URL:https://www.watonwancountylibrary.com/event/travis-smith-deomonstration-madelia/
LOCATION:Madelia Branch Library\, 23 First Street NW\, Madelia\, MN\, 56062\, United States
CATEGORIES:Madelia Library
ATTACH;FMTTYPE=image/png:https://www.watonwancountylibrary.com/wp-content/uploads/0925-WB-WA-Travis-Smith-Mat-Demo-event-cover.png
END:VEVENT
BEGIN:VEVENT
DTSTART;TZID=America/Chicago:20251013T170000
DTEND;TZID=America/Chicago:20251013T180000
DTSTAMP:20260424T072527
CREATED:20250925T143856Z
LAST-MODIFIED:20250925T143856Z
UID:4091-1760374800-1760378400@www.watonwancountylibrary.com
SUMMARY:Yoga
DESCRIPTION:Registered Yoga Teacher: Roxanne Romsdahl \nLearn basic hatha yoga poses and breathing patterns to develop a home yoga practice for all ages. The focus will be on poses\, stretches\, and breath work to strengthen the body\, improve flexibility and balance\, and reduce anxiety.
URL:https://www.watonwancountylibrary.com/event/yoga-16/
LOCATION:St. James Library\, 125 Fifth Street S\, St. James\, MN\, 56081\, United States
CATEGORIES:St. James Library
ATTACH;FMTTYPE=image/png:https://www.watonwancountylibrary.com/wp-content/uploads/yoga-event-cover.png
END:VEVENT
BEGIN:VEVENT
DTSTART;TZID=America/Chicago:20251013T150000
DTEND;TZID=America/Chicago:20251013T170000
DTSTAMP:20260424T072527
CREATED:20250925T143745Z
LAST-MODIFIED:20250925T143745Z
UID:4089-1760367600-1760374800@www.watonwancountylibrary.com
SUMMARY:Adventure Club-Butterfield
DESCRIPTION:In collaboration with the MN Extension Office and Community Ed\, we will be holding Adventure Club at the school in the cafeteria. Kids will get information from school about how to sign up.
URL:https://www.watonwancountylibrary.com/event/adventure-club-butterfield-13/
LOCATION:Butterfield-Odin School
CATEGORIES:Butterfield Library
ATTACH;FMTTYPE=image/png:https://www.watonwancountylibrary.com/wp-content/uploads/adventure-club.png
END:VEVENT
BEGIN:VEVENT
DTSTART;TZID=America/Chicago:20251011T100000
DTEND;TZID=America/Chicago:20251011T110000
DTSTAMP:20260424T072527
CREATED:20250918T205425Z
LAST-MODIFIED:20250918T205425Z
UID:4083-1760176800-1760180400@www.watonwancountylibrary.com
SUMMARY:Sensory Play Cafe
DESCRIPTION:For our littlest patrons\, ages 0-3\, and their caregivers.  Come explore all the different sensory stations!  Little ones will benefit from sensory play and maybe even meet some new friends.
URL:https://www.watonwancountylibrary.com/event/sensory-play-cafe-11/
LOCATION:St. James Library\, 125 Fifth Street S\, St. James\, MN\, 56081\, United States
CATEGORIES:St. James Library
ATTACH;FMTTYPE=image/png:https://www.watonwancountylibrary.com/wp-content/uploads/2025-WA-Sensory-Play-event-cover.png
END:VEVENT
BEGIN:VEVENT
DTSTART;TZID=America/Chicago:20251009T150000
DTEND;TZID=America/Chicago:20251009T170000
DTSTAMP:20260424T072527
CREATED:20250918T204735Z
LAST-MODIFIED:20250918T204935Z
UID:4079-1760022000-1760029200@www.watonwancountylibrary.com
SUMMARY:Adventure Club-St. James
DESCRIPTION:In collaboration with the MN Extension Office and Community Ed\, we will be holding Adventure Club at the high school in the home ec. room. Kids will get information from school and sign up using REVTRAK.
URL:https://www.watonwancountylibrary.com/event/adventure-club-st-james-11/
LOCATION:St. James Middle/High School
CATEGORIES:St. James Library
ATTACH;FMTTYPE=image/png:https://www.watonwancountylibrary.com/wp-content/uploads/adventure-club.png
END:VEVENT
BEGIN:VEVENT
DTSTART;TZID=America/Chicago:20251009T100000
DTEND;TZID=America/Chicago:20251009T110000
DTSTAMP:20260424T072527
CREATED:20250918T205151Z
LAST-MODIFIED:20250918T205151Z
UID:4081-1760004000-1760007600@www.watonwancountylibrary.com
SUMMARY:Good Life\, Good Death-Conversations & Education about Death and Dying
DESCRIPTION:Join Julia Uleberg Swanson\, End of Life Doula\, as she starts the conversation we all need to be having with our loved ones. There will be a different topic each month.  In October\, we plan to discuss the dying process and what to expect as well as Advanced Care Directives-why you should have one and who needs to know about it!
URL:https://www.watonwancountylibrary.com/event/good-life-good-death-conversations-education-about-death-and-dying-2/
LOCATION:St. James Library\, 125 Fifth Street S\, St. James\, MN\, 56081\, United States
CATEGORIES:St. James Library
ATTACH;FMTTYPE=image/png:https://www.watonwancountylibrary.com/wp-content/uploads/WA-0925-1025-1125-1225-Good-Life-Good-Death-event-cover.png
END:VEVENT
BEGIN:VEVENT
DTSTART;TZID=America/Chicago:20251007T170000
DTEND;TZID=America/Chicago:20251007T180000
DTSTAMP:20260424T072527
CREATED:20250925T143025Z
LAST-MODIFIED:20250925T143025Z
UID:4086-1759856400-1759860000@www.watonwancountylibrary.com
SUMMARY:Author Jill Kalz
DESCRIPTION:Jill Kalz is the author of “The Winter Bees”\, a collection of interconnected short stories set in rural Minnesota (her current home) and a 2019 Midwest Book Award finalist. Kalz is also the author of nearly 100 children’s books. \nPaid for and hosted by the Friends of the St. James Library
URL:https://www.watonwancountylibrary.com/event/author-jill-kalz/
LOCATION:St. James Library\, 125 Fifth Street S\, St. James\, MN\, 56081\, United States
CATEGORIES:St. James Library
ATTACH;FMTTYPE=image/png:https://www.watonwancountylibrary.com/wp-content/uploads/1025-FOL-Author-Event-with-Jill-Kalz-event-cover.png
END:VEVENT
END:VCALENDAR