BEGIN:VCALENDAR
VERSION:2.0
PRODID:-//Watonwan County Library - ECPv6.15.20//NONSGML v1.0//EN
CALSCALE:GREGORIAN
METHOD:PUBLISH
X-WR-CALNAME:Watonwan County Library
X-ORIGINAL-URL:https://www.watonwancountylibrary.com
X-WR-CALDESC:Events for Watonwan County Library
REFRESH-INTERVAL;VALUE=DURATION:PT1H
X-Robots-Tag:noindex
X-PUBLISHED-TTL:PT1H
BEGIN:VTIMEZONE
TZID:America/Chicago
BEGIN:DAYLIGHT
TZOFFSETFROM:-0600
TZOFFSETTO:-0500
TZNAME:CDT
DTSTART:20240310T080000
END:DAYLIGHT
BEGIN:STANDARD
TZOFFSETFROM:-0500
TZOFFSETTO:-0600
TZNAME:CST
DTSTART:20241103T070000
END:STANDARD
BEGIN:DAYLIGHT
TZOFFSETFROM:-0600
TZOFFSETTO:-0500
TZNAME:CDT
DTSTART:20250309T080000
END:DAYLIGHT
BEGIN:STANDARD
TZOFFSETFROM:-0500
TZOFFSETTO:-0600
TZNAME:CST
DTSTART:20251102T070000
END:STANDARD
BEGIN:DAYLIGHT
TZOFFSETFROM:-0600
TZOFFSETTO:-0500
TZNAME:CDT
DTSTART:20260308T080000
END:DAYLIGHT
BEGIN:STANDARD
TZOFFSETFROM:-0500
TZOFFSETTO:-0600
TZNAME:CST
DTSTART:20261101T070000
END:STANDARD
END:VTIMEZONE
BEGIN:VEVENT
DTSTART;TZID=America/Chicago:20251121T100000
DTEND;TZID=America/Chicago:20251121T110000
DTSTAMP:20260424T043038
CREATED:20251105T194657Z
LAST-MODIFIED:20251105T194657Z
UID:4211-1763719200-1763722800@www.watonwancountylibrary.com
SUMMARY:Memory Writing with Marion
DESCRIPTION:Join Marion Edgar Style as she guides you in recording your thoughts and memories. Refreshments will be served and journals will be provided.
URL:https://www.watonwancountylibrary.com/event/memory-writing-with-marion-30/
LOCATION:St. James Library\, 125 Fifth Street S\, St. James\, MN\, 56081\, United States
CATEGORIES:St. James Library
ATTACH;FMTTYPE=image/png:https://www.watonwancountylibrary.com/wp-content/uploads/WA-Memory-Writing-with-Marion.png
END:VEVENT
BEGIN:VEVENT
DTSTART;TZID=America/Chicago:20251120T170000
DTEND;TZID=America/Chicago:20251120T190000
DTSTAMP:20260424T043038
CREATED:20251105T194157Z
LAST-MODIFIED:20251105T194157Z
UID:4209-1763658000-1763665200@www.watonwancountylibrary.com
SUMMARY:Knitting Club
DESCRIPTION:All levels of experience are welcome. Whether you want to learn or have a project to finish\, Tessa is here to help!
URL:https://www.watonwancountylibrary.com/event/knitting-club-14/
LOCATION:St. James Library\, 125 Fifth Street S\, St. James\, MN\, 56081\, United States
CATEGORIES:St. James Library
ATTACH;FMTTYPE=image/png:https://www.watonwancountylibrary.com/wp-content/uploads/knitting-club-event-cover-2.png
END:VEVENT
BEGIN:VEVENT
DTSTART;TZID=America/Chicago:20251119T150000
DTEND;TZID=America/Chicago:20251119T160000
DTSTAMP:20260424T043038
CREATED:20251105T193953Z
LAST-MODIFIED:20251105T193953Z
UID:4207-1763564400-1763568000@www.watonwancountylibrary.com
SUMMARY:Reader's Choice Book Club
DESCRIPTION:This reader’s choice book club is open to all adults and all books. Maybe you will leave with your next great read!
URL:https://www.watonwancountylibrary.com/event/readers-choice-book-club-27/
LOCATION:Butterfield Branch Library\, 111 N. Second Street\, Butterfield\, MN\, 56120\, United States
CATEGORIES:Butterfield Library
ATTACH;FMTTYPE=image/png:https://www.watonwancountylibrary.com/wp-content/uploads/WB-Readers-Choice-Book-Club.png
END:VEVENT
BEGIN:VEVENT
DTSTART;TZID=America/Chicago:20251118T173000
DTEND;TZID=America/Chicago:20251118T183000
DTSTAMP:20260424T043038
CREATED:20251105T193838Z
LAST-MODIFIED:20251105T193838Z
UID:4205-1763487000-1763490600@www.watonwancountylibrary.com
SUMMARY:Library Board Meeting
DESCRIPTION:The library board meets monthly and is open to the public. 
URL:https://www.watonwancountylibrary.com/event/library-board-meeting-11/
LOCATION:St. James Library\, 125 Fifth Street S\, St. James\, MN\, 56081\, United States
CATEGORIES:St. James Library
ATTACH;FMTTYPE=image/png:https://www.watonwancountylibrary.com/wp-content/uploads/library-board-meeting-event-cover.png
END:VEVENT
BEGIN:VEVENT
DTSTART;TZID=America/Chicago:20251118T160000
DTEND;TZID=America/Chicago:20251118T170000
DTSTAMP:20260424T043038
CREATED:20251105T193747Z
LAST-MODIFIED:20251105T193747Z
UID:4203-1763481600-1763485200@www.watonwancountylibrary.com
SUMMARY:Graphic Novel Book Club-Madelia
DESCRIPTION:For kids in grades 3-6!  Read a graphic novel with the theme of the month or come and get book ideas.. During the book club we will discuss graphic novels and do some fun activities related to the theme.The theme in November is MYSTERY!
URL:https://www.watonwancountylibrary.com/event/graphic-novel-book-club-madelia-2/
LOCATION:MN
CATEGORIES:Madelia Library
ATTACH;FMTTYPE=image/png:https://www.watonwancountylibrary.com/wp-content/uploads/Graphic-Novel-Club-event-cover-1.png
END:VEVENT
BEGIN:VEVENT
DTSTART;TZID=America/Chicago:20251117T173000
DTEND;TZID=America/Chicago:20251117T183000
DTSTAMP:20260424T043038
CREATED:20251105T193648Z
LAST-MODIFIED:20251105T193648Z
UID:4201-1763400600-1763404200@www.watonwancountylibrary.com
SUMMARY:Wood Burning Gift Tags-Madelia
DESCRIPTION:Adults are invited to the library to learn a new way of wood burning!  All supplies and instruction provided.  Must sign up by calling 507-642-3511.
URL:https://www.watonwancountylibrary.com/event/wood-burning-gift-tags-madelia/
LOCATION:Madelia Branch Library\, 23 First Street NW\, Madelia\, MN\, 56062\, United States
CATEGORIES:Madelia Library
ATTACH;FMTTYPE=image/png:https://www.watonwancountylibrary.com/wp-content/uploads/WM-WB-Wood-Burning-Gift-Tags-Event-Cover.png
END:VEVENT
BEGIN:VEVENT
DTSTART;TZID=America/Chicago:20251117T153000
DTEND;TZID=America/Chicago:20251117T163000
DTSTAMP:20260424T043038
CREATED:20251105T193144Z
LAST-MODIFIED:20251105T193144Z
UID:4199-1763393400-1763397000@www.watonwancountylibrary.com
SUMMARY:Jurassic Jamboree-St. James
DESCRIPTION:Kids in grades K-2\, with an adult\, will be able to join us at the library for a fun dinosaur craft!
URL:https://www.watonwancountylibrary.com/event/jurassic-jamboree-st-james/
LOCATION:St. James Library\, 125 Fifth Street S\, St. James\, MN\, 56081\, United States
CATEGORIES:St. James Library
ATTACH;FMTTYPE=image/png:https://www.watonwancountylibrary.com/wp-content/uploads/1125-WM-WAWL-WB-Jurassic-Jamboree-Crafts-1920-x-1080-px.png
END:VEVENT
BEGIN:VEVENT
DTSTART;TZID=America/Chicago:20251115T100000
DTEND;TZID=America/Chicago:20251115T113000
DTSTAMP:20260424T043038
CREATED:20251104T232238Z
LAST-MODIFIED:20251104T232238Z
UID:4196-1763200800-1763206200@www.watonwancountylibrary.com
SUMMARY:Family Craft
DESCRIPTION:Families are invited to create a keepsake craft to display at home!  Each family member will get to paint a cute little wooden Gnome/Santa with the guidance of Bobby Moody. All supplies will be provided.  To sign your family up\, call 507-375-1278.
URL:https://www.watonwancountylibrary.com/event/family-craft/
LOCATION:St. James Library\, 125 Fifth Street S\, St. James\, MN\, 56081\, United States
CATEGORIES:St. James Library
ATTACH;FMTTYPE=image/png:https://www.watonwancountylibrary.com/wp-content/uploads/Copy-of-1125-WA-holiday-family-craft.png
END:VEVENT
BEGIN:VEVENT
DTSTART;TZID=America/Chicago:20251114T160000
DTEND;TZID=America/Chicago:20251114T170000
DTSTAMP:20260424T043038
CREATED:20251104T231909Z
LAST-MODIFIED:20251104T231909Z
UID:4194-1763136000-1763139600@www.watonwancountylibrary.com
SUMMARY:Jurassic Jamboree Crafts-Lewisville
DESCRIPTION:Kids in grades K-2\, with an adult\, will be able to join us at the library for a fun dinosaur craft!
URL:https://www.watonwancountylibrary.com/event/jurassic-jamboree-crafts-lewisville/
LOCATION:Lewisville Branch Library\, 129 Lewis Street W\, Lewisville\, MN\, 56060\, United States
CATEGORIES:Lewisville Library
ATTACH;FMTTYPE=image/png:https://www.watonwancountylibrary.com/wp-content/uploads/1125-WM-WAWL-WB-Jurassic-Jamboree-Crafts-1920-x-1080-px.png
END:VEVENT
BEGIN:VEVENT
DTSTART;TZID=America/Chicago:20251114T100000
DTEND;TZID=America/Chicago:20251114T110000
DTSTAMP:20260424T043038
CREATED:20251104T231756Z
LAST-MODIFIED:20251104T231756Z
UID:4191-1763114400-1763118000@www.watonwancountylibrary.com
SUMMARY:Little Dino Fun
DESCRIPTION:Caregivers are invited to bring the little ones to the library for some dino fun!
URL:https://www.watonwancountylibrary.com/event/little-dino-fun/
LOCATION:St. James Library\, 125 Fifth Street S\, St. James\, MN\, 56081\, United States
CATEGORIES:St. James Library
ATTACH;FMTTYPE=image/png:https://www.watonwancountylibrary.com/wp-content/uploads/Copy-of-1125-Little-Dino-Fun.png
END:VEVENT
BEGIN:VEVENT
DTSTART;TZID=America/Chicago:20251113T153000
DTEND;TZID=America/Chicago:20251113T163000
DTSTAMP:20260424T043038
CREATED:20251104T231329Z
LAST-MODIFIED:20251104T231329Z
UID:4188-1763047800-1763051400@www.watonwancountylibrary.com
SUMMARY:"They Chose MN" with Doug Ohman
DESCRIPTION:Have you ever wondered what drew people to the North Star state? Doug highlights the stories and history from many of the immigrant groups that chose to make Minnesota their new home. \nThis program is made possible by the voters of Minnesota through a grant provided by the Traverse des Sioux Library Cooperative\, thanks to a legislative appropriation from the arts and cultural heritage fund.
URL:https://www.watonwancountylibrary.com/event/they-chose-mn-with-doug-ohman/
LOCATION:Darfur Branch Library\, 200 Adrian Street\, Darfur\, MN\, 56022\, United States
CATEGORIES:Darfur Library
ATTACH;FMTTYPE=image/png:https://www.watonwancountylibrary.com/wp-content/uploads/1125-WD-They-Chose-MN-WITH-DOUG-OHMAN-event-cover.png
END:VEVENT
BEGIN:VEVENT
DTSTART;TZID=America/Chicago:20251113T100000
DTEND;TZID=America/Chicago:20251113T110000
DTSTAMP:20260424T043038
CREATED:20251104T224946Z
LAST-MODIFIED:20251104T224946Z
UID:4186-1763028000-1763031600@www.watonwancountylibrary.com
SUMMARY:Good Life\, Good Death
DESCRIPTION:Join Julia Uleberg Swanson\, End of Life Doula\, as she starts the conversation we all need to be having with our loved ones. There will be a different topic each month.  
URL:https://www.watonwancountylibrary.com/event/good-life-good-death/
LOCATION:St. James Library\, 125 Fifth Street S\, St. James\, MN\, 56081\, United States
CATEGORIES:St. James Library
ATTACH;FMTTYPE=image/png:https://www.watonwancountylibrary.com/wp-content/uploads/WA-0925-1025-1125-1225-Good-Life-Good-Death-event-cover.png
END:VEVENT
BEGIN:VEVENT
DTSTART;VALUE=DATE:20251111
DTEND;VALUE=DATE:20251112
DTSTAMP:20260424T043038
CREATED:20251104T224815Z
LAST-MODIFIED:20251104T224815Z
UID:4183-1762819200-1762905599@www.watonwancountylibrary.com
SUMMARY:LIBRARIES CLOSED
DESCRIPTION:Libraries will be closed to observe Veterans Day.
URL:https://www.watonwancountylibrary.com/event/libraries-closed/
LOCATION:MN
ATTACH;FMTTYPE=image/png:https://www.watonwancountylibrary.com/wp-content/uploads/Copy-of-Closed-for-Veterans-Day.png
END:VEVENT
BEGIN:VEVENT
DTSTART;TZID=America/Chicago:20251110T183000
DTEND;TZID=America/Chicago:20251110T193000
DTSTAMP:20260424T043038
CREATED:20251104T224032Z
LAST-MODIFIED:20251104T224032Z
UID:4178-1762799400-1762803000@www.watonwancountylibrary.com
SUMMARY:Novels by Night Book Club
DESCRIPTION:We will be discussing the book “Last Bus to Wisdom” by Ivan Doig. Contact the library for a copy. Please contact Shirley at 375-1278 if interested in joining virtually.
URL:https://www.watonwancountylibrary.com/event/novels-by-night-book-club-29/
LOCATION:St. James Library\, 125 Fifth Street S\, St. James\, MN\, 56081\, United States
CATEGORIES:St. James Library
ATTACH;FMTTYPE=image/png:https://www.watonwancountylibrary.com/wp-content/uploads/Novels-by-Night.png
END:VEVENT
BEGIN:VEVENT
DTSTART;TZID=America/Chicago:20251110T173000
DTEND;TZID=America/Chicago:20251110T183000
DTSTAMP:20260424T043038
CREATED:20251104T224549Z
LAST-MODIFIED:20251104T224549Z
UID:4180-1762795800-1762799400@www.watonwancountylibrary.com
SUMMARY:Jurassic Jamboree Crafts-Butterfield
DESCRIPTION:Kids in grades K-2\, with an adult\, will be able to join us at the library for a fun dinosaur craft!
URL:https://www.watonwancountylibrary.com/event/jurassic-jamboree-crafts-butterfield/
LOCATION:Butterfield Branch Library\, 111 N. Second Street\, Butterfield\, MN\, 56120\, United States
CATEGORIES:Butterfield Library
ATTACH;FMTTYPE=image/png:https://www.watonwancountylibrary.com/wp-content/uploads/1125-WM-WAWL-WB-Jurassic-Jamboree-Crafts-1920-x-1080-px.png
END:VEVENT
BEGIN:VEVENT
DTSTART;TZID=America/Chicago:20251110T170000
DTEND;TZID=America/Chicago:20251110T180000
DTSTAMP:20260424T043038
CREATED:20251104T223843Z
LAST-MODIFIED:20251104T223843Z
UID:4176-1762794000-1762797600@www.watonwancountylibrary.com
SUMMARY:Yoga
DESCRIPTION:Registered Yoga Teacher: Roxanne Romsdahl \nLearn basic hatha yoga poses and breathing patterns to develop a home yoga practice for all ages. The focus will be on poses\, stretches\, and breath work to strengthen the body\, improve flexibility and balance\, and reduce anxiety.
URL:https://www.watonwancountylibrary.com/event/yoga-17/
LOCATION:St. James Library\, 125 Fifth Street S\, St. James\, MN\, 56081\, United States
CATEGORIES:St. James Library
ATTACH;FMTTYPE=image/png:https://www.watonwancountylibrary.com/wp-content/uploads/yoga-event-cover.png
END:VEVENT
BEGIN:VEVENT
DTSTART;TZID=America/Chicago:20251108T110000
DTEND;TZID=America/Chicago:20251108T123000
DTSTAMP:20260424T043038
CREATED:20251104T223141Z
LAST-MODIFIED:20251104T223141Z
UID:4173-1762599600-1762605000@www.watonwancountylibrary.com
SUMMARY:Voices from Pejuhutazizi: Dakota Stories and Storytellers
DESCRIPTION:Teresa Peterson\, Utuhu Cistinna Win\, is Sisseton Wahpeton Dakota and citizen of the Upper Sioux Community will be with us to share about her book\, “Voices from Pejuhutazizi: Dakota Stories and Storytellers”. This is a collection of stories across five generations within the author’s family. This book celebrates storytellers\, their stories\, and the important role of storytelling.
URL:https://www.watonwancountylibrary.com/event/voices-from-pejuhutazizi-dakota-stories-and-storytellers/
LOCATION:MN
CATEGORIES:Madelia Library
ATTACH;FMTTYPE=image/png:https://www.watonwancountylibrary.com/wp-content/uploads/Copy-of-1125-WM-VOICES-FROM-PEJUHUTAZIZI-W-TERESA-PETERSON-Facebook-Post.png
END:VEVENT
BEGIN:VEVENT
DTSTART;TZID=America/Chicago:20251108T100000
DTEND;TZID=America/Chicago:20251108T110000
DTSTAMP:20260424T043038
CREATED:20251104T222714Z
LAST-MODIFIED:20251104T222714Z
UID:4171-1762596000-1762599600@www.watonwancountylibrary.com
SUMMARY:Sensory Play Cafe
DESCRIPTION:For our littlest patrons\, ages 0-3\, and their caregivers.  Come explore all the different sensory stations!  Little ones will benefit from sensory play and maybe even meet some new friends.
URL:https://www.watonwancountylibrary.com/event/sensory-play-cafe-12/
LOCATION:St. James Library\, 125 Fifth Street S\, St. James\, MN\, 56081\, United States
CATEGORIES:St. James Library
ATTACH;FMTTYPE=image/png:https://www.watonwancountylibrary.com/wp-content/uploads/2025-WA-Sensory-Play-event-cover.png
END:VEVENT
BEGIN:VEVENT
DTSTART;TZID=America/Chicago:20251107T180000
DTEND;TZID=America/Chicago:20251107T190000
DTSTAMP:20260424T043038
CREATED:20251104T222617Z
LAST-MODIFIED:20251104T222617Z
UID:4168-1762538400-1762542000@www.watonwancountylibrary.com
SUMMARY:Larger than Life Games for Teens
DESCRIPTION:Teens in grades 7 and up are invited to come with friends to play GIANT games around the library after hours!  Snacks and pop will be provided. No sign up required.
URL:https://www.watonwancountylibrary.com/event/larger-than-life-games-for-teens/
LOCATION:St. James Library\, 125 Fifth Street S\, St. James\, MN\, 56081\, United States
CATEGORIES:St. James Library
ATTACH;FMTTYPE=image/png:https://www.watonwancountylibrary.com/wp-content/uploads/1125-WA-Larger-than-Life-Games-for-Teens-1920-x-1080-px.png
END:VEVENT
BEGIN:VEVENT
DTSTART;TZID=America/Chicago:20251106T173000
DTEND;TZID=America/Chicago:20251106T190000
DTSTAMP:20260424T043038
CREATED:20251104T215054Z
LAST-MODIFIED:20251104T215054Z
UID:4165-1762450200-1762455600@www.watonwancountylibrary.com
SUMMARY:Tabletop Sign Decor
DESCRIPTION:Adults are invited to the library to create some table top decor just in time for the holiday season.  All supplies and instruction provided.  Must sign up by calling 507-375-1278. 
URL:https://www.watonwancountylibrary.com/event/tabletop-sign-decor/
LOCATION:St. James Library\, 125 Fifth Street S\, St. James\, MN\, 56081\, United States
CATEGORIES:St. James Library
ATTACH;FMTTYPE=image/png:https://www.watonwancountylibrary.com/wp-content/uploads/1125-WA-DIY-shelfwall-decor-1920-x-1080-px.png
END:VEVENT
BEGIN:VEVENT
DTSTART;TZID=America/Chicago:20251105T153000
DTEND;TZID=America/Chicago:20251105T163000
DTSTAMP:20260424T043038
CREATED:20251104T214423Z
LAST-MODIFIED:20251104T214432Z
UID:4162-1762356600-1762360200@www.watonwancountylibrary.com
SUMMARY:Graphic Novel Book Club-St. James
DESCRIPTION:For kids in grades 3-6!  Read a graphic novel with the theme of the month or come and get book ideas. During the book club we will discuss graphic novels and do some fun activities related to the theme. The theme in November is MYSTERY!
URL:https://www.watonwancountylibrary.com/event/graphic-novel-book-club-st-james-2/
LOCATION:St. James Library\, 125 Fifth Street S\, St. James\, MN\, 56081\, United States
CATEGORIES:St. James Library
ATTACH;FMTTYPE=image/png:https://www.watonwancountylibrary.com/wp-content/uploads/Graphic-Novel-Club-event-cover-1.png
END:VEVENT
BEGIN:VEVENT
DTSTART;TZID=America/Chicago:20251104T173000
DTEND;TZID=America/Chicago:20251104T190000
DTSTAMP:20260424T043038
CREATED:20251104T214317Z
LAST-MODIFIED:20251104T214317Z
UID:4160-1762277400-1762282800@www.watonwancountylibrary.com
SUMMARY:Family Game Night
DESCRIPTION:Kids and families are invited to come and play games at the library!  This is a great way to learn and try new games.
URL:https://www.watonwancountylibrary.com/event/family-game-night-2/
LOCATION:Madelia Branch Library\, 23 First Street NW\, Madelia\, MN\, 56062\, United States
CATEGORIES:Madelia Library
ATTACH;FMTTYPE=image/png:https://www.watonwancountylibrary.com/wp-content/uploads/Family-Game-Night.png
END:VEVENT
BEGIN:VEVENT
DTSTART;TZID=America/Chicago:20251104T153000
DTEND;TZID=America/Chicago:20251104T163000
DTSTAMP:20260424T043038
CREATED:20251027T200931Z
LAST-MODIFIED:20251027T200931Z
UID:4157-1762270200-1762273800@www.watonwancountylibrary.com
SUMMARY:Graphic Novel Book Club-Butterfield
DESCRIPTION:For kids in grades 3-6!  Read a graphic novel with the theme of the month or come and get book ideas.. During the book club we will discuss graphic novels and do some fun activities related to the theme. The theme in November is MYSTERY!
URL:https://www.watonwancountylibrary.com/event/graphic-novel-book-club-butterfield-2/
LOCATION:Butterfield Branch Library\, 111 N. Second Street\, Butterfield\, MN\, 56120\, United States
CATEGORIES:Butterfield Library
ATTACH;FMTTYPE=image/png:https://www.watonwancountylibrary.com/wp-content/uploads/Graphic-Novel-Club-event-cover-1.png
END:VEVENT
BEGIN:VEVENT
DTSTART;TZID=America/Chicago:20251104T100000
DTEND;TZID=America/Chicago:20251104T110000
DTSTAMP:20260424T043038
CREATED:20251027T200648Z
LAST-MODIFIED:20251027T200648Z
UID:4155-1762250400-1762254000@www.watonwancountylibrary.com
SUMMARY:Storytime/Play Cafe
DESCRIPTION:Caregivers are invited to bring the little ones to an interactive storytime followed by a special playtime.  Please join us!
URL:https://www.watonwancountylibrary.com/event/storytime-play-cafe-18/
LOCATION:St. James Library\, 125 Fifth Street S\, St. James\, MN\, 56081\, United States
CATEGORIES:St. James Library
ATTACH;FMTTYPE=image/png:https://www.watonwancountylibrary.com/wp-content/uploads/2025-WA-StorytimePlay-Cafe-event-cover.png
END:VEVENT
BEGIN:VEVENT
DTSTART;TZID=America/Chicago:20251103T150000
DTEND;TZID=America/Chicago:20251103T160000
DTSTAMP:20260424T043038
CREATED:20251027T200506Z
LAST-MODIFIED:20251027T200506Z
UID:4152-1762182000-1762185600@www.watonwancountylibrary.com
SUMMARY:DIY Wood Burning Gift Tags
DESCRIPTION:Adults are invited to the library to learn a new way of wood burning!  All supplies and instruction provided.  Must sign up by calling 507-956-2361.
URL:https://www.watonwancountylibrary.com/event/diy-wood-burning-gift-tags/
LOCATION:Butterfield Branch Library\, 111 N. Second Street\, Butterfield\, MN\, 56120\, United States
CATEGORIES:Butterfield Library
ATTACH;FMTTYPE=image/png:https://www.watonwancountylibrary.com/wp-content/uploads/WM-WB-Wood-Burning-Gift-Tags-Event-Cover.png
END:VEVENT
BEGIN:VEVENT
DTSTART;TZID=America/Chicago:20251103T140000
DTEND;TZID=America/Chicago:20251103T160000
DTSTAMP:20260424T043038
CREATED:20251027T195853Z
LAST-MODIFIED:20251027T195853Z
UID:4150-1762178400-1762185600@www.watonwancountylibrary.com
SUMMARY:Monday Movie Matinee
DESCRIPTION:We will be showing the movie “Mrs. Doubtfire”.  Popcorn will be served!
URL:https://www.watonwancountylibrary.com/event/monday-movie-matinee-5/
LOCATION:Madelia Branch Library\, 23 First Street NW\, Madelia\, MN\, 56062\, United States
CATEGORIES:Madelia Library
ATTACH;FMTTYPE=image/png:https://www.watonwancountylibrary.com/wp-content/uploads/Movie-Matinee-Event-Cover.png
END:VEVENT
BEGIN:VEVENT
DTSTART;TZID=America/Chicago:20251101T120000
DTEND;TZID=America/Chicago:20251101T140000
DTSTAMP:20260424T043038
CREATED:20251027T195738Z
LAST-MODIFIED:20251027T195738Z
UID:4148-1761998400-1762005600@www.watonwancountylibrary.com
SUMMARY:Coffee and Conversation
DESCRIPTION:Come enjoy a cup of coffee and some conversation each Saturday.
URL:https://www.watonwancountylibrary.com/event/coffee-and-conversation-11/
LOCATION:Darfur Branch Library\, 200 Adrian Street\, Darfur\, MN\, 56022\, United States
CATEGORIES:Darfur Library
ATTACH;FMTTYPE=image/png:https://www.watonwancountylibrary.com/wp-content/uploads/coffee-and-conversation-event-cover.png
END:VEVENT
BEGIN:VEVENT
DTSTART;TZID=America/Chicago:20251101T100000
DTEND;TZID=America/Chicago:20251101T120000
DTSTAMP:20260424T043038
CREATED:20251027T195549Z
LAST-MODIFIED:20251027T195549Z
UID:4145-1761991200-1761998400@www.watonwancountylibrary.com
SUMMARY:Cribbage
DESCRIPTION:Whether you are a pro or just learning\, you will have fun playing cribbage at the library! We will also have refreshments. Open to all ages\, but we ask that kids bring an adult. 
URL:https://www.watonwancountylibrary.com/event/cribbage-21/
LOCATION:St. James Library\, 125 Fifth Street S\, St. James\, MN\, 56081\, United States
CATEGORIES:St. James Library
ATTACH;FMTTYPE=image/jpeg:https://www.watonwancountylibrary.com/wp-content/uploads/H2P_cribbage.jpg
END:VEVENT
BEGIN:VEVENT
DTSTART;VALUE=DATE:20251031
DTEND;VALUE=DATE:20251101
DTSTAMP:20260424T043038
CREATED:20250925T163527Z
LAST-MODIFIED:20250925T163527Z
UID:4140-1761868800-1761955199@www.watonwancountylibrary.com
SUMMARY:Costume Show Off
DESCRIPTION:Kids are invited to show off their Halloween costumes by stopping into their hometown library! \nOpen hours that day: St. James 10-5:30\, Madelia 10:30-5\, Butterfield 1:30-5\, Lewisville 2:30-6
URL:https://www.watonwancountylibrary.com/event/costume-show-off/
LOCATION:MN
CATEGORIES:Butterfield Library,Lewisville Library,Madelia Library,St. James Library
ATTACH;FMTTYPE=image/png:https://www.watonwancountylibrary.com/wp-content/uploads/1025-All-Branches-Costume-Show-Off-event-cover.png
END:VEVENT
BEGIN:VEVENT
DTSTART;TZID=America/Chicago:20251030T170000
DTEND;TZID=America/Chicago:20251030T190000
DTSTAMP:20260424T043038
CREATED:20250925T163235Z
LAST-MODIFIED:20250925T163235Z
UID:4138-1761843600-1761850800@www.watonwancountylibrary.com
SUMMARY:Knitting Club
DESCRIPTION:All levels of experience are welcome. Whether you want to learn or have a project to finish\, Tessa is here to help! 
URL:https://www.watonwancountylibrary.com/event/knitting-club-13/
LOCATION:St. James Library\, 125 Fifth Street S\, St. James\, MN\, 56081\, United States
CATEGORIES:St. James Library
ATTACH;FMTTYPE=image/png:https://www.watonwancountylibrary.com/wp-content/uploads/knitting-club-event-cover-2.png
END:VEVENT
END:VCALENDAR