BEGIN:VCALENDAR
VERSION:2.0
PRODID:-//Watonwan County Library - ECPv6.15.20//NONSGML v1.0//EN
CALSCALE:GREGORIAN
METHOD:PUBLISH
X-ORIGINAL-URL:https://www.watonwancountylibrary.com
X-WR-CALDESC:Events for Watonwan County Library
REFRESH-INTERVAL;VALUE=DURATION:PT1H
X-Robots-Tag:noindex
X-PUBLISHED-TTL:PT1H
BEGIN:VTIMEZONE
TZID:America/Chicago
BEGIN:DAYLIGHT
TZOFFSETFROM:-0600
TZOFFSETTO:-0500
TZNAME:CDT
DTSTART:20250309T080000
END:DAYLIGHT
BEGIN:STANDARD
TZOFFSETFROM:-0500
TZOFFSETTO:-0600
TZNAME:CST
DTSTART:20251102T070000
END:STANDARD
BEGIN:DAYLIGHT
TZOFFSETFROM:-0600
TZOFFSETTO:-0500
TZNAME:CDT
DTSTART:20260308T080000
END:DAYLIGHT
BEGIN:STANDARD
TZOFFSETFROM:-0500
TZOFFSETTO:-0600
TZNAME:CST
DTSTART:20261101T070000
END:STANDARD
BEGIN:DAYLIGHT
TZOFFSETFROM:-0600
TZOFFSETTO:-0500
TZNAME:CDT
DTSTART:20270314T080000
END:DAYLIGHT
BEGIN:STANDARD
TZOFFSETFROM:-0500
TZOFFSETTO:-0600
TZNAME:CST
DTSTART:20271107T070000
END:STANDARD
END:VTIMEZONE
BEGIN:VEVENT
DTSTART;VALUE=DATE:20260406
DTEND;VALUE=DATE:20260419
DTSTAMP:20260423T133648
CREATED:20260327T184339Z
LAST-MODIFIED:20260327T184339Z
UID:4537-1775433600-1776556799@www.watonwancountylibrary.com
SUMMARY:Peep Diorama Contest!
DESCRIPTION:Create a Peep diorama at home and bring to the library during the week of April 6th to enter it into the contest.  Voting will take place from April 13-18 with winners announced the following week!  Prizes provided by an anonymous donor.
URL:https://www.watonwancountylibrary.com/event/peep-diorama-contest-2/
LOCATION:MN
CATEGORIES:Lewisville Library,Madelia Library,St. James Library
ATTACH;FMTTYPE=image/png:https://www.watonwancountylibrary.com/wp-content/uploads/Peep-Diorama-Contest.png
END:VEVENT
BEGIN:VEVENT
DTSTART;TZID=America/Chicago:20260406T143000
DTEND;TZID=America/Chicago:20260406T153000
DTSTAMP:20260423T133648
CREATED:20260327T185236Z
LAST-MODIFIED:20260327T185236Z
UID:4539-1775485800-1775489400@www.watonwancountylibrary.com
SUMMARY:Uncommon Facts About Common Birds with Stan Tekiela
DESCRIPTION:Stan is a Minnesota author\, photographer and naturalist. This is a fun and entertaining talk presenting fascinating facts and tidbits about some of the birds that people love to hate along with some of the more common birds in our yard. Stan will challenge your preconceived ideas about some common birds such as the European Starling\, the American Crow and much\, much more. You will never look at these birds the same way ever again. He will also have his many books available for purchase and signing! \nThis program was made possible in part with a grant from the Arts & Cultural Heritage Fund of the Minnesota Clean Water\, Land\, and Legacy Amendment through the Traverse des Sioux Library System.
URL:https://www.watonwancountylibrary.com/event/uncommon-facts-about-common-birds-with-stan-tekiela/
LOCATION:Madelia Branch Library\, 23 First Street NW\, Madelia\, MN\, 56062\, United States
CATEGORIES:Madelia Library
ATTACH;FMTTYPE=image/png:https://www.watonwancountylibrary.com/wp-content/uploads/Copy-of-0426-WM-Uncommon-facts-about-birds-with-Stan-Tekiela-1.png
END:VEVENT
BEGIN:VEVENT
DTSTART;TZID=America/Chicago:20260406T163000
DTEND;TZID=America/Chicago:20260406T173000
DTSTAMP:20260423T133648
CREATED:20260327T185527Z
LAST-MODIFIED:20260327T185527Z
UID:4543-1775493000-1775496600@www.watonwancountylibrary.com
SUMMARY:Start Mushrooming with Stan Tekiela
DESCRIPTION:Stan is a Minnesota author\, photographer and naturalist. The fun and enjoyable way to learn how to forage for wild mushrooms and not kill yourself. Stan makes this serious topic fun and interesting. You too can safely get out and collect wild edible mushrooms without fear. Learn the safe seven mushrooms and how to safely collect\, cook and store. He will also have his many books available for purchase and signing! \nThis program was made possible in part with a grant from the Arts & Cultural Heritage Fund of the Minnesota Clean Water\, Land\, and Legacy Amendment through the Traverse des Sioux Library System. \n 
URL:https://www.watonwancountylibrary.com/event/start-mushrooming-with-stan-tekiela/
LOCATION:Lewisville Fire Hall
CATEGORIES:Lewisville Library
ATTACH;FMTTYPE=image/png:https://www.watonwancountylibrary.com/wp-content/uploads/Copy-of-0426-WL-Mushrooming-with-Stan-Tekiela.png
END:VEVENT
BEGIN:VEVENT
DTSTART;TZID=America/Chicago:20260407T100000
DTEND;TZID=America/Chicago:20260407T110000
DTSTAMP:20260423T133648
CREATED:20260327T185630Z
LAST-MODIFIED:20260327T185630Z
UID:4546-1775556000-1775559600@www.watonwancountylibrary.com
SUMMARY:Storytime/Play Cafe
DESCRIPTION:Caregivers are invited to bring the little ones to an interactive storytime followed by a special playtime.  Please join us!
URL:https://www.watonwancountylibrary.com/event/storytime-play-cafe-23/
LOCATION:St. James Library\, 125 Fifth Street S\, St. James\, MN\, 56081\, United States
CATEGORIES:St. James Library
ATTACH;FMTTYPE=image/png:https://www.watonwancountylibrary.com/wp-content/uploads/2025-WA-StorytimePlay-Cafe-event-cover.png
END:VEVENT
BEGIN:VEVENT
DTSTART;TZID=America/Chicago:20260407T153000
DTEND;TZID=America/Chicago:20260407T170000
DTSTAMP:20260423T133648
CREATED:20260327T190245Z
LAST-MODIFIED:20260327T190245Z
UID:4548-1775575800-1775581200@www.watonwancountylibrary.com
SUMMARY:Escape Room
DESCRIPTION:Work with a group to try to solve puzzles\, beat challenges and escape before time runs out! For kids in grades 3-6th.  Sign up is required: 507-642-3511.
URL:https://www.watonwancountylibrary.com/event/escape-room-2/
LOCATION:Madelia Branch Library\, 23 First Street NW\, Madelia\, MN\, 56062\, United States
CATEGORIES:Madelia Library
ATTACH;FMTTYPE=image/png:https://www.watonwancountylibrary.com/wp-content/uploads/Escape-Room-event-cover.png
END:VEVENT
BEGIN:VEVENT
DTSTART;TZID=America/Chicago:20260409T150000
DTEND;TZID=America/Chicago:20260409T170000
DTSTAMP:20260423T133648
CREATED:20260327T190554Z
LAST-MODIFIED:20260327T190554Z
UID:4550-1775746800-1775754000@www.watonwancountylibrary.com
SUMMARY:Adventure Club-St. James
DESCRIPTION:In collaboration with the MN Extension Office and Community Ed\, we will be holding Adventure Club at the high school in the home ec. room. Kids will get information from school and sign up using REVTRAK.
URL:https://www.watonwancountylibrary.com/event/adventure-club-st-james-14/
LOCATION:St. James Middle/High School
CATEGORIES:St. James Library
ATTACH;FMTTYPE=image/png:https://www.watonwancountylibrary.com/wp-content/uploads/adventure-club.png
END:VEVENT
BEGIN:VEVENT
DTSTART;TZID=America/Chicago:20260409T173000
DTEND;TZID=America/Chicago:20260409T183000
DTSTAMP:20260423T133648
CREATED:20260327T190729Z
LAST-MODIFIED:20260327T190729Z
UID:4552-1775755800-1775759400@www.watonwancountylibrary.com
SUMMARY:Good Life\, Good Death
DESCRIPTION:Join Julia Uleberg Swanson\, End of Life Doula\, as she starts the conversation we all need to be having with our loved ones. Those with aging parents are highly encouraged to join us!
URL:https://www.watonwancountylibrary.com/event/good-life-good-death-3/
LOCATION:St. James Library\, 125 Fifth Street S\, St. James\, MN\, 56081\, United States
CATEGORIES:St. James Library
ATTACH;FMTTYPE=image/png:https://www.watonwancountylibrary.com/wp-content/uploads/WA-0925-1025-1125-1225-Good-Life-Good-Death-event-cover.png
END:VEVENT
BEGIN:VEVENT
DTSTART;TZID=America/Chicago:20260410T143000
DTEND;TZID=America/Chicago:20260410T153000
DTSTAMP:20260423T133648
CREATED:20260327T191046Z
LAST-MODIFIED:20260327T191046Z
UID:4554-1775831400-1775835000@www.watonwancountylibrary.com
SUMMARY:Tiny Town for Tiny Tots
DESCRIPTION:Bring your tiny tots to the library and help them create little cars and play in a tiny town you create.  This program is geared towards toddlers. 
URL:https://www.watonwancountylibrary.com/event/tiny-town-for-tiny-tots/
LOCATION:Butterfield Branch Library\, 111 N. Second Street\, Butterfield\, MN\, 56120\, United States
CATEGORIES:Butterfield Library
ATTACH;FMTTYPE=image/png:https://www.watonwancountylibrary.com/wp-content/uploads/Tiny-Town-event-cover-1.png
END:VEVENT
BEGIN:VEVENT
DTSTART;TZID=America/Chicago:20260410T180000
DTEND;TZID=America/Chicago:20260410T200000
DTSTAMP:20260423T133648
CREATED:20260327T191840Z
LAST-MODIFIED:20260401T205631Z
UID:4557-1775844000-1775851200@www.watonwancountylibrary.com
SUMMARY:POSTPONED!!"Waffles & Watch" Movie Party for Teens
DESCRIPTION:**POSTPONED!!! \nTeens in grades 7-12 are invited to the library after hours to eat waffles and watch the Live Action “Lilo and Stitch” movie with friends!
URL:https://www.watonwancountylibrary.com/event/waffles-watch-movie-party-for-teens/
LOCATION:St. James Library\, 125 Fifth Street S\, St. James\, MN\, 56081\, United States
CATEGORIES:St. James Library
ATTACH;FMTTYPE=image/png:https://www.watonwancountylibrary.com/wp-content/uploads/Copy-of-0426-WA-Waffles-and-movie-party.png
END:VEVENT
BEGIN:VEVENT
DTSTART;TZID=America/Chicago:20260413T170000
DTEND;TZID=America/Chicago:20260413T180000
DTSTAMP:20260423T133648
CREATED:20260106T205946Z
LAST-MODIFIED:20260226T221011Z
UID:4327-1776099600-1776103200@www.watonwancountylibrary.com
SUMMARY:Yoga
DESCRIPTION:Registered Yoga Teacher: Roxanne Romsdahl \nLearn basic hatha yoga poses and breathing patterns to develop a home yoga practice for all ages. The focus will be on poses\, stretches\, and breath work to strengthen the body\, improve flexibility and balance\, and reduce anxiety.
URL:https://www.watonwancountylibrary.com/event/yoga-22/
LOCATION:St. James Library\, 125 Fifth Street S\, St. James\, MN\, 56081\, United States
CATEGORIES:St. James Library
ATTACH;FMTTYPE=image/png:https://www.watonwancountylibrary.com/wp-content/uploads/yoga-event-cover-2.png
END:VEVENT
BEGIN:VEVENT
DTSTART;TZID=America/Chicago:20260417T100000
DTEND;TZID=America/Chicago:20260417T110000
DTSTAMP:20260423T133648
CREATED:20260106T211008Z
LAST-MODIFIED:20260106T211008Z
UID:4342-1776420000-1776423600@www.watonwancountylibrary.com
SUMMARY:Memory Writing with Marion
DESCRIPTION:Join Marion Edgar Style as she guides you in recording your thoughts and memories. Refreshments will be served and journals will be provided.
URL:https://www.watonwancountylibrary.com/event/memory-writing-with-marion-34/
LOCATION:St. James Library\, 125 Fifth Street S\, St. James\, MN\, 56081\, United States
CATEGORIES:St. James Library
ATTACH;FMTTYPE=image/png:https://www.watonwancountylibrary.com/wp-content/uploads/WA-Memory-Writing-with-Marion.png
END:VEVENT
BEGIN:VEVENT
DTSTART;TZID=America/Chicago:20260417T140000
DTEND;TZID=America/Chicago:20260417T160000
DTSTAMP:20260423T133648
CREATED:20260401T205744Z
LAST-MODIFIED:20260401T205744Z
UID:4564-1776434400-1776441600@www.watonwancountylibrary.com
SUMMARY:Friday Flicks
DESCRIPTION:Join us at the St. James Library for a showing of  “The Zookeeper’s Wife”. Fresh hot popcorn will be served.
URL:https://www.watonwancountylibrary.com/event/friday-flicks-34/
LOCATION:St. James Library\, 125 Fifth Street S\, St. James\, MN\, 56081\, United States
CATEGORIES:St. James Library
ATTACH;FMTTYPE=image/png:https://www.watonwancountylibrary.com/wp-content/uploads/WA-Friday-Flicks.png
END:VEVENT
BEGIN:VEVENT
DTSTART;TZID=America/Chicago:20260420T160000
DTEND;TZID=America/Chicago:20260420T170000
DTSTAMP:20260423T133648
CREATED:20260401T210102Z
LAST-MODIFIED:20260401T210102Z
UID:4566-1776700800-1776704400@www.watonwancountylibrary.com
SUMMARY:Wooden Bead Bumble Bee DIY for Adults
DESCRIPTION:Adults can come and craft a unique piece of artwork using wooden beads and wire!  Spots are limited.  Call to sign up: 507-435-2781 or 507-375-1278.
URL:https://www.watonwancountylibrary.com/event/wooden-bead-bumble-bee-diy-for-adults/
LOCATION:Lewisville Branch Library\, 129 Lewis Street W\, Lewisville\, MN\, 56060\, United States
CATEGORIES:Lewisville Library
ATTACH;FMTTYPE=image/png:https://www.watonwancountylibrary.com/wp-content/uploads/0426-WL-Wood-Bead-Bumbe-Bee-event-cover.png
END:VEVENT
BEGIN:VEVENT
DTSTART;TZID=America/Chicago:20260421T173000
DTEND;TZID=America/Chicago:20260421T183000
DTSTAMP:20260423T133648
CREATED:20260401T210147Z
LAST-MODIFIED:20260401T210147Z
UID:4569-1776792600-1776796200@www.watonwancountylibrary.com
SUMMARY:Library Board Meeting
DESCRIPTION:The library board meets monthly and is open to the public.
URL:https://www.watonwancountylibrary.com/event/library-board-meeting-14/
LOCATION:St. James Library\, 125 Fifth Street S\, St. James\, MN\, 56081\, United States
CATEGORIES:St. James Library
ATTACH;FMTTYPE=image/png:https://www.watonwancountylibrary.com/wp-content/uploads/library-board-meeting-event-cover.png
END:VEVENT
BEGIN:VEVENT
DTSTART;TZID=America/Chicago:20260423T150000
DTEND;TZID=America/Chicago:20260423T170000
DTSTAMP:20260423T133648
CREATED:20260401T210332Z
LAST-MODIFIED:20260401T210332Z
UID:4571-1776956400-1776963600@www.watonwancountylibrary.com
SUMMARY:Adventure Club-Madelia
DESCRIPTION:In collaboration with the MN Extension Office and Community Ed\, we will be holding Adventure Club at the elementary school. Kids will get information from school about how to sign up.
URL:https://www.watonwancountylibrary.com/event/adventure-club-madelia-15/
LOCATION:Madelia Elementary School
CATEGORIES:Madelia Library
ATTACH;FMTTYPE=image/png:https://www.watonwancountylibrary.com/wp-content/uploads/adventure-club.png
END:VEVENT
BEGIN:VEVENT
DTSTART;TZID=America/Chicago:20260423T173000
DTEND;TZID=America/Chicago:20260423T183000
DTSTAMP:20260423T133648
CREATED:20260401T211607Z
LAST-MODIFIED:20260401T211607Z
UID:4573-1776965400-1776969000@www.watonwancountylibrary.com
SUMMARY:"Photographing Dragonflies for Fun and Profit"...well\, mostly fun!
DESCRIPTION:The St. James Library will be hosting John\, from the MN Dragonfly Society\, to share photos\, information and education about these fascinating creatures!  Please join us!
URL:https://www.watonwancountylibrary.com/event/photographing-dragonflies-for-fun-and-profit-well-mostly-fun/
LOCATION:St. James Library\, 125 Fifth Street S\, St. James\, MN\, 56081\, United States
CATEGORIES:St. James Library
ATTACH;FMTTYPE=image/png:https://www.watonwancountylibrary.com/wp-content/uploads/0426-WA-MN-Dragonfly-Society-event-cover-1.png
END:VEVENT
BEGIN:VEVENT
DTSTART;TZID=America/Chicago:20260424T160000
DTEND;TZID=America/Chicago:20260424T173000
DTSTAMP:20260423T133648
CREATED:20260401T212104Z
LAST-MODIFIED:20260401T212104Z
UID:4576-1777046400-1777051800@www.watonwancountylibrary.com
SUMMARY:Family Movie
DESCRIPTION:Families are invited to the library for a FREE movie and popcorn!  We will be showing “Cloudy with a Chance of Meatballs” in honor of Earth Week!  Feel free to bring your own water bottle.
URL:https://www.watonwancountylibrary.com/event/family-movie-2/
LOCATION:St. James Library\, 125 Fifth Street S\, St. James\, MN\, 56081\, United States
CATEGORIES:St. James Library
ATTACH;FMTTYPE=image/png:https://www.watonwancountylibrary.com/wp-content/uploads/0426-WA-Family-Movie-Fun-event-cover.png
END:VEVENT
BEGIN:VEVENT
DTSTART;TZID=America/Chicago:20260425T103000
DTEND;TZID=America/Chicago:20260425T113000
DTSTAMP:20260423T133648
CREATED:20260401T212345Z
LAST-MODIFIED:20260401T212345Z
UID:4579-1777113000-1777116600@www.watonwancountylibrary.com
SUMMARY:MN Author Drew Ross
DESCRIPTION:MN author\, Drew Ross\, will join us to share about his book “Becoming the Twin Cities”. Published by the Minnesota Historical Society Press\, the book explores the 19th-century history of self-dealing\, social clashes\, and utopian ideals that shaped the separate cities\, despite early expectations for a single metropolis. Books will be available for purchase and to have signed by the author!
URL:https://www.watonwancountylibrary.com/event/mn-author-drew-ross/
LOCATION:St. James Library\, 125 Fifth Street S\, St. James\, MN\, 56081\, United States
CATEGORIES:St. James Library
ATTACH;FMTTYPE=image/png:https://www.watonwancountylibrary.com/wp-content/uploads/0426-WA-Author-Drew-Ross-event-cover.png
END:VEVENT
BEGIN:VEVENT
DTSTART;TZID=America/Chicago:20260427T160000
DTEND;TZID=America/Chicago:20260427T170000
DTSTAMP:20260423T133648
CREATED:20260401T212434Z
LAST-MODIFIED:20260401T212434Z
UID:4582-1777305600-1777309200@www.watonwancountylibrary.com
SUMMARY:Wishing for Spring Crafts for Kids
DESCRIPTION:Kids can come and do spring crafts at the library!
URL:https://www.watonwancountylibrary.com/event/wishing-for-spring-crafts-for-kids/
LOCATION:Butterfield Branch Library\, 111 N. Second Street\, Butterfield\, MN\, 56120\, United States
CATEGORIES:Butterfield Library
ATTACH;FMTTYPE=image/png:https://www.watonwancountylibrary.com/wp-content/uploads/Wishing-for-Spring-Crafts-event-cover.png
END:VEVENT
BEGIN:VEVENT
DTSTART;TZID=America/Chicago:20260427T170000
DTEND;TZID=America/Chicago:20260427T180000
DTSTAMP:20260423T133648
CREATED:20260422T214947Z
LAST-MODIFIED:20260422T214947Z
UID:4651-1777309200-1777312800@www.watonwancountylibrary.com
SUMMARY:Yoga
DESCRIPTION:Registered Yoga Teacher: Roxanne Romsdahl \nLearn basic hatha yoga poses and breathing patterns to develop a home yoga practice for all ages. The focus will be on poses\, stretches\, and breath work to strengthen the body\, improve flexibility and balance\, and reduce anxiety.
URL:https://www.watonwancountylibrary.com/event/yoga-24/
LOCATION:St. James Library\, 125 Fifth Street S\, St. James\, MN\, 56081\, United States
CATEGORIES:St. James Library
ATTACH;FMTTYPE=image/png:https://www.watonwancountylibrary.com/wp-content/uploads/yoga-event-cover-2.png
END:VEVENT
BEGIN:VEVENT
DTSTART;TZID=America/Chicago:20260428T173000
DTEND;TZID=America/Chicago:20260428T183000
DTSTAMP:20260423T133648
CREATED:20260401T212532Z
LAST-MODIFIED:20260401T212532Z
UID:4584-1777397400-1777401000@www.watonwancountylibrary.com
SUMMARY:Evening Storytime
DESCRIPTION:Kids and their caregivers are invited to the library for storytime!
URL:https://www.watonwancountylibrary.com/event/evening-storytime-29/
LOCATION:Madelia Branch Library\, 23 First Street NW\, Madelia\, MN\, 56062\, United States
CATEGORIES:Madelia Library
ATTACH;FMTTYPE=image/png:https://www.watonwancountylibrary.com/wp-content/uploads/evening-storytime.png
END:VEVENT
BEGIN:VEVENT
DTSTART;TZID=America/Chicago:20260429T153000
DTEND;TZID=America/Chicago:20260429T170000
DTSTAMP:20260423T133648
CREATED:20260401T212611Z
LAST-MODIFIED:20260401T212611Z
UID:4586-1777476600-1777482000@www.watonwancountylibrary.com
SUMMARY:Lego Club-Lewisville
DESCRIPTION:Calling all brick builders!  Kids are invited to join us for Lego Club at the library!  Bring your creativity and we’ll supply the Legos.
URL:https://www.watonwancountylibrary.com/event/lego-club-lewisville-7/
LOCATION:Lewisville Branch Library\, 129 Lewis Street W\, Lewisville\, MN\, 56060\, United States
CATEGORIES:Lewisville Library
ATTACH;FMTTYPE=image/png:https://www.watonwancountylibrary.com/wp-content/uploads/Lego-Club-3.png
END:VEVENT
BEGIN:VEVENT
DTSTART;TZID=America/Chicago:20260430T170000
DTEND;TZID=America/Chicago:20260430T190000
DTSTAMP:20260423T133648
CREATED:20260401T212658Z
LAST-MODIFIED:20260401T212658Z
UID:4588-1777568400-1777575600@www.watonwancountylibrary.com
SUMMARY:Knitting Club
DESCRIPTION:All levels of experience are welcome. Whether you want to learn or have a project to finish\, Tessa is here to help! 
URL:https://www.watonwancountylibrary.com/event/knitting-club-18/
LOCATION:St. James Library\, 125 Fifth Street S\, St. James\, MN\, 56081\, United States
CATEGORIES:St. James Library
ATTACH;FMTTYPE=image/png:https://www.watonwancountylibrary.com/wp-content/uploads/knitting-club-event-cover-2.png
END:VEVENT
BEGIN:VEVENT
DTSTART;TZID=America/Chicago:20260502T120000
DTEND;TZID=America/Chicago:20260502T140000
DTSTAMP:20260423T133648
CREATED:20260421T165150Z
LAST-MODIFIED:20260421T165150Z
UID:4590-1777723200-1777730400@www.watonwancountylibrary.com
SUMMARY:Coffee & Conversation
DESCRIPTION:Come enjoy a cup of coffee and some conversation each Saturday.
URL:https://www.watonwancountylibrary.com/event/coffee-conversation-7/
LOCATION:Darfur Branch Library\, 200 Adrian Street\, Darfur\, MN\, 56022\, United States
CATEGORIES:Darfur Library
ATTACH;FMTTYPE=image/png:https://www.watonwancountylibrary.com/wp-content/uploads/coffee-and-conversation-event-cover.png
END:VEVENT
BEGIN:VEVENT
DTSTART;TZID=America/Chicago:20260504T140000
DTEND;TZID=America/Chicago:20260504T160000
DTSTAMP:20260423T133648
CREATED:20260421T165401Z
LAST-MODIFIED:20260421T165401Z
UID:4600-1777903200-1777910400@www.watonwancountylibrary.com
SUMMARY:Movie Matinee
DESCRIPTION:We will be showing the movie “The Way We Were”.  Popcorn will be served!
URL:https://www.watonwancountylibrary.com/event/movie-matinee-6/
LOCATION:Madelia Branch Library\, 23 First Street NW\, Madelia\, MN\, 56062\, United States
CATEGORIES:Madelia Library
ATTACH;FMTTYPE=image/png:https://www.watonwancountylibrary.com/wp-content/uploads/Movie-Matinee-Event-Cover-2.png
END:VEVENT
BEGIN:VEVENT
DTSTART;TZID=America/Chicago:20260504T150000
DTEND;TZID=America/Chicago:20260504T160000
DTSTAMP:20260423T133648
CREATED:20260421T165535Z
LAST-MODIFIED:20260421T165535Z
UID:4602-1777906800-1777910400@www.watonwancountylibrary.com
SUMMARY:DIY Felt Bookmarks
DESCRIPTION:Create an adorable felt tea cup bookmark!  All supplies are provided; spots are limited.  To sign up\, call 507-956-2361.
URL:https://www.watonwancountylibrary.com/event/diy-felt-bookmarks/
LOCATION:Butterfield Branch Library\, 111 N. Second Street\, Butterfield\, MN\, 56120\, United States
CATEGORIES:Butterfield Library
ATTACH;FMTTYPE=image/png:https://www.watonwancountylibrary.com/wp-content/uploads/Copy-of-0526-WB-Felt-Bookmark.png
END:VEVENT
BEGIN:VEVENT
DTSTART;TZID=America/Chicago:20260504T160000
DTEND;TZID=America/Chicago:20260504T170000
DTSTAMP:20260423T133648
CREATED:20260421T165720Z
LAST-MODIFIED:20260421T165720Z
UID:4605-1777910400-1777914000@www.watonwancountylibrary.com
SUMMARY:So\, You Want to Be a Dragon Tamer?!
DESCRIPTION:Have you thought about owning a bearded dragon? Not sure where to start or how to care for one? Melissa & Little Foot\, from the St. James Library\, will be here to give you all the information on caring for one!
URL:https://www.watonwancountylibrary.com/event/so-you-want-to-be-a-dragon-tamer/
LOCATION:Lewisville Branch Library\, 129 Lewis Street W\, Lewisville\, MN\, 56060\, United States
CATEGORIES:Lewisville Library
ATTACH;FMTTYPE=image/png:https://www.watonwancountylibrary.com/wp-content/uploads/Copy-of-0526-WB-So-you-want-to-be-a-dragon-tamer.png
END:VEVENT
BEGIN:VEVENT
DTSTART;TZID=America/Chicago:20260505T100000
DTEND;TZID=America/Chicago:20260505T110000
DTSTAMP:20260423T133648
CREATED:20260421T170238Z
LAST-MODIFIED:20260421T170238Z
UID:4608-1777975200-1777978800@www.watonwancountylibrary.com
SUMMARY:Storytime/Play Cafe
DESCRIPTION:Caregivers are invited to bring the little ones to an interactive storytime followed by a special playtime.  Please join us!
URL:https://www.watonwancountylibrary.com/event/storytime-play-cafe-24/
LOCATION:St. James Library\, 125 Fifth Street S\, St. James\, MN\, 56081\, United States
CATEGORIES:St. James Library
ATTACH;FMTTYPE=image/png:https://www.watonwancountylibrary.com/wp-content/uploads/2025-WA-StorytimePlay-Cafe-event-cover.png
END:VEVENT
BEGIN:VEVENT
DTSTART;TZID=America/Chicago:20260505T173000
DTEND;TZID=America/Chicago:20260505T183000
DTSTAMP:20260423T133648
CREATED:20260421T170346Z
LAST-MODIFIED:20260421T170346Z
UID:4610-1778002200-1778005800@www.watonwancountylibrary.com
SUMMARY:So You Want to Be a Dragon Tamer?!
DESCRIPTION:Have you thought about owning a bearded dragon? Not sure where to start or how to care for one? Melissa & Little Foot\, from the St. James Library\, will be here to give you all the information on caring for one!
URL:https://www.watonwancountylibrary.com/event/so-you-want-to-be-a-dragon-tamer-2/
LOCATION:Madelia Branch Library\, 23 First Street NW\, Madelia\, MN\, 56062\, United States
CATEGORIES:Madelia Library
ATTACH;FMTTYPE=image/png:https://www.watonwancountylibrary.com/wp-content/uploads/Copy-of-0526-WB-So-you-want-to-be-a-dragon-tamer.png
END:VEVENT
BEGIN:VEVENT
DTSTART;TZID=America/Chicago:20260507T153000
DTEND;TZID=America/Chicago:20260507T170000
DTSTAMP:20260423T133648
CREATED:20260421T170559Z
LAST-MODIFIED:20260421T170559Z
UID:4612-1778167800-1778173200@www.watonwancountylibrary.com
SUMMARY:Lego Club
DESCRIPTION:Calling all brick builders!  Kids are invited to join us for Lego Club at the library!  Bring your creativity and we’ll supply the Legos.
URL:https://www.watonwancountylibrary.com/event/lego-club-13/
LOCATION:St. James Library\, 125 Fifth Street S\, St. James\, MN\, 56081\, United States
CATEGORIES:St. James Library
ATTACH;FMTTYPE=image/png:https://www.watonwancountylibrary.com/wp-content/uploads/Lego-Club-3.png
END:VEVENT
END:VCALENDAR