BEGIN:VCALENDAR
VERSION:2.0
PRODID:-//Watonwan County Library - ECPv6.15.20//NONSGML v1.0//EN
CALSCALE:GREGORIAN
METHOD:PUBLISH
X-WR-CALNAME:Watonwan County Library
X-ORIGINAL-URL:https://www.watonwancountylibrary.com
X-WR-CALDESC:Events for Watonwan County Library
REFRESH-INTERVAL;VALUE=DURATION:PT1H
X-Robots-Tag:noindex
X-PUBLISHED-TTL:PT1H
BEGIN:VTIMEZONE
TZID:America/Chicago
BEGIN:DAYLIGHT
TZOFFSETFROM:-0600
TZOFFSETTO:-0500
TZNAME:CDT
DTSTART:20250309T080000
END:DAYLIGHT
BEGIN:STANDARD
TZOFFSETFROM:-0500
TZOFFSETTO:-0600
TZNAME:CST
DTSTART:20251102T070000
END:STANDARD
BEGIN:DAYLIGHT
TZOFFSETFROM:-0600
TZOFFSETTO:-0500
TZNAME:CDT
DTSTART:20260308T080000
END:DAYLIGHT
BEGIN:STANDARD
TZOFFSETFROM:-0500
TZOFFSETTO:-0600
TZNAME:CST
DTSTART:20261101T070000
END:STANDARD
BEGIN:DAYLIGHT
TZOFFSETFROM:-0600
TZOFFSETTO:-0500
TZNAME:CDT
DTSTART:20270314T080000
END:DAYLIGHT
BEGIN:STANDARD
TZOFFSETFROM:-0500
TZOFFSETTO:-0600
TZNAME:CST
DTSTART:20271107T070000
END:STANDARD
END:VTIMEZONE
BEGIN:VEVENT
DTSTART;TZID=America/Chicago:20260105T100000
DTEND;TZID=America/Chicago:20260228T140000
DTSTAMP:20260423T161450
CREATED:20251222T174557Z
LAST-MODIFIED:20251222T174557Z
UID:4294-1767607200-1772287200@www.watonwancountylibrary.com
SUMMARY:Winter Reading Program
DESCRIPTION:All ages\, Kindergarten through age 100+\, reading program.  Just stop into your hometown library\, pick up a reading log\, and return it when it is full! Check at your library to see what prizes there are!
URL:https://www.watonwancountylibrary.com/event/winter-reading-program-4/
LOCATION:MN
CATEGORIES:Butterfield Library,Darfur Library,Lewisville Library,Madelia Library,St. James Library
ATTACH;FMTTYPE=image/png:https://www.watonwancountylibrary.com/wp-content/uploads/2026-Winter-Reading-event-cover.png
END:VEVENT
BEGIN:VEVENT
DTSTART;TZID=America/Chicago:20260227T153000
DTEND;TZID=America/Chicago:20260227T163000
DTSTAMP:20260423T161450
CREATED:20260211T170520Z
LAST-MODIFIED:20260211T170520Z
UID:4440-1772206200-1772209800@www.watonwancountylibrary.com
SUMMARY:Pokémon Party-Butterfield
DESCRIPTION:Come “catch all” the fun with Pokémon themed crafts and activities. Open to kids in grades K and up.
URL:https://www.watonwancountylibrary.com/event/pokemon-party-butterfield/
LOCATION:Butterfield Branch Library\, 111 N. Second Street\, Butterfield\, MN\, 56120\, United States
CATEGORIES:Butterfield Library
ATTACH;FMTTYPE=image/png:https://www.watonwancountylibrary.com/wp-content/uploads/Pokemon-Party-All-Branches-event-cover.png
END:VEVENT
BEGIN:VEVENT
DTSTART;TZID=America/Chicago:20260227T153000
DTEND;TZID=America/Chicago:20260227T163000
DTSTAMP:20260423T161450
CREATED:20260211T171417Z
LAST-MODIFIED:20260211T171417Z
UID:4442-1772206200-1772209800@www.watonwancountylibrary.com
SUMMARY:Pokémon Party-Madelia
DESCRIPTION:Come “catch all” the fun with Pokémon themed crafts and activities. Open to kids in grades K and up.
URL:https://www.watonwancountylibrary.com/event/pokemon-party-madelia/
LOCATION:Madelia Branch Library\, 23 First Street NW\, Madelia\, MN\, 56062\, United States
CATEGORIES:Madelia Library
ATTACH;FMTTYPE=image/png:https://www.watonwancountylibrary.com/wp-content/uploads/Pokemon-Party-All-Branches-event-cover.png
END:VEVENT
BEGIN:VEVENT
DTSTART;TZID=America/Chicago:20260227T153000
DTEND;TZID=America/Chicago:20260227T163000
DTSTAMP:20260423T161450
CREATED:20260211T171449Z
LAST-MODIFIED:20260211T171449Z
UID:4444-1772206200-1772209800@www.watonwancountylibrary.com
SUMMARY:Pokémon Party-Lewisville
DESCRIPTION:Come “catch all” the fun with Pokémon themed crafts and activities. Open to kids in grades K and up.
URL:https://www.watonwancountylibrary.com/event/pokemon-party-lewisville/
LOCATION:Lewisville Branch Library\, 129 Lewis Street W\, Lewisville\, MN\, 56060\, United States
CATEGORIES:Lewisville Library
ATTACH;FMTTYPE=image/png:https://www.watonwancountylibrary.com/wp-content/uploads/Pokemon-Party-All-Branches-event-cover.png
END:VEVENT
BEGIN:VEVENT
DTSTART;TZID=America/Chicago:20260227T153000
DTEND;TZID=America/Chicago:20260227T170000
DTSTAMP:20260423T161450
CREATED:20260211T170421Z
LAST-MODIFIED:20260211T170421Z
UID:4438-1772206200-1772211600@www.watonwancountylibrary.com
SUMMARY:Pokémon Party-St. James
DESCRIPTION:Come “catch all” the fun with Pokémon themed crafts and activities. Open to kids in grades K and up. 
URL:https://www.watonwancountylibrary.com/event/pokemon-party-st-james/
LOCATION:St. James Library\, 125 Fifth Street S\, St. James\, MN\, 56081\, United States
CATEGORIES:St. James Library
ATTACH;FMTTYPE=image/png:https://www.watonwancountylibrary.com/wp-content/uploads/Pokemon-Party-All-Branches-event-cover.png
END:VEVENT
END:VCALENDAR